Felt | Verdi |
AlreadyApplied | True |
Artist | Geir Eftevand |
AutoLateralCA | 0 |
BitsPerSample | 8 |
Blacks2012 | 0 |
BlueHue | 0 |
BlueSaturation | 0 |
Brightness | 0 |
By-line | Geir Eftevand |
CameraProfile | Embedded |
Clarity | 0 |
Clarity2012 | 0 |
ColorComponents | 3 |
ColorNoiseReduction | 0 |
ColorSpace | Uncalibrated |
ColorTransform | YCbCr |
Contrast | 0 |
Contrast2012 | 0 |
ConvertToGrayscale | False |
Copyright | © Geir Eftevand |
CopyrightFlag | True |
CopyrightNotice | © Geir Eftevand |
CreateDate | 2014:06:30 19:50:06+02:00 |
Creator | Geir Eftevand |
CreatorAddress | Kroodden 17 |
CreatorCity | Kristiansand |
CreatorCountry | NORWAY |
CreatorPostalCode | 4624 |
CreatorTool | Adobe Photoshop Elements 7.0 Windows |
CreatorWorkEmail | post@geireftevand.no |
CreatorWorkTelephone | +4797586360 |
CropAngle | -0.409249 |
CropBottom | 0.990101 |
CropConstrainToWarp | 0 |
CropHeight | 2718 |
CropLeft | 0.040494 |
CropRight | 0.978886 |
CropTop | 0.505146 |
CropUnit | pixels |
CropWidth | 3446 |
Defringe | 0 |
ExifImageHeight | 994 |
ExifImageWidth | 1260 |
Exposure | 0.00 |
Exposure2012 | 0.00 |
FillLight | 0 |
Format | image/jpeg |
GrainAmount | 0 |
GreenHue | 0 |
GreenSaturation | 0 |
HasCrop | True |
HasExtendedXMP | 5F3DD1B403EABCF583C0DA7453AA82CE |
HasSettings | True |
HighlightRecovery | 0 |
Highlights2012 | -29 |
HueAdjustmentAqua | 0 |
HueAdjustmentBlue | 0 |
HueAdjustmentGreen | 0 |
HueAdjustmentMagenta | 0 |
HueAdjustmentOrange | 0 |
HueAdjustmentPurple | 0 |
HueAdjustmentRed | 0 |
HueAdjustmentYellow | 0 |
ImageHeight | 994 |
ImageSize | 1260x994 |
ImageWidth | 1260 |
IncrementalTemperature | 0 |
IncrementalTint | 0 |
Label | Red |
LensManualDistortionAmount | 0 |
LensProfileEnable | 0 |
LensProfileSetup | LensDefaults |
LuminanceAdjustmentAqua | 0 |
LuminanceAdjustmentBlue | 0 |
LuminanceAdjustmentGreen | 0 |
LuminanceAdjustmentMagenta | 0 |
LuminanceAdjustmentOrange | 0 |
LuminanceAdjustmentPurple | 0 |
LuminanceAdjustmentRed | 0 |
LuminanceAdjustmentYellow | 0 |
LuminanceNoiseReductionContrast | 0 |
LuminanceNoiseReductionDetail | 50 |
LuminanceSmoothing | 30 |
Make | Nikon |
Marked | True |
Megapixels | 1.3 |
Model | Nikon COOLSCAN V ED |
ModifyDate (1) | 2014:06:30 19:54:28+02:00 |
ModifyDate | 2014:06:30 19:54:28 |
Orientation | Horizontal (normal) |
PaintCorrectionActive | true |
PaintCorrectionAmount | 1.000000 |
PaintCorrectionBrightness | 0.000000 |
PaintCorrectionClarity2012 | 1.000000 |
PaintCorrectionContrast2012 | 0.000000 |
PaintCorrectionExposure2012 | 0.000000 |
PaintCorrectionHighlights2012 | 0.000000 |
PaintCorrectionHue | 0.000000 |
PaintCorrectionLuminanceNoise | 0.000000 |
PaintCorrectionMaskCenterWeight | 0.139631 |
PaintCorrectionMaskFlow | 0.529000 |
PaintCorrectionMaskRadius (13) | 0.002729 |
PaintCorrectionMaskRadius (2) | 0.004403 |
PaintCorrectionMaskRadius (26) | 0.001116 |
PaintCorrectionMaskRadius (30) | 0.007031 |
PaintCorrectionMaskRadius (37) | 0.003558 |
PaintCorrectionMaskRadius (5) | 0.001915 |
PaintCorrectionMaskRadius | 0.005264 |
PaintCorrectionMaskValue | 0.536000 |
PaintCorrectionMaskWhat | Mask/Paint |
PaintCorrectionMoire | 0.000000 |
PaintCorrectionSaturation | 0.000000 |
PaintCorrectionShadows2012 | 0.000000 |
PaintCorrectionSharpness | 1.000000 |
PaintCorrectionTemperature | 0.000000 |
PaintCorrectionTint | 0.000000 |
PaintCorrectionWhat | Correction |
ParametricDarks | 0 |
ParametricHighlights | 0 |
ParametricHighlightSplit | 75 |
ParametricLights | 0 |
ParametricMidtoneSplit | 50 |
ParametricShadows | 0 |
ParametricShadowSplit | 25 |
PerspectiveHorizontal | 0 |
PerspectiveRotate | 0.0 |
PerspectiveScale | 100 |
PerspectiveVertical | 0 |
PostCropVignetteAmount | 0 |
ProcessVersion | 6.7 |
ProfileDescription | Adobe RGB (1998) |
Rating | 1 |
RawFileName | 20100424F16507 (RES1260x994).jpg |
RedHue | 0 |
RedSaturation | 0 |
Rights | © Geir Eftevand |
Saturation | 0 |
SaturationAdjustmentAqua | 0 |
SaturationAdjustmentBlue | 0 |
SaturationAdjustmentGreen | 0 |
SaturationAdjustmentMagenta | 0 |
SaturationAdjustmentOrange | 0 |
SaturationAdjustmentPurple | 0 |
SaturationAdjustmentRed | 0 |
SaturationAdjustmentYellow | 0 |
Shadows | 0 |
Shadows2012 | 0 |
ShadowTint | 0 |
SharpenDetail | 0 |
SharpenEdgeMasking | 0 |
SharpenRadius | +0.7 |
Sharpness | 102 |
Software | Adobe Photoshop Elements 7.0 Windows |
SplitToningBalance | 0 |
SplitToningHighlightHue | 0 |
SplitToningHighlightSaturation | 0 |
SplitToningShadowHue | 0 |
SplitToningShadowSaturation | 0 |
ToneCurve | 0, 0, 255, 255 |
ToneCurveBlue | 0, 0, 255, 255 |
ToneCurveGreen | 0, 0, 255, 255 |
ToneCurveName | Linear |
ToneCurveName2012 | Linear |
ToneCurvePV2012 | 0, 0, 255, 255 |
ToneCurvePV2012Blue | 0, 0, 255, 255 |
ToneCurvePV2012Green | 0, 0, 255, 255 |
ToneCurvePV2012Red | 0, 0, 255, 255 |
ToneCurveRed | 0, 0, 255, 255 |
URL_List | |
Version | 7.0 |
Vibrance | +30 |
VignetteAmount | 0 |
WhiteBalance | As Shot |
Whites2012 | 0 |