Felt | Verdi |
AlreadyApplied | True |
Aperture | 11.0 |
ApertureValue | 11.0 |
ApproximateFocusDistance | 4294967295 |
Artist | Fotograf : Svein Hansen |
AutoLateralCA | 1 |
AutoWhiteVersion | 134348800 |
BitsPerSample | 8 |
Blacks2012 | +15 |
BlueHue | 0 |
BlueSaturation | 0 |
By-line | Fotograf : Svein Hansen |
CameraProfile | Adobe Standard |
CircleOfConfusion | 0.025 mm |
City | Fredrikstad |
Clarity2012 | 0 |
ColorComponents | 3 |
ColorNoiseReduction | 25 |
ColorNoiseReductionDetail | 50 |
ColorNoiseReductionSmoothness | 50 |
ColorSpace | sRGB |
ColorTemperature | 7250 |
ColorTransform | YCbCr |
Contrast2012 | 0 |
ConvertToGrayscale | False |
Copyright | Svein Hansen |
CopyrightFlag | True |
CopyrightNotice | Svein Hansen |
Country | Norge |
Country-PrimaryLocationName | Norge |
CreateDate (1) | 2014:09:29 19:43:56.23 |
CreateDate | 2014:09:29 19:43:56 |
Creator | Fotograf : Svein Hansen |
CreatorAddress | Svingen 5 |
CreatorCity | Kråkerøy |
CreatorCountry | Norge |
CreatorPostalCode | 1671 |
CreatorRegion | Østold |
CreatorTool | Adobe Photoshop Lightroom 5.6 (Windows) |
CreatorWorkEmail | svein@stabildata.no |
CreatorWorkTelephone | 0047907+64526 |
CropAngle | 0 |
CropBottom | 0.847204 |
CropConstrainToWarp | 1 |
CropLeft | 0.076364 |
CropRight | 0.923568 |
CropTop | 0 |
CustomRendered | Normal |
DateCreated (1) | 2014:09:29 |
DateCreated | 2014:09:29 19:43:56.23 |
DateTimeOriginal | 2014:09:29 19:43:56 |
DefringeGreenAmount | 0 |
DefringeGreenHueHi | 60 |
DefringeGreenHueLo | 40 |
DefringePurpleAmount | 0 |
DefringePurpleHueHi | 70 |
DefringePurpleHueLo | 30 |
DOF | inf (0.91 m - inf) |
Exposure2012 | 0.00 |
ExposureCompensation | 0 |
ExposureMode | Manual |
ExposureProgram | Manual |
ExposureTime | 30 |
Firmware | 1.2.1 |
Flash | No Flash |
FlashCompensation | 0 |
FNumber | 11.0 |
FocalLength | 16.0 mm |
FocalLength35efl | 16.0 mm (35 mm equivalent: 18.9 mm) |
Format | image/jpeg |
FOV | 87.2 deg |
GPSAltitude (1) | 10.3 m |
GPSAltitude | 10.3 m Above Sea Level |
GPSAltitudeRef | Above Sea Level |
GPSDateStamp | 2014:09:29 |
GPSDateTime | 2014:09:29 17:46:13Z |
GPSDestBearing | 0 |
GPSDestDistance | 0 |
GPSDifferential | No Correction |
GPSDOP | 1.7 |
GPSImgDirection | 65 |
GPSImgDirectionRef | Magnetic North |
GPSLatitude (1) | 59 deg 12' 9.68" |
GPSLatitude | 59 deg 12' 9.68" N |
GPSLatitudeRef | North |
GPSLongitude (1) | 10 deg 57' 27.42" |
GPSLongitude | 10 deg 57' 27.42" E |
GPSLongitudeRef | East |
GPSMapDatum | WGS-84 |
GPSMeasureMode | 3-Dimensional Measurement |
GPSPosition | 59 deg 12' 9.68" N, 10 deg 57' 27.42" E |
GPSSatellites | 12 |
GPSSpeed | 0 |
GPSStatus | Measurement Active |
GPSTimeStamp | 17:46:13 |
GPSTrack | 0 |
GPSVersionID | 2.3.0.0 |
GrainAmount | 0 |
GreenHue | 0 |
GreenSaturation | 0 |
HasCrop | True |
HasExtendedXMP | 078884FE8C80B37C2E98B2E4B14AC323 |
HasSettings | True |
HierarchicalSubject | Gamebyen |
Highlights2012 | -59 |
HueAdjustmentAqua | +1 |
HueAdjustmentBlue | 0 |
HueAdjustmentGreen | +5 |
HueAdjustmentMagenta | 0 |
HueAdjustmentOrange | +10 |
HueAdjustmentPurple | 0 |
HueAdjustmentRed | +3 |
HueAdjustmentYellow | +14 |
HyperfocalDistance | 0.91 m |
ImageHeight | 3253 |
ImageNumber | 0 |
ImageSize | 4880x3253 |
ImageWidth | 4880 |
ISO | 320 |
Keywords | Gamebyen |
Label | © Foto: Svein Hansen |
Lens | EF16-35mm f/2.8L II USM |
LensID (1) | 246 |
LensID | Canon EF 16-35mm f/2.8L II USM |
LensInfo | 16-35mm f/? |
LensManualDistortionAmount | 0 |
LensModel | EF16-35mm f/2.8L II USM |
LensProfileChromaticAberrationScale | 100 |
LensProfileDistortionScale | 100 |
LensProfileEnable | 1 |
LensProfileFilename | Canon EOS 5D Mark II (Canon EF 16-35mm f2.8 L II USM) - RAW.lcp |
LensProfileName | Adobe (Canon EF 16-35mm f/2.8 L II USM) |
LensProfileSetup | LensDefaults |
LensProfileVignettingScale | 100 |
LensSerialNumber | 000086209c |
LightValue | 0.3 |
LuminanceAdjustmentAqua | 0 |
LuminanceAdjustmentBlue | 0 |
LuminanceAdjustmentGreen | 0 |
LuminanceAdjustmentMagenta | 0 |
LuminanceAdjustmentOrange | -1 |
LuminanceAdjustmentPurple | 0 |
LuminanceAdjustmentRed | 0 |
LuminanceAdjustmentYellow | -3 |
LuminanceSmoothing | 0 |
Make | Canon |
Marked | True |
MaxApertureValue | 2.8 |
Megapixels | 15.9 |
MeteringMode | Multi-segment |
Model | Canon EOS 5D Mark III |
ModifyDate (1) | 2014:09:30 19:45:46+02:00 |
ModifyDate | 2014:09:30 19:45:46 |
PaintCorrectionActive | true |
PaintCorrectionAmount | 1.000000 |
PaintCorrectionBrightness | 0.000000 |
PaintCorrectionClarity2012 (1) | 0.189190 |
PaintCorrectionClarity2012 | 0.045050 |
PaintCorrectionContrast2012 | 0.000000 |
PaintCorrectionDefringe | 0.000000 |
PaintCorrectionExposure2012 (2) | 0.000000 |
PaintCorrectionExposure2012 | -0.063000 |
PaintCorrectionHighlights2012 | 0.000000 |
PaintCorrectionHue | 240.000000 |
PaintCorrectionLuminanceNoise | 0.000000 |
PaintCorrectionMaskCenterWeight | 0.043623 |
PaintCorrectionMaskFlow | 1.000000 |
PaintCorrectionMaskRadius (1) | 0.083594 |
PaintCorrectionMaskRadius (2) | 0.084849 |
PaintCorrectionMaskRadius | 0.084649 |
PaintCorrectionMaskValue | 0.885000 |
PaintCorrectionMaskWhat | Mask/Paint |
PaintCorrectionMoire | 0.000000 |
PaintCorrectionSaturation (5) | 0.045050 |
PaintCorrectionSaturation | 0.000000 |
PaintCorrectionShadows2012 | 0.000000 |
PaintCorrectionSharpness (2) | 0.765770 |
PaintCorrectionSharpness | 0.063060 |
PaintCorrectionTemperature | -0.261260 |
PaintCorrectionTint | 0.000000 |
PaintCorrectionWhat | Correction |
ParametricDarks | 0 |
ParametricHighlights | 0 |
ParametricHighlightSplit | 75 |
ParametricLights | 0 |
ParametricMidtoneSplit | 50 |
ParametricShadows | 0 |
ParametricShadowSplit | 25 |
PerspectiveAspect | 0 |
PerspectiveHorizontal | 0 |
PerspectiveRotate | 0.0 |
PerspectiveScale | 100 |
PerspectiveUpright | 3 |
PerspectiveVertical | 0 |
PostCropVignetteAmount | 0 |
ProcessVersion | 6.7 |
ProfileDescription | sRGB IEC61966-2.1 |
Province-State | Østfold |
RecommendedExposureIndex | 320 |
RedHue | 0 |
RedSaturation | 0 |
Rights | Svein Hansen |
Saturation | 0 |
SaturationAdjustmentAqua | 0 |
SaturationAdjustmentBlue | -8 |
SaturationAdjustmentGreen | +34 |
SaturationAdjustmentMagenta | -5 |
SaturationAdjustmentOrange | +10 |
SaturationAdjustmentPurple | -3 |
SaturationAdjustmentRed | 0 |
SaturationAdjustmentYellow | -8 |
ScaleFactor35efl | 1.2 |
SceneCaptureType | Standard |
SensitivityType | Recommended Exposure Index |
SerialNumber | 093024002999 |
Shadows2012 | +7 |
ShadowTint | 0 |
SharpenDetail | 25 |
SharpenEdgeMasking | 0 |
SharpenRadius | +1.0 |
Sharpness | 25 |
ShutterSpeed | 30 |
ShutterSpeedValue | 30 |
Software | Adobe Photoshop Lightroom 5.6 (Windows) |
SplitToningBalance | 0 |
SplitToningHighlightHue | 0 |
SplitToningHighlightSaturation | 0 |
SplitToningShadowHue | 0 |
SplitToningShadowSaturation | 0 |
State | Østfold |
Subject | Gamebyen |
Tint | -4 |
ToneCurve | 0, 0, 255, 255 |
ToneCurveBlue | 0, 0, 255, 255 |
ToneCurveGreen | 0, 0, 255, 255 |
ToneCurveName | Linear |
ToneCurveName2012 | Linear |
ToneCurvePV2012 | 0, 0, 255, 255 |
ToneCurvePV2012Blue | 0, 0, 255, 255 |
ToneCurvePV2012Green | 0, 0, 255, 255 |
ToneCurvePV2012Red | 0, 0, 255, 255 |
ToneCurveRed | 0, 0, 255, 255 |
UsageTerms | Det er ikke lov å kopiere eller bruke bilde uten tillatelse av fotografen! |
Version | 8.6 |
Vibrance | +38 |
VignetteAmount | 0 |
WhiteBalance (1) | As Shot |
WhiteBalance | Auto |
Whites2012 | -15 |