Felt | Verdi |
AlreadyApplied | True |
Aperture | 13.0 |
ApertureValue | 13.0 |
ApproximateFocusDistance | 20.8 |
Artist | Bente Nordhagen |
AutoLateralCA | 1 |
AutoWhiteVersion | 134348800 |
BitsPerSample | 8 |
Blacks2012 | -19 |
BlueHue | 0 |
BlueSaturation | 0 |
By-line | Bente Nordhagen |
CameraProfile | Adobe Standard |
CaptionWriter | Bente Nordhagen |
CircGradBasedCorrActive | true |
CircGradBasedCorrAmount | 1.000000 |
CircGradBasedCorrBrightness | 0.000000 |
CircGradBasedCorrClarity2012 (1) | 0.000000 |
CircGradBasedCorrClarity2012 | 0.287360 |
CircGradBasedCorrContrast2012 (2) | 0.000000 |
CircGradBasedCorrContrast2012 | 0.195400 |
CircGradBasedCorrDefringe | 0.000000 |
CircGradBasedCorrExposure2012 (1) | -0.394250 |
CircGradBasedCorrExposure2012 (2) | 0.300000 |
CircGradBasedCorrExposure2012 | 0.544250 |
CircGradBasedCorrHighlights2012 (1) | -0.540230 |
CircGradBasedCorrHighlights2012 (2) | -0.402300 |
CircGradBasedCorrHighlights2012 | 0.517240 |
CircGradBasedCorrHue | 0.000000 |
CircGradBasedCorrLuminanceNoise | 0.000000 |
CircGradBasedCorrMaskAngle (1) | 37.926500 |
CircGradBasedCorrMaskAngle (2) | -41.107600 |
CircGradBasedCorrMaskAngle | 1.681800 |
CircGradBasedCorrMaskBottom (1) | 0.653460 |
CircGradBasedCorrMaskBottom (2) | 0.527123 |
CircGradBasedCorrMaskBottom | 0.775332 |
CircGradBasedCorrMaskFeather (1) | +76 |
CircGradBasedCorrMaskFeather (2) | +27 |
CircGradBasedCorrMaskFeather | +28 |
CircGradBasedCorrMaskFlipped (1) | false |
CircGradBasedCorrMaskFlipped | true |
CircGradBasedCorrMaskLeft (1) | 0.467685 |
CircGradBasedCorrMaskLeft (2) | 0.057391 |
CircGradBasedCorrMaskLeft | 0.385871 |
CircGradBasedCorrMaskMidpoint | +50 |
CircGradBasedCorrMaskRight (1) | 0.443202 |
CircGradBasedCorrMaskRight (2) | 0.425174 |
CircGradBasedCorrMaskRight | 0.634786 |
CircGradBasedCorrMaskRoundness | 0 |
CircGradBasedCorrMaskTop (1) | -0.067237 |
CircGradBasedCorrMaskTop (2) | 0.635181 |
CircGradBasedCorrMaskTop | 0.571451 |
CircGradBasedCorrMaskValue | 1.000000 |
CircGradBasedCorrMaskVersion | +2 |
CircGradBasedCorrMaskWhat | Mask/CircularGradient |
CircGradBasedCorrMoire | 0.000000 |
CircGradBasedCorrSaturation | 0.000000 |
CircGradBasedCorrShadows2012 (1) | 0.126440 |
CircGradBasedCorrShadows2012 (2) | 0.103450 |
CircGradBasedCorrShadows2012 | 0.440340 |
CircGradBasedCorrSharpness (1) | 0.000000 |
CircGradBasedCorrSharpness | 0.221380 |
CircGradBasedCorrTemperature | 0.000000 |
CircGradBasedCorrTint | 0.000000 |
CircGradBasedCorrWhat | Correction |
CircleOfConfusion | 0.019 mm |
Clarity2012 | +19 |
ColorComponents | 3 |
ColorNoiseReduction | 25 |
ColorNoiseReductionDetail | 50 |
ColorNoiseReductionSmoothness | 50 |
ColorSpace | sRGB |
ColorTemperature | 5200 |
ColorTransform | YCbCr |
Contrast2012 | +19 |
ConvertToGrayscale | False |
Copyright | Bente Nordhagen |
CopyrightFlag | True |
CopyrightNotice | Bente Nordhagen |
CreateDate (1) | 2015:09:19 10:25:50.14 |
CreateDate | 2015:09:19 10:25:50 |
Creator | Bente Nordhagen |
CreatorCity | Tromsø |
CreatorCountry | Norway |
CreatorPostalCode | 9024 |
CreatorRegion | Troms |
CreatorTool | Adobe Photoshop Lightroom 5.7 (Windows) |
CreatorWorkEmail | bente.nordhagen@gmail.com |
CreatorWorkTelephone | +4791335781 |
Credit | Bente Nordhagen |
CropAngle | 1.64598 |
CropBottom | 0.793817 |
CropConstrainToWarp | 0 |
CropLeft | 0.085574 |
CropRight | 0.662923 |
CropTop | 0.07319 |
CustomRendered | Normal |
DateCreated (1) | 2015:09:19 |
DateCreated | 2015:09:19 10:25:50.14 |
DateTimeOriginal | 2015:09:19 10:25:50 |
DefringeGreenAmount | 0 |
DefringeGreenHueHi | 60 |
DefringeGreenHueLo | 40 |
DefringePurpleAmount | 0 |
DefringePurpleHueHi | 70 |
DefringePurpleHueLo | 30 |
DOF | 58.75 m (12.19 - 70.93 m) |
Exposure2012 | 0.00 |
ExposureCompensation | 0 |
ExposureMode | Auto |
ExposureProgram | Aperture-priority AE |
ExposureTime | 1/640 |
Firmware | 1.0.0 |
Flash | Off, Did not fire |
FlashCompensation | 0 |
FNumber | 13.0 |
FocalLength | 85.0 mm |
FocalLength35efl | 85.0 mm (35 mm equivalent: 134.7 mm) |
Format | image/jpeg |
FOV | 15.2 deg |
GrainAmount | 0 |
GreenHue | 0 |
GreenSaturation | 0 |
HasCrop | True |
HasSettings | True |
Highlights2012 | +19 |
HueAdjustmentAqua | 0 |
HueAdjustmentBlue | 0 |
HueAdjustmentGreen | 0 |
HueAdjustmentMagenta | 0 |
HueAdjustmentOrange | 0 |
HueAdjustmentPurple | 0 |
HueAdjustmentRed | 0 |
HueAdjustmentYellow | 0 |
HyperfocalDistance | 29.31 m |
ImageHeight | 706 |
ImageNumber | 0 |
ImageSize | 900x706 |
ImageWidth | 900 |
ISO | 400 |
Keywords | Alicante, Emanuel på stranda, hav, kone |
Lens | 18-270mm |
LensID (1) | 217 |
LensID | Tamron AF 18-270mm f/3.5-6.3 Di II VC PZD |
LensInfo | 18-270mm f/? |
LensManualDistortionAmount | 0 |
LensModel | 18-270mm |
LensProfileChromaticAberrationScale | 100 |
LensProfileDistortionScale | 100 |
LensProfileEnable | 1 |
LensProfileFilename | Canon EOS 50D (Canon EF-S 10-22mm f3.5-4.5 USM).lcp |
LensProfileName | Adobe (Canon EF-S 10-22mm f/3.5-4.5 USM) |
LensProfileSetup | Custom |
LensProfileVignettingScale | 100 |
LensSerialNumber | 0000000000 |
LightValue | 14.7 |
LuminanceAdjustmentAqua | 0 |
LuminanceAdjustmentBlue | 0 |
LuminanceAdjustmentGreen | 0 |
LuminanceAdjustmentMagenta | 0 |
LuminanceAdjustmentOrange | 0 |
LuminanceAdjustmentPurple | 0 |
LuminanceAdjustmentRed | 0 |
LuminanceAdjustmentYellow | 0 |
LuminanceSmoothing | 0 |
Make | Canon |
Marked | True |
MaxApertureValue | 5.7 |
Megapixels | 0.635 |
MeteringMode | Multi-segment |
Model | Canon EOS 100D |
ModifyDate (1) | 2015:11:02 23:56:59+01:00 |
ModifyDate | 2015:11:02 23:56:59 |
PaintCorrectionActive | true |
PaintCorrectionAmount | 1.000000 |
PaintCorrectionBrightness | 0.000000 |
PaintCorrectionClarity2012 | 0.000000 |
PaintCorrectionContrast2012 | 0.000000 |
PaintCorrectionDefringe | 0.000000 |
PaintCorrectionExposure2012 (1) | -0.625000 |
PaintCorrectionExposure2012 (2) | -0.550000 |
PaintCorrectionExposure2012 | -0.200000 |
PaintCorrectionHighlights2012 | 0.000000 |
PaintCorrectionHue | 0.000000 |
PaintCorrectionLuminanceNoise | 0.000000 |
PaintCorrectionMaskCenterWeight (7) | 0.000000 |
PaintCorrectionMaskCenterWeight | 0.062337 |
PaintCorrectionMaskFlow | 1.000000 |
PaintCorrectionMaskRadius (1) | 0.012000 |
PaintCorrectionMaskRadius (12) | 0.001312 |
PaintCorrectionMaskRadius (13) | 0.003225 |
PaintCorrectionMaskRadius (14) | 0.017610 |
PaintCorrectionMaskRadius (3) | 0.004700 |
PaintCorrectionMaskRadius (5) | 0.005457 |
PaintCorrectionMaskRadius (6) | 0.003798 |
PaintCorrectionMaskRadius | 0.038288 |
PaintCorrectionMaskValue (8) | 0.000000 |
PaintCorrectionMaskValue | 0.562000 |
PaintCorrectionMaskWhat | Mask/Paint |
PaintCorrectionMoire | 0.000000 |
PaintCorrectionSaturation | 0.000000 |
PaintCorrectionShadows2012 | 0.103450 |
PaintCorrectionSharpness | 0.000000 |
PaintCorrectionTemperature | 0.000000 |
PaintCorrectionTint | 0.000000 |
PaintCorrectionWhat | Correction |
ParametricDarks | -23 |
ParametricHighlights | 0 |
ParametricHighlightSplit | 75 |
ParametricLights | +18 |
ParametricMidtoneSplit | 50 |
ParametricShadows | 0 |
ParametricShadowSplit | 25 |
PerspectiveAspect | 0 |
PerspectiveHorizontal | 0 |
PerspectiveRotate | 0.0 |
PerspectiveScale | 100 |
PerspectiveUpright | 0 |
PerspectiveVertical | 0 |
PostCropVignetteAmount | 0 |
ProcessVersion | 6.7 |
ProfileDescription | sRGB IEC61966-2.1 |
RecommendedExposureIndex | 400 |
RedHue | 0 |
RedSaturation | 0 |
Rights | Bente Nordhagen |
Saturation | 0 |
SaturationAdjustmentAqua | 0 |
SaturationAdjustmentBlue | 0 |
SaturationAdjustmentGreen | 0 |
SaturationAdjustmentMagenta | 0 |
SaturationAdjustmentOrange | 0 |
SaturationAdjustmentPurple | 0 |
SaturationAdjustmentRed | 0 |
SaturationAdjustmentYellow | 0 |
ScaleFactor35efl | 1.6 |
SceneCaptureType | Standard |
SensitivityType | Recommended Exposure Index |
SerialNumber | 033071072157 |
Shadows2012 | +14 |
ShadowTint | 0 |
SharpenDetail | 25 |
SharpenEdgeMasking | 0 |
SharpenRadius | +1.0 |
Sharpness | 25 |
ShutterSpeed | 1/640 |
ShutterSpeedValue | 1/640 |
Software | Adobe Photoshop Lightroom 5.7 (Windows) |
SplitToningBalance | 0 |
SplitToningHighlightHue | 0 |
SplitToningHighlightSaturation | 0 |
SplitToningShadowHue | 0 |
SplitToningShadowSaturation | 0 |
Subject | Alicante, Emanuel på stranda, hav, kone |
Tint | +5 |
ToneCurve | 0, 0, 255, 255 |
ToneCurveBlue | 0, 0, 255, 255 |
ToneCurveGreen | 0, 0, 255, 255 |
ToneCurveName | Linear |
ToneCurveName2012 | Linear |
ToneCurvePV2012 | 0, 0, 255, 255 |
ToneCurvePV2012Blue | 0, 0, 255, 255 |
ToneCurvePV2012Green | 0, 0, 255, 255 |
ToneCurvePV2012Red | 0, 0, 255, 255 |
ToneCurveRed | 0, 0, 255, 255 |
UsageTerms | All rights reserved |
Version | 8.7 |
Vibrance | 0 |
VignetteAmount | 0 |
WhiteBalance (1) | As Shot |
WhiteBalance | Manual |
Whites2012 | -52 |
Writer-Editor | Bente Nordhagen |