Felt | Verdi |
AlreadyApplied | True |
Aperture | 11.0 |
ApertureValue | 11.0 |
AutoLateralCA | 0 |
AutoWhiteVersion | 134348800 |
BitsPerSample | 8 |
Blacks2012 | 0 |
BlueHue | 0 |
BlueSaturation | 0 |
BrightnessValue | 6.83359375 |
CameraProfile | Adobe Standard |
CircleOfConfusion | 0.030 mm |
Clarity2012 | +19 |
ColorComponents | 3 |
ColorNoiseReduction | 25 |
ColorNoiseReductionDetail | 50 |
ColorNoiseReductionSmoothness | 50 |
ColorSpace | sRGB |
ColorTemperature | 4500 |
ColorTransform | YCbCr |
Contrast | Normal |
Contrast2012 | +30 |
ConvertToGrayscale | False |
CreateDate | 2016:07:04 22:58:06 |
CreatorTool | Adobe Photoshop Lightroom 6.6 (Macintosh) |
CropAngle | 0.700667 |
CropBottom | 1 |
CropConstrainToWarp | 0 |
CropLeft | 0.071694 |
CropRight | 0.993612 |
CropTop | 0.200116 |
CustomRendered | Normal |
DateCreated (1) | 2016:07:04 |
DateCreated | 2016:07:04 22:58:06 |
DateTimeOriginal | 2016:07:04 22:58:06 |
DefringeGreenAmount | 0 |
DefringeGreenHueHi | 60 |
DefringeGreenHueLo | 40 |
DefringePurpleAmount | 0 |
DefringePurpleHueHi | 70 |
DefringePurpleHueLo | 30 |
Dehaze | 0 |
DigitalZoomRatio | 1 |
Exposure2012 | 0.00 |
ExposureCompensation | -0.7 |
ExposureMode | Auto |
ExposureProgram | Aperture-priority AE |
ExposureTime | 1/60 |
Flash | Off, Did not fire |
FNumber | 11.0 |
FocalLength | 25.0 mm |
FocalLength35efl | 25.0 mm (35 mm equivalent: 25.0 mm) |
FocalLengthIn35mmFormat | 25 mm |
Format | image/jpeg |
FOV | 71.5 deg |
GradientBasedCorrActive | true |
GradientBasedCorrAmount | 1.000000 |
GradientBasedCorrBrightness | 0.000000 |
GradientBasedCorrClarity2012 (1) | 0.312691 |
GradientBasedCorrClarity2012 | 0.000000 |
GradientBasedCorrContrast2012 (1) | 0.138910 |
GradientBasedCorrContrast2012 | 0.000000 |
GradientBasedCorrDefringe | 0.000000 |
GradientBasedCorrExposure2012 (1) | -0.172732 |
GradientBasedCorrExposure2012 (2) | -0.090130 |
GradientBasedCorrExposure2012 | -0.075267 |
GradientBasedCorrHighlights2012 (1) | -0.609089 |
GradientBasedCorrHighlights2012 (2) | 0.000000 |
GradientBasedCorrHighlights2012 | -0.185595 |
GradientBasedCorrHue | 0.000000 |
GradientBasedCorrLocalBlacks2012 | 0.000000 |
GradientBasedCorrLocalDehaze | 0.000000 |
GradientBasedCorrLocalWhites2012 | 0.000000 |
GradientBasedCorrLuminanceNoise | 0.000000 |
GradientBasedCorrMaskFullX (1) | 0.502347 |
GradientBasedCorrMaskFullX (2) | 0.004465 |
GradientBasedCorrMaskFullX | 0.998304 |
GradientBasedCorrMaskFullY (1) | 0.205578 |
GradientBasedCorrMaskFullY (2) | 0.718148 |
GradientBasedCorrMaskFullY | 0.629347 |
GradientBasedCorrMaskValue | 1.000000 |
GradientBasedCorrMaskWhat | Mask/Gradient |
GradientBasedCorrMaskZeroX (1) | 0.482670 |
GradientBasedCorrMaskZeroX (2) | 0.233451 |
GradientBasedCorrMaskZeroX | 0.666863 |
GradientBasedCorrMaskZeroY (1) | 0.606513 |
GradientBasedCorrMaskZeroY (2) | 0.703157 |
GradientBasedCorrMaskZeroY | 0.515526 |
GradientBasedCorrMoire | 0.000000 |
GradientBasedCorrSaturation | 0.000000 |
GradientBasedCorrShadows2012 (2) | 0.000000 |
GradientBasedCorrShadows2012 | 0.127382 |
GradientBasedCorrSharpness | 0.000000 |
GradientBasedCorrTemperature (1) | -0.470274 |
GradientBasedCorrTemperature | 0.000000 |
GradientBasedCorrTint | 0.000000 |
GradientBasedCorrWhat | Correction |
GrainAmount | 0 |
GreenHue | 0 |
GreenSaturation | 0 |
HasCrop | True |
HasSettings | True |
Highlights2012 | -29 |
HueAdjustmentAqua | 0 |
HueAdjustmentBlue | 0 |
HueAdjustmentGreen | 0 |
HueAdjustmentMagenta | 0 |
HueAdjustmentOrange | 0 |
HueAdjustmentPurple | 0 |
HueAdjustmentRed | 0 |
HueAdjustmentYellow | 0 |
HyperfocalDistance | 1.89 m |
ImageHeight | 720 |
ImageSize | 1280x720 |
ImageWidth | 1280 |
ISO | 200 |
Keywords | Alnes, Solnedgang |
Lens | E 25mm F2 |
LensDistortInfo | 33161/32768 -55644865/1073741824 47839418/1073741824 -11910544/1073741824 |
LensInfo | 25mm f/2 |
LensManualDistortionAmount | 0 |
LensModel | E 25mm F2 |
LensProfileChromaticAberrationScale | 100 |
LensProfileDistortionScale | 100 |
LensProfileEnable | 1 |
LensProfileFilename | SONY (Zeiss Batis 2_25) - RAW.lcp |
LensProfileName | Adobe (Zeiss Batis 2/25) |
LensProfileSetup | LensDefaults |
LensProfileVignettingScale | 100 |
LightSource | Unknown |
LightValue | 11.8 |
LuminanceAdjustmentAqua | 0 |
LuminanceAdjustmentBlue | 0 |
LuminanceAdjustmentGreen | 0 |
LuminanceAdjustmentMagenta | 0 |
LuminanceAdjustmentOrange | 0 |
LuminanceAdjustmentPurple | 0 |
LuminanceAdjustmentRed | 0 |
LuminanceAdjustmentYellow | 0 |
LuminanceNoiseReductionContrast | 0 |
LuminanceNoiseReductionDetail | 50 |
LuminanceSmoothing | 27 |
Make | SONY |
MaxApertureValue | 2.0 |
Megapixels | 0.922 |
MeteringMode | Multi-segment |
Model | ILCE-7RM2 |
ModifyDate (1) | 2016:07:07 19:05:03+02:00 |
ModifyDate | 2016:07:07 19:05:03 |
PaintCorrectionActive | true |
PaintCorrectionAmount | 1.000000 |
PaintCorrectionBrightness | 0.000000 |
PaintCorrectionClarity2012 (2) | 0.175877 |
PaintCorrectionClarity2012 (3) | 0.091082 |
PaintCorrectionClarity2012 | 0.000000 |
PaintCorrectionContrast2012 (1) | 0.024390 |
PaintCorrectionContrast2012 (2) | 0.048780 |
PaintCorrectionContrast2012 (3) | 0.100705 |
PaintCorrectionContrast2012 | 0.000000 |
PaintCorrectionDefringe | 0.000000 |
PaintCorrectionExposure2012 (1) | -0.321932 |
PaintCorrectionExposure2012 (3) | -0.059261 |
PaintCorrectionExposure2012 (4) | 0.165396 |
PaintCorrectionExposure2012 (5) | 0.070979 |
PaintCorrectionExposure2012 (6) | 0.166349 |
PaintCorrectionExposure2012 | 0.000000 |
PaintCorrectionHighlights2012 (1) | -1.000000 |
PaintCorrectionHighlights2012 (2) | -0.762195 |
PaintCorrectionHighlights2012 (3) | -0.330316 |
PaintCorrectionHighlights2012 (4) | 0.000000 |
PaintCorrectionHighlights2012 (5) | -0.411014 |
PaintCorrectionHighlights2012 (6) | -0.073171 |
PaintCorrectionHighlights2012 | -0.293445 |
PaintCorrectionHue | 0.000000 |
PaintCorrectionLocalBlacks2012 | 0.000000 |
PaintCorrectionLocalDehaze | 0.000000 |
PaintCorrectionLocalWhites2012 (4) | 0.000000 |
PaintCorrectionLocalWhites2012 | -0.146341 |
PaintCorrectionLuminanceNoise | 0.000000 |
PaintCorrectionMaskCenterWeight | 0.169295 |
PaintCorrectionMaskFlow | 0.649513 |
PaintCorrectionMaskRadius (1) | 0.007219 |
PaintCorrectionMaskRadius (10) | 0.064954 |
PaintCorrectionMaskRadius (11) | 0.018811 |
PaintCorrectionMaskRadius (12) | 0.018619 |
PaintCorrectionMaskRadius (13) | 0.018669 |
PaintCorrectionMaskRadius (14) | 0.018621 |
PaintCorrectionMaskRadius (15) | 0.018479 |
PaintCorrectionMaskRadius (16) | 0.018547 |
PaintCorrectionMaskRadius (2) | 0.003414 |
PaintCorrectionMaskRadius (3) | 0.003412 |
PaintCorrectionMaskRadius (4) | 0.072837 |
PaintCorrectionMaskRadius (5) | 0.072821 |
PaintCorrectionMaskRadius (6) | 0.004994 |
PaintCorrectionMaskRadius (7) | 0.003424 |
PaintCorrectionMaskRadius (8) | 0.003423 |
PaintCorrectionMaskRadius (9) | 0.065508 |
PaintCorrectionMaskRadius | 0.018483 |
PaintCorrectionMaskValue | 1.000000 |
PaintCorrectionMaskWhat | Mask/Paint |
PaintCorrectionMoire | 0.000000 |
PaintCorrectionSaturation (1) | -0.333651 |
PaintCorrectionSaturation (3) | -0.674829 |
PaintCorrectionSaturation (9) | 0.271056 |
PaintCorrectionSaturation | 0.000000 |
PaintCorrectionShadows2012 (2) | 0.127382 |
PaintCorrectionShadows2012 | 0.000000 |
PaintCorrectionSharpness | 0.000000 |
PaintCorrectionTemperature | 0.000000 |
PaintCorrectionTint | 0.000000 |
PaintCorrectionWhat | Correction |
ParametricDarks | 0 |
ParametricHighlights | 0 |
ParametricHighlightSplit | 75 |
ParametricLights | +4 |
ParametricMidtoneSplit | 50 |
ParametricShadows | 0 |
ParametricShadowSplit | 25 |
PerspectiveAspect | 0 |
PerspectiveHorizontal | 0 |
PerspectiveRotate | 0.0 |
PerspectiveScale | 100 |
PerspectiveUpright | 0 |
PerspectiveVertical | 0 |
PerspectiveX | 0.00 |
PerspectiveY | 0.00 |
PostCropVignetteAmount | 0 |
ProcessVersion | 6.7 |
ProfileDescription | sRGB IEC61966-2.1 |
RecommendedExposureIndex | 200 |
RedHue | 0 |
RedSaturation | 0 |
Saturation (1) | +9 |
Saturation | Normal |
SaturationAdjustmentAqua | 0 |
SaturationAdjustmentBlue | 0 |
SaturationAdjustmentGreen | 0 |
SaturationAdjustmentMagenta | 0 |
SaturationAdjustmentOrange | 0 |
SaturationAdjustmentPurple | 0 |
SaturationAdjustmentRed | 0 |
SaturationAdjustmentYellow | 0 |
ScaleFactor35efl | 1.0 |
SceneCaptureType | Standard |
SceneType | Directly photographed |
SensitivityType | Recommended Exposure Index |
Shadows2012 | +100 |
ShadowTint | 0 |
SharpenDetail | 25 |
SharpenEdgeMasking | 0 |
SharpenRadius | +1.0 |
Sharpness (1) | 53 |
Sharpness | Normal |
ShutterSpeed | 1/60 |
ShutterSpeedValue | 1/60 |
Software | Adobe Photoshop Lightroom 6.6 (Macintosh) |
SplitToningBalance | 0 |
SplitToningHighlightHue | 0 |
SplitToningHighlightSaturation | 0 |
SplitToningShadowHue | 0 |
SplitToningShadowSaturation | 0 |
Subject | Alnes, Solnedgang |
Tint | +5 |
ToneCurve | 0, 0, 255, 255 |
ToneCurveBlue | 0, 0, 255, 255 |
ToneCurveGreen | 0, 0, 255, 255 |
ToneCurveName | Linear |
ToneCurveName2012 | Linear |
ToneCurvePV2012 | 0, 0, 255, 255 |
ToneCurvePV2012Blue | 0, 0, 255, 255 |
ToneCurvePV2012Green | 0, 0, 255, 255 |
ToneCurvePV2012Red | 0, 0, 255, 255 |
ToneCurveRed | 0, 0, 255, 255 |
ToneMapStrength | 0 |
Version | 9.6 |
Vibrance | +18 |
VignetteAmount | 0 |
WhiteBalance (1) | As Shot |
WhiteBalance | Auto |
Whites2012 | 0 |