Felt | Verdi |
AlreadyApplied | True |
Aperture | 7.1 |
ApertureValue | 7.1 |
ApproximateFocusDistance | 4294967295 |
AutoLateralCA | 0 |
AutoWhiteVersion | 134348800 |
BitsPerSample | 8 |
Blacks2012 | +8 |
BlueHue | 0 |
BlueSaturation | 0 |
CameraProfile | Embedded |
CFAPattern | [Red,Green][Green,Blue] |
CircleOfConfusion | 0.020 mm |
Clarity2012 | -27 |
ColorComponents | 3 |
ColorNoiseReduction | 0 |
ColorSpace | sRGB |
ColorTransform | YCbCr |
Contrast | Normal |
Contrast2012 | +68 |
ConvertToGrayscale | False |
CreateDate (1) | 2018:05:19 19:22:54.45 |
CreateDate | 2018:05:19 19:22:54 |
CreatorTool | Adobe Photoshop Lightroom 6.14 (Windows) |
CropAngle | 0 |
CropBottom | 0.959968 |
CropConstrainToWarp | 0 |
CropLeft | 0.037353 |
CropRight | 0.900747 |
CropTop | 0.222578 |
CustomRendered | Normal |
DateCreated (1) | 2018:05:19 |
DateCreated | 2018:05:19 19:22:54.45 |
DateTimeOriginal | 2018:05:19 19:22:54 |
DefringeGreenAmount | 0 |
DefringeGreenHueHi | 60 |
DefringeGreenHueLo | 40 |
DefringePurpleAmount | 0 |
DefringePurpleHueHi | 70 |
DefringePurpleHueLo | 30 |
Dehaze | 0 |
DOF | inf (439.46 m - inf) |
Exposure2012 | +0.04 |
ExposureCompensation | +1 |
ExposureMode | Auto |
ExposureProgram | Aperture-priority AE |
ExposureTime | 1/800 |
Flash | Off, Did not fire |
FNumber | 7.1 |
FocalLength | 250.0 mm |
FocalLength35efl | 250.0 mm (35 mm equivalent: 375.0 mm) |
FocalLengthIn35mmFormat | 375 mm |
Format | image/jpeg |
FOV | 5.5 deg |
GainControl | Low gain up |
GradientBasedCorrActive | true |
GradientBasedCorrAmount | 1.000000 |
GradientBasedCorrBrightness | 0.000000 |
GradientBasedCorrClarity2012 | 0.205130 |
GradientBasedCorrContrast2012 (1) | 0.282050 |
GradientBasedCorrContrast2012 | -0.068380 |
GradientBasedCorrDefringe | 0.000000 |
GradientBasedCorrExposure2012 (1) | -0.299250 |
GradientBasedCorrExposure2012 | 0.100000 |
GradientBasedCorrHighlights2012 | 0.666670 |
GradientBasedCorrHue | 0.000000 |
GradientBasedCorrLocalBlacks2012 | 0.000000 |
GradientBasedCorrLocalDehaze | 0.000000 |
GradientBasedCorrLocalWhites2012 | 0.000000 |
GradientBasedCorrLuminanceNoise (1) | 0.000000 |
GradientBasedCorrLuminanceNoise | 0.128210 |
GradientBasedCorrMaskFullX (1) | 0.424460 |
GradientBasedCorrMaskFullX | 0.612061 |
GradientBasedCorrMaskFullY (1) | 1.004630 |
GradientBasedCorrMaskFullY | 0.081832 |
GradientBasedCorrMaskValue | 1.000000 |
GradientBasedCorrMaskWhat | Mask/Gradient |
GradientBasedCorrMaskZeroX (1) | 0.423947 |
GradientBasedCorrMaskZeroX | 0.573972 |
GradientBasedCorrMaskZeroY (1) | 0.703161 |
GradientBasedCorrMaskZeroY | 0.549793 |
GradientBasedCorrMoire | 0.000000 |
GradientBasedCorrSaturation (1) | 0.333330 |
GradientBasedCorrSaturation | 0.000000 |
GradientBasedCorrShadows2012 | 1.000000 |
GradientBasedCorrSharpness | 0.000000 |
GradientBasedCorrTemperature (1) | 0.222220 |
GradientBasedCorrTemperature | 0.410260 |
GradientBasedCorrTint | 0.000000 |
GradientBasedCorrWhat | Correction |
GrainAmount | 0 |
GreenHue | 0 |
GreenSaturation | 0 |
HasCrop | True |
HasSettings | True |
Highlights2012 | -83 |
HueAdjustmentAqua | 0 |
HueAdjustmentBlue | 0 |
HueAdjustmentGreen | 0 |
HueAdjustmentMagenta | 0 |
HueAdjustmentOrange | 0 |
HueAdjustmentPurple | 0 |
HueAdjustmentRed | 0 |
HueAdjustmentYellow | 0 |
HyperfocalDistance | 439.46 m |
ImageHeight | 797 |
ImageNumber | 6150 |
ImageSize | 1400x797 |
ImageWidth | 1400 |
IncrementalTemperature | +5 |
IncrementalTint | 0 |
ISO | 1000 |
Lens | 80.0-400.0 mm f/4.5-5.6 |
LensID (1) | 183 |
LensID | AF-S Nikkor 80-400mm f/4.5-5.6G ED VR |
LensInfo | 80-400mm f/4.5-5.6 |
LensManualDistortionAmount | 0 |
LensModel | 80.0-400.0 mm f/4.5-5.6 |
LensProfileEnable | 0 |
LensProfileSetup | LensDefaults |
LightSource | Unknown |
LightValue | 12.0 |
LuminanceAdjustmentAqua | 0 |
LuminanceAdjustmentBlue | 0 |
LuminanceAdjustmentGreen | 0 |
LuminanceAdjustmentMagenta | 0 |
LuminanceAdjustmentOrange | 0 |
LuminanceAdjustmentPurple | 0 |
LuminanceAdjustmentRed | 0 |
LuminanceAdjustmentYellow | 0 |
LuminanceNoiseReductionContrast | 0 |
LuminanceNoiseReductionDetail | 40 |
LuminanceSmoothing | 12 |
Make | NIKON CORPORATION |
MaxApertureValue | 7.2 |
Megapixels | 1.1 |
MeteringMode | Multi-segment |
Model | NIKON D7500 |
ModifyDate (1) | 2018:05:20 21:13:36+02:00 |
ModifyDate | 2018:05:20 21:13:36 |
PaintCorrectionActive | true |
PaintCorrectionAmount | 1.000000 |
PaintCorrectionBrightness | 0.000000 |
PaintCorrectionClarity2012 (1) | 0.572650 |
PaintCorrectionClarity2012 | 0.205130 |
PaintCorrectionContrast2012 (1) | -0.769230 |
PaintCorrectionContrast2012 (2) | 0.735040 |
PaintCorrectionContrast2012 (3) | -0.529910 |
PaintCorrectionContrast2012 (4) | -0.068380 |
PaintCorrectionContrast2012 | -0.589740 |
PaintCorrectionDefringe (2) | -0.051280 |
PaintCorrectionDefringe | 0.000000 |
PaintCorrectionExposure2012 (1) | -0.094000 |
PaintCorrectionExposure2012 (2) | -0.204500 |
PaintCorrectionExposure2012 (4) | 0.025000 |
PaintCorrectionExposure2012 | 0.374250 |
PaintCorrectionHighlights2012 (1) | 1.000000 |
PaintCorrectionHighlights2012 (3) | 0.316240 |
PaintCorrectionHighlights2012 | 0.666670 |
PaintCorrectionHue | 0.000000 |
PaintCorrectionLocalBlacks2012 | 0.000000 |
PaintCorrectionLocalDehaze | 0.000000 |
PaintCorrectionLocalWhites2012 | 0.000000 |
PaintCorrectionLuminanceNoise (1) | 0.119660 |
PaintCorrectionLuminanceNoise (2) | 0.196580 |
PaintCorrectionLuminanceNoise | 0.000000 |
PaintCorrectionMaskCenterWeight | 0.452183 |
PaintCorrectionMaskFlow | 0.856000 |
PaintCorrectionMaskRadius (1) | 0.027255 |
PaintCorrectionMaskRadius (2) | 0.014867 |
PaintCorrectionMaskRadius (3) | 0.020952 |
PaintCorrectionMaskRadius (4) | 0.007682 |
PaintCorrectionMaskRadius (5) | 0.002148 |
PaintCorrectionMaskRadius (7) | 0.004161 |
PaintCorrectionMaskRadius (9) | 0.006250 |
PaintCorrectionMaskRadius | 0.008415 |
PaintCorrectionMaskValue | 1.000000 |
PaintCorrectionMaskWhat | Mask/Paint |
PaintCorrectionMoire (2) | 1.000000 |
PaintCorrectionMoire | 0.000000 |
PaintCorrectionSaturation (3) | 0.102560 |
PaintCorrectionSaturation (5) | -0.102560 |
PaintCorrectionSaturation (9) | 0.333330 |
PaintCorrectionSaturation | 0.000000 |
PaintCorrectionShadows2012 (1) | -0.957260 |
PaintCorrectionShadows2012 | 1.000000 |
PaintCorrectionSharpness (1) | 0.427350 |
PaintCorrectionSharpness (2) | 0.649570 |
PaintCorrectionSharpness | 0.000000 |
PaintCorrectionTemperature (1) | 0.180940 |
PaintCorrectionTemperature (2) | 0.025640 |
PaintCorrectionTemperature (3) | -0.170940 |
PaintCorrectionTemperature (4) | -0.076920 |
PaintCorrectionTemperature | 0.034190 |
PaintCorrectionTint | 0.000000 |
PaintCorrectionWhat | Correction |
ParametricDarks | 0 |
ParametricHighlights | +7 |
ParametricHighlightSplit | 75 |
ParametricLights | -2 |
ParametricMidtoneSplit | 50 |
ParametricShadows | 0 |
ParametricShadowSplit | 25 |
PerspectiveAspect | 0 |
PerspectiveHorizontal | 0 |
PerspectiveRotate | 0.0 |
PerspectiveScale | 100 |
PerspectiveUpright | 0 |
PerspectiveVertical | 0 |
PerspectiveX | 0.00 |
PerspectiveY | 0.00 |
PostCropVignetteAmount | 0 |
ProcessVersion | 6.7 |
ProfileDescription | sRGB IEC61966-2.1 |
RecommendedExposureIndex | 1000 |
RedHue | 0 |
RedSaturation | 0 |
Saturation (1) | +5 |
Saturation | Normal |
SaturationAdjustmentAqua | -20 |
SaturationAdjustmentBlue | -48 |
SaturationAdjustmentGreen | -31 |
SaturationAdjustmentMagenta | -100 |
SaturationAdjustmentOrange | -40 |
SaturationAdjustmentPurple | -78 |
SaturationAdjustmentRed | -61 |
SaturationAdjustmentYellow | +17 |
ScaleFactor35efl | 1.5 |
SceneCaptureType | Standard |
SceneType | Directly photographed |
SensingMethod | One-chip color area |
SensitivityType | Recommended Exposure Index |
SerialNumber | 6018285 |
Shadows2012 | +100 |
ShadowTint | 0 |
SharpenDetail | 25 |
SharpenEdgeMasking | 100 |
SharpenRadius | +1.0 |
Sharpness (1) | 3 |
Sharpness | Normal |
ShutterSpeed | 1/800 |
ShutterSpeedValue | 1/800 |
Software | Adobe Photoshop Lightroom 6.14 (Windows) |
SplitToningBalance | 0 |
SplitToningHighlightHue | 0 |
SplitToningHighlightSaturation | 0 |
SplitToningShadowHue | 0 |
SplitToningShadowSaturation | 0 |
SubjectDistanceRange | Unknown |
ToneCurve | 0, 0, 255, 255 |
ToneCurveBlue | 0, 0, 255, 255 |
ToneCurveGreen | 0, 0, 255, 255 |
ToneCurveName | Linear |
ToneCurveName2012 | Linear |
ToneCurvePV2012 | 0, 0, 255, 255 |
ToneCurvePV2012Blue | 0, 0, 255, 255 |
ToneCurvePV2012Green | 0, 0, 255, 255 |
ToneCurvePV2012Red | 0, 0, 255, 255 |
ToneCurveRed | 0, 0, 255, 255 |
ToneMapStrength | 0 |
Version | 10.1 |
Vibrance | -6 |
VignetteAmount | 0 |
WhiteBalance (1) | Custom |
WhiteBalance | Manual |
Whites2012 | +20 |