Felt | Verdi |
AlreadyApplied | True |
Aperture | 6.3 |
ApertureValue | 6.3 |
ApproximateFocusDistance | 14.1 |
Artist | CATO HANSEN |
AutoLateralCA | 1 |
BitsPerSample | 8 |
Blacks2012 | 0 |
BlueHue | -6 |
BlueSaturation | +26 |
By-line | CATO HANSEN |
CameraProfile | Adobe Standard |
CFAPattern | [Red,Green][Green,Blue] |
CircGradBasedCorrActive | true |
CircGradBasedCorrAmount | 1.000000 |
CircGradBasedCorrBrightness | 0.000000 |
CircGradBasedCorrClarity2012 | 0.097220 |
CircGradBasedCorrContrast2012 | 0.000000 |
CircGradBasedCorrCorrectionRangeMaskColorAmount | 0.500000 |
CircGradBasedCorrCorrectionRangeMaskDepthFeather | 0.500000 |
CircGradBasedCorrCorrectionRangeMaskDepthMax | 1.000000 |
CircGradBasedCorrCorrectionRangeMaskDepthMin | 0.000000 |
CircGradBasedCorrCorrectionRangeMaskLumFeather | 0.500000 |
CircGradBasedCorrCorrectionRangeMaskLumMax | 1.000000 |
CircGradBasedCorrCorrectionRangeMaskLumMin | 0.000000 |
CircGradBasedCorrCorrectionRangeMaskType | 0 |
CircGradBasedCorrCorrectionRangeMaskVersion | +2 |
CircGradBasedCorrDefringe | 0.000000 |
CircGradBasedCorrExposure2012 | 0.000000 |
CircGradBasedCorrHighlights2012 | 0.000000 |
CircGradBasedCorrHue | 240.000000 |
CircGradBasedCorrLocalBlacks2012 | 0.111110 |
CircGradBasedCorrLocalDehaze | 0.166670 |
CircGradBasedCorrLocalHue | 0.000000 |
CircGradBasedCorrLocalTexture | 0.194440 |
CircGradBasedCorrLocalWhites2012 | 0.166670 |
CircGradBasedCorrLuminanceNoise | 0.000000 |
CircGradBasedCorrMaskAngle | 0.569215 |
CircGradBasedCorrMaskBottom | 1.282930 |
CircGradBasedCorrMaskFeather | +100 |
CircGradBasedCorrMaskFlipped | true |
CircGradBasedCorrMaskLeft | 0.107884 |
CircGradBasedCorrMaskMidpoint | +50 |
CircGradBasedCorrMaskRight | 1.026970 |
CircGradBasedCorrMaskRoundness | 0 |
CircGradBasedCorrMaskTop | 0.834622 |
CircGradBasedCorrMaskValue | 1.000000 |
CircGradBasedCorrMaskVersion | +2 |
CircGradBasedCorrMaskWhat | Mask/CircularGradient |
CircGradBasedCorrMoire | 0.000000 |
CircGradBasedCorrSaturation | 0.000000 |
CircGradBasedCorrShadows2012 | -0.208330 |
CircGradBasedCorrSharpness | 0.000000 |
CircGradBasedCorrTemperature | 0.000000 |
CircGradBasedCorrTint | 0.000000 |
CircGradBasedCorrWhat | Correction |
CircleOfConfusion | 0.030 mm |
Clarity2012 | +5 |
ColorComponents | 3 |
ColorGradeBlending | 50 |
ColorGradeGlobalHue | 0 |
ColorGradeGlobalLum | 0 |
ColorGradeGlobalSat | 0 |
ColorGradeHighlightLum | 0 |
ColorGradeMidtoneHue | 0 |
ColorGradeMidtoneLum | 0 |
ColorGradeMidtoneSat | 0 |
ColorGradeShadowLum | 0 |
ColorNoiseReduction | 25 |
ColorNoiseReductionDetail | 50 |
ColorNoiseReductionSmoothness | 50 |
ColorSpace | Uncalibrated |
ColorTemperature | 5950 |
ColorTransform | YCbCr |
Contrast | Normal |
Contrast2012 | +15 |
Copyright | CATO HANSEN |
CopyrightNotice | CATO HANSEN |
CreateDate (1) | 2020:10:09 13:30:11.08 |
CreateDate | 2020:10:09 13:30:11 |
Creator | CATO HANSEN |
CreatorTool | Adobe Photoshop Lightroom Classic 10.0 (Windows) |
CropAngle | 0.569215 |
CropBottom | 1 |
CropConstrainToWarp | 0 |
CropLeft | 0.12699 |
CropRight | 0.94246 |
CropTop | 0.002432 |
CustomRendered | Normal |
DateCreated (1) | 2020:10:09 |
DateCreated | 2020:10:09 13:30:11.08 |
DateTimeOriginal | 2020:10:09 13:30:11 |
DefringeGreenAmount | 0 |
DefringeGreenHueHi | 60 |
DefringeGreenHueLo | 40 |
DefringePurpleAmount | 0 |
DefringePurpleHueHi | 70 |
DefringePurpleHueLo | 30 |
Dehaze | +2 |
DigitalZoomRatio | 1 |
DistortionCorrectionAlreadyApplied | True |
DOF | inf (4.44 m - inf) |
Exposure2012 | 0.00 |
ExposureCompensation | -4/3 |
ExposureMode | Auto |
ExposureProgram | Aperture-priority AE |
ExposureTime | 1/60 |
Flash | Off, Did not fire |
FNumber | 6.3 |
FocalLength | 35.0 mm |
FocalLength35efl | 35.0 mm (35 mm equivalent: 35.0 mm) |
FocalLengthIn35mmFormat | 35 mm |
Format | image/jpeg |
FOV | 54.4 deg |
GainControl | None |
GrainAmount | 0 |
GreenHue | +30 |
GreenSaturation | +5 |
HasCrop | True |
HasExtendedXMP | 47B1471D30E526FCD36989BAAF62A96E |
HasSettings | True |
Highlights2012 | -18 |
HueAdjustmentAqua | 0 |
HueAdjustmentBlue | 0 |
HueAdjustmentGreen | 0 |
HueAdjustmentMagenta | 0 |
HueAdjustmentOrange | 0 |
HueAdjustmentPurple | 0 |
HueAdjustmentRed | 0 |
HueAdjustmentYellow | 0 |
HyperfocalDistance | 6.47 m |
ImageHeight | 4840 |
ImageNumber | 149458 |
ImageSize | 6050x4840 |
ImageWidth | 6050 |
ISO | 64 |
Keywords | landscape, lofoten, nature, nordland, norway |
LateralChromaticAberrationCorrectionAlreadyApplied | True |
Lens | TAMRON SP 24-70mm F2.8 Di VC USD A007N |
LensID (1) | 254 |
LensID | Tamron SP 24-70mm f/2.8 Di VC USD (A007) |
LensInfo | 24-70mm f/2.8 |
LensManualDistortionAmount | 0 |
LensModel | TAMRON SP 24-70mm F2.8 Di VC USD A007N |
LensProfileDistortionScale | 100 |
LensProfileEnable | 1 |
LensProfileFilename | NIKON CORPORATION (TAMRON SP 24-70mm F_2.8 Di VC USD A007N) - RAW.lcp |
LensProfileIsEmbedded | False |
LensProfileName | Adobe (TAMRON SP 24-70mm F2.8 Di VC USD A007N, NIKON CORPORATION) |
LensProfileSetup | LensDefaults |
LensProfileVignettingScale | 100 |
LightSource | Unknown |
LightValue | 11.9 |
LookAmount | 1.000000 |
LookGroup | Profiles |
LookName | Adobe Landscape |
LookParametersCameraProfile | Adobe Standard |
LookParametersClarity2012 | +10 |
LookParametersConvertToGrayscale | False |
LookParametersHighlights2012 | -12 |
LookParametersLookTable | 0B3BFB5CFB7DBF7FF175E98F24D316B0 |
LookParametersProcessVersion | 11.0 |
LookParametersShadows2012 | +12 |
LookParametersToneCurvePV2012 | 0, 0, 64, 60, 128, 128, 192, 196, 255, 255 |
LookParametersVersion | 13.0 |
LookSupportsAmount | false |
LookSupportsMonochrome | false |
LookSupportsOutputReferred | false |
LuminanceAdjustmentAqua | 0 |
LuminanceAdjustmentBlue | +33 |
LuminanceAdjustmentGreen | 0 |
LuminanceAdjustmentMagenta | 0 |
LuminanceAdjustmentOrange | +34 |
LuminanceAdjustmentPurple | +2 |
LuminanceAdjustmentRed | 0 |
LuminanceAdjustmentYellow | +17 |
LuminanceSmoothing | 0 |
Make | NIKON CORPORATION |
MaxApertureValue | 2.8 |
Megapixels | 29.3 |
MeteringMode | Multi-segment |
Model | NIKON D810 |
ModifyDate (1) | 2020:11:01 19:49:36+01:00 |
ModifyDate | 2020:11:01 19:49:36 |
OverrideLookVignette | False |
PaintCorrectionActive | true |
PaintCorrectionAmount | 1.000000 |
PaintCorrectionBrightness | 0.000000 |
PaintCorrectionClarity2012 | 0.000000 |
PaintCorrectionContrast2012 | 0.000000 |
PaintCorrectionCorrectionRangeMaskColorAmount | 0.500000 |
PaintCorrectionCorrectionRangeMaskDepthFeather | 0.500000 |
PaintCorrectionCorrectionRangeMaskDepthMax | 1.000000 |
PaintCorrectionCorrectionRangeMaskDepthMin | 0.000000 |
PaintCorrectionCorrectionRangeMaskLumFeather | 0.500000 |
PaintCorrectionCorrectionRangeMaskLumMax | 1.000000 |
PaintCorrectionCorrectionRangeMaskLumMin | 0.000000 |
PaintCorrectionCorrectionRangeMaskType | 0 |
PaintCorrectionCorrectionRangeMaskVersion | +2 |
PaintCorrectionDefringe | 0.000000 |
PaintCorrectionExposure2012 | 0.000000 |
PaintCorrectionHighlights2012 (1) | 0.000000 |
PaintCorrectionHighlights2012 | 0.291670 |
PaintCorrectionHue | 240.000000 |
PaintCorrectionLocalBlacks2012 | 0.000000 |
PaintCorrectionLocalDehaze (1) | -0.152780 |
PaintCorrectionLocalDehaze | 0.000000 |
PaintCorrectionLocalHue | 0.000000 |
PaintCorrectionLocalTexture | 0.000000 |
PaintCorrectionLocalWhites2012 (1) | 0.402780 |
PaintCorrectionLocalWhites2012 | 0.638890 |
PaintCorrectionLuminanceNoise | 0.000000 |
PaintCorrectionMaskCenterWeight (2) | 0.166835 |
PaintCorrectionMaskCenterWeight | 0.121748 |
PaintCorrectionMaskFlow | 0.661000 |
PaintCorrectionMaskRadius (1) | 0.026678 |
PaintCorrectionMaskRadius (10) | 0.029856 |
PaintCorrectionMaskRadius (11) | 0.029788 |
PaintCorrectionMaskRadius (12) | 0.029742 |
PaintCorrectionMaskRadius (13) | 0.021349 |
PaintCorrectionMaskRadius (14) | 0.021263 |
PaintCorrectionMaskRadius (15) | 0.048063 |
PaintCorrectionMaskRadius (16) | 0.048133 |
PaintCorrectionMaskRadius (17) | 0.048072 |
PaintCorrectionMaskRadius (18) | 0.048040 |
PaintCorrectionMaskRadius (19) | 0.048051 |
PaintCorrectionMaskRadius (2) | 0.026691 |
PaintCorrectionMaskRadius (20) | 0.048114 |
PaintCorrectionMaskRadius (3) | 0.026684 |
PaintCorrectionMaskRadius (4) | 0.029875 |
PaintCorrectionMaskRadius (5) | 0.029741 |
PaintCorrectionMaskRadius (6) | 0.029889 |
PaintCorrectionMaskRadius (7) | 0.029819 |
PaintCorrectionMaskRadius (8) | 0.029736 |
PaintCorrectionMaskRadius (9) | 0.029796 |
PaintCorrectionMaskRadius | 0.113580 |
PaintCorrectionMaskValue (3) | 0.514000 |
PaintCorrectionMaskValue | 0.630000 |
PaintCorrectionMaskWhat | Mask/Paint |
PaintCorrectionMoire | 0.000000 |
PaintCorrectionSaturation | 0.000000 |
PaintCorrectionShadows2012 | 0.000000 |
PaintCorrectionSharpness | 0.000000 |
PaintCorrectionTemperature | 0.000000 |
PaintCorrectionTint | 0.000000 |
PaintCorrectionWhat | Correction |
ParametricDarks | -3 |
ParametricHighlights | +5 |
ParametricHighlightSplit | 75 |
ParametricLights | -20 |
ParametricMidtoneSplit | 50 |
ParametricShadows | -9 |
ParametricShadowSplit | 25 |
PerspectiveAspect | 0 |
PerspectiveHorizontal | 0 |
PerspectiveRotate | 0.0 |
PerspectiveScale | 100 |
PerspectiveUpright | 0 |
PerspectiveVertical | 0 |
PerspectiveX | 0.00 |
PerspectiveY | 0.00 |
PostCropVignetteAmount | -11 |
PostCropVignetteFeather | 70 |
PostCropVignetteHighlightContrast | 0 |
PostCropVignetteMidpoint | 30 |
PostCropVignetteRoundness | 0 |
PostCropVignetteStyle | 1 |
PreservedFileName | _CHA0118.NEF |
ProcessVersion | 11.0 |
ProfileDescription | Adobe RGB (1998) |
Rating | 2 |
RawFileName | _CHA0118.NEF |
RedHue | 0 |
RedSaturation | -8 |
Rights | CATO HANSEN |
Saturation (1) | -8 |
Saturation | Normal |
SaturationAdjustmentAqua | 0 |
SaturationAdjustmentBlue | 0 |
SaturationAdjustmentGreen | 0 |
SaturationAdjustmentMagenta | 0 |
SaturationAdjustmentOrange | 0 |
SaturationAdjustmentPurple | 0 |
SaturationAdjustmentRed | 0 |
SaturationAdjustmentYellow | 0 |
ScaleFactor35efl | 1.0 |
SceneCaptureType | Standard |
SceneType | Directly photographed |
SensingMethod | One-chip color area |
SensitivityType | Recommended Exposure Index |
SerialNumber | 6013221 |
Shadows2012 | +15 |
ShadowTint | 0 |
SharpenDetail | 25 |
SharpenEdgeMasking | 0 |
SharpenRadius | +1.0 |
Sharpness (1) | 40 |
Sharpness | Normal |
ShutterSpeed | 1/60 |
ShutterSpeedValue | 1/60 |
Software | Adobe Photoshop Lightroom Classic 10.0 (Windows) |
SplitToningBalance | 0 |
SplitToningHighlightHue | 0 |
SplitToningHighlightSaturation | 0 |
SplitToningShadowHue | 0 |
SplitToningShadowSaturation | 0 |
Subject | landscape, lofoten, nature, nordland, norway |
SubjectDistanceRange | Unknown |
Texture | 0 |
Tint | -3 |
ToneCurveName2012 | Custom |
ToneCurvePV2012 | 0, 0, 62, 74, 146, 167, 211, 210, 255, 238 |
ToneCurvePV2012Blue | 0, 0, 255, 255 |
ToneCurvePV2012Green | 0, 0, 255, 255 |
ToneCurvePV2012Red | 0, 0, 255, 255 |
Version | 13.0 |
Vibrance | +18 |
VignetteAmount | 0 |
VignetteCorrectionAlreadyApplied | True |
WhiteBalance (1) | As Shot |
WhiteBalance | Auto |
Whites2012 | +19 |