Felt | Verdi |
AlreadyApplied | True |
Aperture | 13.0 |
ApertureValue | 13.0 |
ApproximateFocusDistance | 4294967295 |
AutoLateralCA | 0 |
BitsPerSample | 8 |
Blacks2012 | 0 |
BlueHue | 0 |
BlueSaturation | 0 |
CameraProfile | Embedded |
CircGradBasedCorrActive | true |
CircGradBasedCorrAmount | 1.000000 |
CircGradBasedCorrBrightness | 0.000000 |
CircGradBasedCorrClarity2012 (1) | 0.082870 |
CircGradBasedCorrClarity2012 (2) | 0.259670 |
CircGradBasedCorrClarity2012 | 0.000000 |
CircGradBasedCorrContrast2012 | -0.060770 |
CircGradBasedCorrCorrectionRangeMaskColorAmount | 0.500000 |
CircGradBasedCorrCorrectionRangeMaskDepthFeather | 0.500000 |
CircGradBasedCorrCorrectionRangeMaskDepthMax | 1.000000 |
CircGradBasedCorrCorrectionRangeMaskDepthMin | 0.000000 |
CircGradBasedCorrCorrectionRangeMaskLumFeather | 0.500000 |
CircGradBasedCorrCorrectionRangeMaskLumMax | 1.000000 |
CircGradBasedCorrCorrectionRangeMaskLumMin | 0.000000 |
CircGradBasedCorrCorrectionRangeMaskType | 0 |
CircGradBasedCorrCorrectionRangeMaskVersion | +2 |
CircGradBasedCorrDefringe | 0.000000 |
CircGradBasedCorrExposure2012 | 0.000000 |
CircGradBasedCorrHighlights2012 (1) | 0.447510 |
CircGradBasedCorrHighlights2012 (10) | 0.535910 |
CircGradBasedCorrHighlights2012 (12) | 0.215470 |
CircGradBasedCorrHighlights2012 (13) | 0.834250 |
CircGradBasedCorrHighlights2012 (3) | 0.513810 |
CircGradBasedCorrHighlights2012 (6) | 0.845300 |
CircGradBasedCorrHighlights2012 (7) | 1.000000 |
CircGradBasedCorrHighlights2012 (9) | 0.000000 |
CircGradBasedCorrHighlights2012 | 0.668510 |
CircGradBasedCorrHue | 0.000000 |
CircGradBasedCorrLocalBlacks2012 | 0.000000 |
CircGradBasedCorrLocalDehaze | 0.000000 |
CircGradBasedCorrLocalHue | 0.000000 |
CircGradBasedCorrLocalTexture | 0.000000 |
CircGradBasedCorrLocalWhites2012 (1) | 0.281770 |
CircGradBasedCorrLocalWhites2012 (10) | 0.215470 |
CircGradBasedCorrLocalWhites2012 (13) | 0.171270 |
CircGradBasedCorrLocalWhites2012 (2) | 0.325970 |
CircGradBasedCorrLocalWhites2012 (4) | 0.436460 |
CircGradBasedCorrLocalWhites2012 (6) | 0.000000 |
CircGradBasedCorrLocalWhites2012 (7) | 0.303870 |
CircGradBasedCorrLocalWhites2012 (8) | 0.469610 |
CircGradBasedCorrLocalWhites2012 (9) | 0.270720 |
CircGradBasedCorrLocalWhites2012 | 0.237570 |
CircGradBasedCorrLuminanceNoise | 0.000000 |
CircGradBasedCorrMaskAngle (1) | 3.810550 |
CircGradBasedCorrMaskAngle (10) | 0.000000 |
CircGradBasedCorrMaskAngle (12) | 4.776840 |
CircGradBasedCorrMaskAngle (6) | 10.964500 |
CircGradBasedCorrMaskAngle (8) | 6.650860 |
CircGradBasedCorrMaskAngle | 17.339400 |
CircGradBasedCorrMaskBottom (1) | 0.649135 |
CircGradBasedCorrMaskBottom (10) | 0.526244 |
CircGradBasedCorrMaskBottom (11) | 0.731273 |
CircGradBasedCorrMaskBottom (12) | 0.986471 |
CircGradBasedCorrMaskBottom (13) | 0.278940 |
CircGradBasedCorrMaskBottom (2) | 0.561573 |
CircGradBasedCorrMaskBottom (3) | 0.474951 |
CircGradBasedCorrMaskBottom (4) | 0.608497 |
CircGradBasedCorrMaskBottom (5) | 0.558956 |
CircGradBasedCorrMaskBottom (6) | 0.450202 |
CircGradBasedCorrMaskBottom (7) | 0.418383 |
CircGradBasedCorrMaskBottom (8) | 0.406101 |
CircGradBasedCorrMaskBottom (9) | 0.688324 |
CircGradBasedCorrMaskBottom | 0.214459 |
CircGradBasedCorrMaskFeather | +50 |
CircGradBasedCorrMaskFlipped | true |
CircGradBasedCorrMaskLeft (1) | 0.513000 |
CircGradBasedCorrMaskLeft (10) | 0.370000 |
CircGradBasedCorrMaskLeft (11) | 0.167674 |
CircGradBasedCorrMaskLeft (12) | 0.310603 |
CircGradBasedCorrMaskLeft (13) | 0.202473 |
CircGradBasedCorrMaskLeft (2) | 0.639295 |
CircGradBasedCorrMaskLeft (3) | 0.286527 |
CircGradBasedCorrMaskLeft (4) | 0.368754 |
CircGradBasedCorrMaskLeft (5) | 0.311303 |
CircGradBasedCorrMaskLeft (6) | 0.229778 |
CircGradBasedCorrMaskLeft (7) | 0.235769 |
CircGradBasedCorrMaskLeft (8) | 0.121827 |
CircGradBasedCorrMaskLeft (9) | 0.330192 |
CircGradBasedCorrMaskLeft | 0.202107 |
CircGradBasedCorrMaskMidpoint | +50 |
CircGradBasedCorrMaskRight (1) | 0.842115 |
CircGradBasedCorrMaskRight (10) | 0.517308 |
CircGradBasedCorrMaskRight (11) | 0.246669 |
CircGradBasedCorrMaskRight (12) | 0.589205 |
CircGradBasedCorrMaskRight (13) | 0.212528 |
CircGradBasedCorrMaskRight (2) | 0.714962 |
CircGradBasedCorrMaskRight (3) | 0.468934 |
CircGradBasedCorrMaskRight (4) | 0.497301 |
CircGradBasedCorrMaskRight (5) | 0.346492 |
CircGradBasedCorrMaskRight (6) | 0.247146 |
CircGradBasedCorrMaskRight (7) | 0.245000 |
CircGradBasedCorrMaskRight (8) | 0.285095 |
CircGradBasedCorrMaskRight (9) | 0.445577 |
CircGradBasedCorrMaskRight | 0.211458 |
CircGradBasedCorrMaskRoundness | 0 |
CircGradBasedCorrMaskTop (1) | 0.434037 |
CircGradBasedCorrMaskTop (10) | 0.490482 |
CircGradBasedCorrMaskTop (11) | 0.647268 |
CircGradBasedCorrMaskTop (12) | 0.800248 |
CircGradBasedCorrMaskTop (13) | 0.254169 |
CircGradBasedCorrMaskTop (2) | 0.504835 |
CircGradBasedCorrMaskTop (3) | 0.460950 |
CircGradBasedCorrMaskTop (4) | 0.560033 |
CircGradBasedCorrMaskTop (5) | 0.528800 |
CircGradBasedCorrMaskTop (6) | 0.426941 |
CircGradBasedCorrMaskTop (7) | 0.398195 |
CircGradBasedCorrMaskTop (8) | 0.299733 |
CircGradBasedCorrMaskTop (9) | 0.598344 |
CircGradBasedCorrMaskTop | 0.158180 |
CircGradBasedCorrMaskValue | 1.000000 |
CircGradBasedCorrMaskVersion | +2 |
CircGradBasedCorrMaskWhat | Mask/CircularGradient |
CircGradBasedCorrMoire | 0.000000 |
CircGradBasedCorrSaturation (27) | -0.182320 |
CircGradBasedCorrSaturation | 0.000000 |
CircGradBasedCorrShadows2012 (1) | 0.370170 |
CircGradBasedCorrShadows2012 (2) | 0.469610 |
CircGradBasedCorrShadows2012 | 0.000000 |
CircGradBasedCorrSharpness | 0.000000 |
CircGradBasedCorrTemperature | 0.250000 |
CircGradBasedCorrTint | 0.000000 |
CircGradBasedCorrWhat | Correction |
CircleOfConfusion | 0.014 mm |
Clarity2012 | +12 |
ColorComponents | 3 |
ColorGradeBlending | 50 |
ColorGradeGlobalHue | 0 |
ColorGradeGlobalLum | 0 |
ColorGradeGlobalSat | 0 |
ColorGradeHighlightLum | 0 |
ColorGradeMidtoneHue | 0 |
ColorGradeMidtoneLum | 0 |
ColorGradeMidtoneSat | 0 |
ColorGradeShadowLum | 0 |
ColorNoiseReduction | 0 |
ColorSpace | sRGB |
ColorTransform | YCbCr |
Contrast2012 | +7 |
ConvertToGrayscale | True |
CreateDate (1) | 2018:05:12 18:59:20.00 |
CreateDate | 2018:05:12 18:59:20 |
CreatorTool | Adobe Photoshop Lightroom Classic 10.4 (Windows) |
CropAngle | 0 |
CropBottom | 0.949901 |
CropConstrainToWarp | 0 |
CropLeft | 0.044835 |
CropRight | 1 |
CropTop | 0.1147 |
DateCreated (1) | 2018:05:12 |
DateCreated | 2018:05:12 18:59:20.00 |
DateTimeOriginal | 2018:05:12 18:59:20 |
Dehaze | 0 |
DistortionCorrectionAlreadyApplied | True |
DOF | inf (2.75 m - inf) |
Exposure2012 | 0.00 |
ExposureCompensation | 0 |
ExposureMode | Manual |
ExposureProgram | Manual |
ExposureTime | 1/100 |
Firmware | 1.1.6 |
Flash | Off, Did not fire |
FlashCompensation | 0 |
FNumber | 13.0 |
FocalLength | 22.0 mm |
FocalLength35efl | 22.0 mm (35 mm equivalent: 48.8 mm) |
Format | image/jpeg |
FOV | 40.5 deg |
GradientBasedCorrActive | true |
GradientBasedCorrAmount | 1.000000 |
GradientBasedCorrBrightness | 0.000000 |
GradientBasedCorrClarity2012 | 0.204420 |
GradientBasedCorrContrast2012 | -0.060770 |
GradientBasedCorrCorrectionRangeMaskColorAmount | 0.500000 |
GradientBasedCorrCorrectionRangeMaskDepthFeather | 0.500000 |
GradientBasedCorrCorrectionRangeMaskDepthMax | 1.000000 |
GradientBasedCorrCorrectionRangeMaskDepthMin | 0.000000 |
GradientBasedCorrCorrectionRangeMaskLumFeather | 0.500000 |
GradientBasedCorrCorrectionRangeMaskLumMax | 1.000000 |
GradientBasedCorrCorrectionRangeMaskLumMin | 0.000000 |
GradientBasedCorrCorrectionRangeMaskType | 0 |
GradientBasedCorrCorrectionRangeMaskVersion | +2 |
GradientBasedCorrDefringe | 0.000000 |
GradientBasedCorrExposure2012 | 0.000000 |
GradientBasedCorrHighlights2012 | 0.000000 |
GradientBasedCorrHue | 0.000000 |
GradientBasedCorrLocalBlacks2012 | 0.000000 |
GradientBasedCorrLocalDehaze | 0.000000 |
GradientBasedCorrLocalHue | 0.000000 |
GradientBasedCorrLocalTexture | 0.000000 |
GradientBasedCorrLocalWhites2012 | 0.170000 |
GradientBasedCorrLuminanceNoise | 0.000000 |
GradientBasedCorrMaskFullX | 0.138334 |
GradientBasedCorrMaskFullY | 0.564348 |
GradientBasedCorrMaskValue | 1.000000 |
GradientBasedCorrMaskWhat | Mask/Gradient |
GradientBasedCorrMaskZeroX | 0.500439 |
GradientBasedCorrMaskZeroY | 0.252333 |
GradientBasedCorrMoire | 0.000000 |
GradientBasedCorrSaturation (1) | -0.182320 |
GradientBasedCorrSaturation | 0.000000 |
GradientBasedCorrShadows2012 | 0.270720 |
GradientBasedCorrSharpness | 0.000000 |
GradientBasedCorrTemperature | 0.250000 |
GradientBasedCorrTint | 0.000000 |
GradientBasedCorrWhat | Correction |
GrainAmount | 0 |
GrayMixerAqua | 0 |
GrayMixerBlue | 0 |
GrayMixerGreen | 0 |
GrayMixerMagenta | 0 |
GrayMixerOrange | 0 |
GrayMixerPurple | 0 |
GrayMixerRed | 0 |
GrayMixerYellow | 0 |
GreenHue | 0 |
GreenSaturation | 0 |
HasCrop | True |
HasSettings | True |
Highlights2012 | 0 |
HyperfocalDistance | 2.75 m |
ImageHeight | 1492 |
ImageNumber | 0 |
ImageSize | 2560x1492 |
ImageWidth | 2560 |
IncrementalTemperature | 0 |
IncrementalTint | 0 |
ISO | 100 |
Lens | EF16-35mm f/2.8L II USM |
LensID (1) | 246 |
LensID | Canon EF 16-35mm f/2.8L II USM |
LensInfo | 16-35mm f/? |
LensManualDistortionAmount | 0 |
LensModel | EF16-35mm f/2.8L II USM |
LensProfileEnable | 0 |
LensSerialNumber | 0000829d47 |
LightValue | 14.0 |
LuminanceSmoothing | 0 |
Make | Canon |
MaxApertureValue | 2.8 |
Megapixels | 3.8 |
MeteringMode | Partial |
Model | Canon EOS 6D |
ModifyDate (1) | 2021:09:03 11:08:39+02:00 |
ModifyDate | 2021:09:03 11:08:39 |
OverrideLookVignette | False |
ParametricDarks | 0 |
ParametricHighlights | 0 |
ParametricHighlightSplit | 75 |
ParametricLights | 0 |
ParametricMidtoneSplit | 50 |
ParametricShadows | 0 |
ParametricShadowSplit | 25 |
PerspectiveAspect | 0 |
PerspectiveHorizontal | 0 |
PerspectiveRotate | 0.0 |
PerspectiveScale | 100 |
PerspectiveUpright | 0 |
PerspectiveVertical | 0 |
PerspectiveX | 0.00 |
PerspectiveY | 0.00 |
PhotographicSensitivity | 100 |
PostCropVignetteAmount | 0 |
PreservedFileName | IMG_5243_HDR.tif |
ProcessVersion | 11.0 |
ProfileDescription | sRGB IEC61966-2.1 |
RawFileName | |
RedHue | 0 |
RedSaturation | 0 |
ScaleFactor35efl | 2.2 |
SceneCaptureType | Standard |
SerialNumber | 313051002815 |
Shadows2012 | 0 |
ShadowTint | 0 |
Sharpness | 0 |
ShutterSpeed | 1/100 |
ShutterSpeedValue | 1/100 |
Software | Adobe Photoshop Lightroom Classic 10.4 (Windows) |
SplitToningBalance | 0 |
SplitToningHighlightHue | 0 |
SplitToningHighlightSaturation | 0 |
SplitToningShadowHue | 0 |
SplitToningShadowSaturation | 0 |
Texture | -43 |
ToneCurveName2012 | Linear |
ToneCurvePV2012 | 0, 0, 255, 255 |
ToneCurvePV2012Blue | 0, 0, 255, 255 |
ToneCurvePV2012Green | 0, 0, 255, 255 |
ToneCurvePV2012Red | 0, 0, 255, 255 |
Version | 13.3 |
VignetteAmount | 0 |
VignetteCorrectionAlreadyApplied | True |
WhiteBalance (1) | As Shot |
WhiteBalance | Auto |
Whites2012 | 0 |