Felt | Verdi |
AlreadyApplied | True |
Aperture | 9.0 |
ApertureValue | 9.0 |
ApproximateFocusDistance | 4294967295 |
AutoLateralCA | 0 |
BitsPerSample | 8 |
Blacks2012 | -52 |
BlueHue | 0 |
BlueSaturation | 0 |
CameraProfile | Embedded |
CircleOfConfusion | 0.028 mm |
Clarity2012 | +6 |
ColorComponents | 3 |
ColorGradeBlending | 50 |
ColorGradeGlobalHue | 0 |
ColorGradeGlobalLum | 0 |
ColorGradeGlobalSat | 0 |
ColorGradeHighlightLum | 0 |
ColorGradeMidtoneHue | 0 |
ColorGradeMidtoneLum | 0 |
ColorGradeMidtoneSat | 0 |
ColorGradeShadowLum | 0 |
ColorNoiseReduction | 0 |
ColorSpace | sRGB |
ColorTransform | YCbCr |
CompatibleVersion | 234881024 |
Contrast2012 | +13 |
CreateDate (1) | 2017:10:19 09:27:44.62 |
CreateDate | 2017:10:19 09:27:44 |
CreatorTool | Adobe Photoshop Lightroom Classic 11.2 (Windows) |
CropAngle | 0 |
CropBottom | 0.971963 |
CropConstrainToWarp | 0 |
CropLeft | 0 |
CropRight | 0.954635 |
CropTop | 0 |
DateCreated (1) | 2017:10:19 |
DateCreated | 2017:10:19 09:27:44.62 |
DateTimeOriginal | 2017:10:19 09:27:44 |
Dehaze | 0 |
DistortionCorrectionAlreadyApplied | True |
DOF | inf (3.62 m - inf) |
Exposure2012 | +0.43 |
ExposureCompensation | 0 |
ExposureMode | Manual |
ExposureProgram | Manual |
ExposureTime | 1/30 |
Firmware | 1.1.6 |
Flash | Off, Did not fire |
FlashCompensation | 0 |
FNumber | 9.0 |
FocalLength | 30.0 mm |
FocalLength35efl | 30.0 mm (35 mm equivalent: 32.7 mm) |
Format | image/jpeg |
FOV | 57.7 deg |
GrainAmount | 0 |
GrayMixerAqua | 0 |
GrayMixerBlue | -4 |
GrayMixerGreen | -27 |
GrayMixerMagenta | +4 |
GrayMixerOrange | +8 |
GrayMixerPurple | +17 |
GrayMixerRed | +53 |
GrayMixerYellow | +20 |
GreenHue | 0 |
GreenSaturation | 0 |
HasCrop | True |
HasSettings | True |
HierarchicalSubject | Røssvoll |
Highlights2012 | +33 |
HyperfocalDistance | 3.62 m |
ImageHeight | 3273 |
ImageNumber | 0 |
ImageSize | 5078x3273 |
ImageWidth | 5078 |
IncrementalTemperature | 0 |
IncrementalTint | 0 |
ISO | 100 |
Keywords | Røssvoll |
LateralChromaticAberrationCorrectionAlreadyApplied | True |
Lens | EF16-35mm f/2.8L II USM |
LensID (1) | 246 |
LensID | Canon EF 16-35mm f/2.8L II USM |
LensInfo | 16-35mm f/? |
LensManualDistortionAmount | 0 |
LensModel | EF16-35mm f/2.8L II USM |
LensProfileEnable | 0 |
LensSerialNumber | 0000829d47 |
LightValue | 11.2 |
LookAmount | 1 |
LookGroup | Profiles |
LookName | Default Grayscale |
LookParametersColorGradeBlending | 50 |
LookParametersColorGradeGlobalHue | 0 |
LookParametersColorGradeGlobalLum | 0 |
LookParametersColorGradeGlobalSat | 0 |
LookParametersColorGradeHighlightLum | 0 |
LookParametersColorGradeMidtoneHue | 0 |
LookParametersColorGradeMidtoneLum | 0 |
LookParametersColorGradeMidtoneSat | 0 |
LookParametersColorGradeShadowLum | 0 |
LookParametersConvertToGrayscale | True |
LookParametersGrayMixerAqua | 0 |
LookParametersGrayMixerBlue | 0 |
LookParametersGrayMixerGreen | 0 |
LookParametersGrayMixerMagenta | 0 |
LookParametersGrayMixerOrange | 0 |
LookParametersGrayMixerPurple | 0 |
LookParametersGrayMixerRed | 0 |
LookParametersGrayMixerYellow | 0 |
LookParametersParametricDarks | 0 |
LookParametersParametricHighlights | 0 |
LookParametersParametricHighlightSplit | 75 |
LookParametersParametricLights | 0 |
LookParametersParametricMidtoneSplit | 50 |
LookParametersParametricShadows | 0 |
LookParametersParametricShadowSplit | 25 |
LookParametersProcessVersion | 11.0 |
LookParametersSplitToningBalance | 0 |
LookParametersSplitToningHighlightHue | 0 |
LookParametersSplitToningHighlightSaturation | 0 |
LookParametersSplitToningShadowHue | 0 |
LookParametersSplitToningShadowSaturation | 0 |
LookParametersToneCurvePV2012 | 0, 0, 255, 255 |
LookParametersToneCurvePV2012Blue | 0, 0, 255, 255 |
LookParametersToneCurvePV2012Green | 0, 0, 255, 255 |
LookParametersToneCurvePV2012Red | 0, 0, 255, 255 |
LookParametersVersion | 14.2 |
LookSupportsAmount | false |
LuminanceNoiseReductionContrast | 0 |
LuminanceNoiseReductionDetail | 35 |
LuminanceSmoothing | 37 |
Make | Canon |
MaxApertureValue | 2.8 |
Megapixels | 16.6 |
MeteringMode | Spot |
Model | Canon EOS 6D |
ModifyDate (1) | 2022:02:26 11:48:25+01:00 |
ModifyDate | 2022:02:26 11:48:25 |
OverrideLookVignette | False |
ParametricDarks | 0 |
ParametricHighlights | 0 |
ParametricHighlightSplit | 75 |
ParametricLights | 0 |
ParametricMidtoneSplit | 50 |
ParametricShadows | 0 |
ParametricShadowSplit | 25 |
PerspectiveAspect | 0 |
PerspectiveHorizontal | 0 |
PerspectiveRotate | 0.0 |
PerspectiveScale | 100 |
PerspectiveUpright | 0 |
PerspectiveVertical | 0 |
PerspectiveX | 0.00 |
PerspectiveY | 0.00 |
PhotographicSensitivity | 100 |
PostCropVignetteAmount | 0 |
PreservedFileName | IMG_3514_HDR.tif |
ProcessVersion | 11.0 |
ProfileDescription | sRGB IEC61966-2.1 |
Rating | 5 |
RawFileName | |
RedHue | 0 |
RedSaturation | 0 |
SaturationAdjustmentOrange | +100 |
SaturationAdjustmentYellow | +53 |
ScaleFactor35efl | 1.1 |
SceneCaptureType | Standard |
SerialNumber | 313051002815 |
Shadows2012 | +22 |
ShadowTint | 0 |
Sharpness | 0 |
ShutterSpeed | 1/30 |
ShutterSpeedValue | 1/30 |
Software | Adobe Photoshop Lightroom Classic 11.2 (Windows) |
SplitToningBalance | 0 |
SplitToningHighlightHue | 0 |
SplitToningHighlightSaturation | 0 |
SplitToningShadowHue | 0 |
SplitToningShadowSaturation | 0 |
Subject | Røssvoll |
Texture | 0 |
ToneCurveName2012 | Linear |
ToneCurvePV2012 | 0, 0, 255, 255 |
ToneCurvePV2012Blue | 0, 0, 255, 255 |
ToneCurvePV2012Green | 0, 0, 255, 255 |
ToneCurvePV2012Red | 0, 0, 255, 255 |
Version | 14.2 |
Vibrance | -24 |
VignetteAmount | 0 |
VignetteCorrectionAlreadyApplied | True |
WeightedFlatSubject | Røssvoll |
WhiteBalance (1) | Custom |
WhiteBalance | Manual |
Whites2012 | 0 |