Felt | Verdi |
AlreadyApplied | True |
Aperture | 4.0 |
ApertureValue | 4.0 |
BitsPerSample | 8 |
BlueHue | 0 |
BlueSaturation | 0 |
Brightness | +50 |
CameraProfile | ACR 3.3 |
CFAPattern | [Green,Red][Blue,Green] |
ChromaticAberrationB | 0 |
ChromaticAberrationR | 0 |
CircleOfConfusion | 0.020 mm |
ColorComponents | 3 |
ColorNoiseReduction | 25 |
ColorTemperature | 5765 |
Contrast (2) | +29 |
Contrast | High |
ConvertToGrayscale | False |
Copyright | Kodiak Photography |
CopyrightNotice | Kodiak Photography |
CreateDate | 2007:05:24 14:53:45 |
CreatorTool | Adobe Photoshop Lightroom |
CropAngle | -0.842524 |
CropBottom | 0.978504 |
CropHeight | 2536 |
CropLeft | 0.005932 |
CropRight | 0.994068 |
CropTop | 0.021496 |
CropUnit | pixels |
CropWidth | 3789 |
CustomRendered | Normal |
DateTimeDigitized | 2007:05:24 14:53:45.24+02:00 |
DateTimeOriginal (1) | 2007:05:24 14:53:45.24+02:00 |
DateTimeOriginal | 2007:05:24 14:53:45 |
DigitalZoomRatio | 1 |
ExifImageHeight | 600 |
ExifImageWidth | 401 |
Exposure | 0.00 |
ExposureCompensation | 0 |
ExposureMode | Auto |
ExposureProgram | Aperture-priority AE |
ExposureTime | 1/5000 |
FillLight | 0 |
Flash | Fired, Return detected |
FlashFired | True |
FlashFunction | False |
FlashMode | Unknown |
FlashRedEyeMode | False |
FlashReturn | Return detected |
FNumber | 4.0 |
FocalLength | 10.0 mm |
FocalLength35efl | 10.0 mm (35 mm equivalent: 15.0 mm) |
FocalLengthIn35mmFormat | 15 mm |
FOV | 100.4 deg |
GainControl | None |
GreenHue | 0 |
GreenSaturation | 0 |
HasCrop | True |
HasSettings | True |
HighlightRecovery | 0 |
HueAdjustmentAqua | 0 |
HueAdjustmentBlue | 0 |
HueAdjustmentGreen | 0 |
HueAdjustmentMagenta | 0 |
HueAdjustmentOrange | 0 |
HueAdjustmentPurple | 0 |
HueAdjustmentRed | 0 |
HueAdjustmentYellow | 0 |
HyperfocalDistance | 1.25 m |
ImageHeight (1) | 3789 |
ImageHeight | 600 |
ImageNumber | 18589 |
ImageSize | 401x600 |
ImageWidth (1) | 2536 |
ImageWidth | 401 |
ISO | 100 |
Keywords | motlys, sara |
Lens | 10.0-20.0 mm f/4.0-5.6 |
LensInfo | 10-20mm f/4-5.6 |
LightSource | Cloudy |
LightValue | 16.3 |
LuminanceAdjustmentAqua | 0 |
LuminanceAdjustmentBlue | 0 |
LuminanceAdjustmentGreen | 0 |
LuminanceAdjustmentMagenta | 0 |
LuminanceAdjustmentOrange | 0 |
LuminanceAdjustmentPurple | 0 |
LuminanceAdjustmentRed | 0 |
LuminanceAdjustmentYellow | 0 |
LuminanceSmoothing | 0 |
Make | NIKON CORPORATION |
MaxApertureValue | 4.0 |
Megapixels | 0.241 |
MeteringMode | Multi-segment |
Model | NIKON D200 |
ModifyDate (1) | 2007:05:24 20:19:50+02:00 |
ModifyDate | 2007:05:24 21:03:44 |
Orientation | Horizontal (normal) |
ParametricDarks | -18 |
ParametricHighlights | 0 |
ParametricHighlightSplit | 75 |
ParametricLights | 0 |
ParametricMidtoneSplit | 50 |
ParametricShadows | 0 |
ParametricShadowSplit | 25 |
PrivateRTKInfo | cHJpdmF0ZVJUS0luZm8gPSB7Cgl7CgkJZmxhdCA9IHsKCQkJIm1vdGx5cyIsCgkJfSwKCQlwYXRoID0gewoJCQkibW90bHlzIiwKCQl9LAoJCXByaW1hcnkgPSAibW90bHlzIiwKCQl1dWlkID0gIjk2RTlCNzhFLUE0NDctNDlCQi05RkZBLUUwOTk0N0RBMTNCMyIsCgl9LAoJewoJCWZsYXQgPSB7CgkJCSJzYXJhIiwKCQl9LAoJCXBhdGggPSB7CgkJCSJzYXJhIiwKCQl9LAoJCXByaW1hcnkgPSAic2FyYSIsCgkJdXVpZCA9ICJCMkI3M0RGRC02NzRELTRFRjAtODE2QS0wRjVDRUJFQTdEQzAiLAoJfSwKfQo= |
ProfileDescription | sRGB IEC61966-2.1 |
RedHue | 0 |
RedSaturation | 0 |
Rights | Kodiak Photography |
Saturation (2) | +4 |
Saturation | High |
SaturationAdjustmentAqua | 0 |
SaturationAdjustmentBlue | 0 |
SaturationAdjustmentGreen | 0 |
SaturationAdjustmentMagenta | 0 |
SaturationAdjustmentOrange | 0 |
SaturationAdjustmentPurple | 0 |
SaturationAdjustmentRed | 0 |
SaturationAdjustmentYellow | 0 |
ScaleFactor35efl | 1.5 |
SceneCaptureType | Standard |
SceneType | Directly photographed |
SensingMethod | One-chip color area |
Shadows | 20 |
ShadowTint | 0 |
Sharpness (2) | 25 |
Sharpness | Hard |
ShutterSpeed | 1/5000 |
ShutterSpeedValue | 1/5000 |
Software | ACD Systems Digital Imaging |
SplitToningBalance | 0 |
SplitToningHighlightHue | 0 |
SplitToningHighlightSaturation | 0 |
SplitToningShadowHue | 0 |
SplitToningShadowSaturation | 0 |
Subject | motlys, sara |
SubjectDistanceRange | Unknown |
Tint | -5 |
ToneCurve | 0, 0, 32, 22, 64, 56, 128, 128, 192, 196, 255, 255 |
ToneCurveName | Medium Contrast |
UsageTerms | |
Version | 1.0 |
Vibrance | +36 |
VignetteAmount | 0 |
WebStatement | |
WhiteBalance (2) | Custom |
WhiteBalance | Manual |