Felt | Verdi |
AlreadyApplied | True |
Aperture | 6.3 |
ApertureValue | 6.3 |
BitsPerSample | 8 |
BlueHue | 0 |
BlueSaturation | 0 |
Brightness | +34 |
By-line | Gaute Bruvik |
CameraProfile | ACR 3.3 |
CFAPattern | [Green,Red][Blue,Green] |
ChromaticAberrationB | 0 |
ChromaticAberrationR | 0 |
CircleOfConfusion | 0.020 mm |
Clarity | 60 |
ColorComponents | 3 |
ColorNoiseReduction | 25 |
ColorTemperature | 7500 |
Contrast (2) | +35 |
Contrast | High |
ConvertToGrayscale | False |
Copyright | Kodiak Photography |
CopyrightNotice | Kodiak Photography |
CreateDate | 2008:02:13 23:52:06 |
Creator | Gaute Bruvik |
CreatorAddress | Mølnenga 19 |
CreatorCity | Kvaløysletta |
CreatorPostalCode | 9100 |
CreatorRegion | Tromsø |
CreatorTool | Adobe Photoshop Lightroom |
CustomRendered | Normal |
DateTimeDigitized | 2008:02:13 23:52:06.82+01:00 |
DateTimeOriginal (1) | 2008:02:13 23:52:06.82+01:00 |
DateTimeOriginal | 2008:02:13 23:52:06 |
Defringe | 0 |
DigitalZoomRatio | 1 |
ExifImageHeight | 600 |
ExifImageWidth | 896 |
Exposure | 0.00 |
ExposureCompensation | 0 |
ExposureMode | Auto |
ExposureProgram | Aperture-priority AE |
ExposureTime | 1/60 |
FillLight | 4 |
Flash | Fired, Return not detected |
FlashFired | True |
FlashFunction | False |
FlashMode | Unknown |
FlashRedEyeMode | False |
FlashReturn | Return not detected |
FNumber | 6.3 |
FocalLength | 60.0 mm |
FocalLength35efl | 60.0 mm (35 mm equivalent: 90.0 mm) |
FocalLengthIn35mmFormat | 90 mm |
FOV | 22.6 deg |
GainControl | None |
GreenHue | 0 |
GreenSaturation | 0 |
HasCrop | False |
HasSettings | True |
HighlightRecovery | 35 |
HueAdjustmentAqua | 0 |
HueAdjustmentBlue | 0 |
HueAdjustmentGreen | 0 |
HueAdjustmentMagenta | 0 |
HueAdjustmentOrange | 0 |
HueAdjustmentPurple | 0 |
HueAdjustmentRed | 0 |
HueAdjustmentYellow | 0 |
HyperfocalDistance | 28.53 m |
ImageHeight (1) | 2592 |
ImageHeight | 600 |
ImageNumber | 19839 |
ImageSize | 896x600 |
ImageWidth (1) | 3872 |
ImageWidth | 896 |
ISO | 200 |
Keywords | mønster, røyk |
Lens | 60.0 mm f/2.8 |
LensInfo | 60mm f/2.8 |
LightSource | Cloudy |
LightValue | 10.2 |
LuminanceAdjustmentAqua | 0 |
LuminanceAdjustmentBlue | 0 |
LuminanceAdjustmentGreen | 0 |
LuminanceAdjustmentMagenta | 0 |
LuminanceAdjustmentOrange | 0 |
LuminanceAdjustmentPurple | 0 |
LuminanceAdjustmentRed | 0 |
LuminanceAdjustmentYellow | 0 |
LuminanceSmoothing | 0 |
Make | NIKON CORPORATION |
MaxApertureValue | 3.2 |
Megapixels | 0.538 |
MeteringMode | Multi-segment |
Model | NIKON D200 |
ModifyDate (1) | 2008:02:13 23:46:48+01:00 |
ModifyDate | 2008:02:13 23:57:29 |
Orientation | Horizontal (normal) |
ParametricDarks | -8 |
ParametricHighlights | 0 |
ParametricHighlightSplit | 75 |
ParametricLights | -4 |
ParametricMidtoneSplit | 50 |
ParametricShadows | -6 |
ParametricShadowSplit | 25 |
ProfileDescription | sRGB IEC61966-2.1 |
RedHue | 0 |
RedSaturation | 0 |
Rights | Kodiak Photography |
Saturation (2) | +90 |
Saturation | High |
SaturationAdjustmentAqua | 0 |
SaturationAdjustmentBlue | 0 |
SaturationAdjustmentGreen | 0 |
SaturationAdjustmentMagenta | 0 |
SaturationAdjustmentOrange | 0 |
SaturationAdjustmentPurple | 0 |
SaturationAdjustmentRed | 0 |
SaturationAdjustmentYellow | 0 |
ScaleFactor35efl | 1.5 |
SceneCaptureType | Standard |
SceneType | Directly photographed |
SensingMethod | One-chip color area |
Shadows | 5 |
ShadowTint | 0 |
SharpenDetail | 20 |
SharpenEdgeMasking | 5 |
SharpenRadius | +0.9 |
Sharpness (2) | 134 |
Sharpness | Hard |
ShutterSpeed | 1/60 |
ShutterSpeedValue | 1/60 |
Software | ACD Systems Digital Imaging |
SplitToningBalance | 0 |
SplitToningHighlightHue | 0 |
SplitToningHighlightSaturation | 0 |
SplitToningShadowHue | 0 |
SplitToningShadowSaturation | 0 |
Subject | mønster, røyk |
SubjectDistanceRange | Unknown |
Tint | 0 |
ToneCurve | 0, 0, 32, 22, 64, 56, 128, 128, 192, 196, 255, 255 |
ToneCurveName | Medium Contrast |
Version | 1.0 |
Vibrance | +32 |
VignetteAmount | -6 |
VignetteMidpoint | 53 |
WhiteBalance (2) | Auto |
WhiteBalance | Manual |