Felt | Verdi |
AlreadyApplied | True |
Aperture | 4.2 |
ApertureValue | 4.2 |
BitsPerSample | 8 |
BlueHue | -9 |
BlueSaturation | -13 |
Brightness | +56 |
CameraProfile | ACR 4.1 |
CFAPattern | [Green,Blue][Red,Green] |
ChromaticAberrationB | 0 |
ChromaticAberrationR | 0 |
CircleOfConfusion | 0.020 mm |
Clarity | 0 |
ColorComponents | 3 |
ColorMode | RGB |
ColorNoiseReduction | 25 |
ColorSpace (1) | Unknown (-1) |
ColorSpace | Uncalibrated |
ColorTemperature | 8800 |
Contrast (2) | +64 |
Contrast | Normal |
ConvertToGrayscale | False |
CopyrightFlag | False |
CreateDate (1) | 2008:05:27 17:14:46+02:00 |
CreateDate | 2008:05:24 13:06:11 |
CreatorTool | Adobe Photoshop CS3 Windows |
CustomRendered | Normal |
DateTimeDigitized | 2008:05:24 13:06:11.30+02:00 |
DateTimeOriginal (1) | 2008:05:24 13:06:11.30+02:00 |
DateTimeOriginal | 2008:05:24 13:06:11 |
Defringe | 0 |
DigitalZoomRatio | 1 |
ExifImageHeight | 768 |
ExifImageWidth | 514 |
Exposure | +0.05 |
ExposureCompensation | +10/3 |
ExposureMode | Manual |
ExposureProgram | Manual |
ExposureTime | 1/640 |
FillLight | 0 |
Flash | No Flash |
FlashFired | False |
FlashFunction | False |
FlashMode | Unknown |
FlashRedEyeMode | False |
FlashReturn | No return detection |
FNumber | 4.2 |
FocalLength | 30.0 mm |
FocalLength35efl | 30.0 mm (35 mm equivalent: 45.0 mm) |
FocalLengthIn35mmFormat | 45 mm |
Format | image/jpeg |
FOV | 43.6 deg |
GainControl | Low gain up |
GreenHue | +26 |
GreenSaturation | -33 |
HasCrop | False |
HasSettings | True |
HighlightRecovery | 0 |
HueAdjustmentAqua | +2 |
HueAdjustmentBlue | +3 |
HueAdjustmentGreen | -51 |
HueAdjustmentMagenta | 0 |
HueAdjustmentOrange | -6 |
HueAdjustmentPurple | 0 |
HueAdjustmentRed | -61 |
HueAdjustmentYellow | -48 |
HyperfocalDistance | 10.70 m |
ICCProfileName | Adobe RGB (1998) |
ImageHeight | 768 |
ImageNumber | 10355 |
ImageSize | 514x768 |
ImageWidth | 514 |
ISO | 800 |
Lens | 18.0-55.0 mm f/3.5-5.6 |
LensInfo | 18-55mm f/3.5-5.6 |
LightSource | Unknown |
LightValue | 10.5 |
LuminanceAdjustmentAqua | -6 |
LuminanceAdjustmentBlue | +83 |
LuminanceAdjustmentGreen | -52 |
LuminanceAdjustmentMagenta | 0 |
LuminanceAdjustmentOrange | +8 |
LuminanceAdjustmentPurple | +3 |
LuminanceAdjustmentRed | +31 |
LuminanceAdjustmentYellow | 0 |
LuminanceSmoothing | 0 |
Make | NIKON CORPORATION |
MaxApertureValue | 4.1 |
Megapixels | 0.395 |
MeteringMode | Center-weighted average |
Model | NIKON D40X |
ModifyDate (1) | 2008:05:27 17:14:46+02:00 |
ModifyDate | 2008:05:27 17:14:46 |
Orientation | Horizontal (normal) |
ParametricDarks | +9 |
ParametricHighlights | -12 |
ParametricHighlightSplit | 75 |
ParametricLights | +13 |
ParametricMidtoneSplit | 50 |
ParametricShadows | +19 |
ParametricShadowSplit | 25 |
ProfileDescription | Adobe RGB (1998) |
Rating | 0 |
RawFileName | DSC_0030 (3).NEF |
RedHue | 0 |
RedSaturation | +10 |
Saturation (2) | -29 |
Saturation | Normal |
SaturationAdjustmentAqua | +92 |
SaturationAdjustmentBlue | 0 |
SaturationAdjustmentGreen | -21 |
SaturationAdjustmentMagenta | +41 |
SaturationAdjustmentOrange | 0 |
SaturationAdjustmentPurple | +86 |
SaturationAdjustmentRed | +41 |
SaturationAdjustmentYellow | -27 |
ScaleFactor35efl | 1.5 |
SceneCaptureType | Standard |
SceneType | Directly photographed |
SensingMethod | One-chip color area |
SerialNumber | 6015085 |
Shadows | 7 |
ShadowTint | +14 |
SharpenDetail | 25 |
SharpenEdgeMasking | 0 |
SharpenRadius | +1.0 |
Sharpness (2) | 25 |
Sharpness | Normal |
ShutterSpeed | 1/640 |
ShutterSpeedValue | 1/640 |
SidecarForExtension | NEF |
Software | Adobe Photoshop CS3 Windows |
SplitToningBalance | 0 |
SplitToningHighlightHue | 47 |
SplitToningHighlightSaturation | 21 |
SplitToningShadowHue | 20 |
SplitToningShadowSaturation | 7 |
SubjectDistanceRange | Unknown |
Tint | +16 |
ToneCurve | 0, 0, 32, 22, 64, 56, 128, 128, 192, 196, 255, 255 |
ToneCurveName | Medium Contrast |
URL_List | |
Version | 4.3.1 |
Vibrance | -23 |
VignetteAmount | -67 |
VignetteMidpoint | 22 |
WhiteBalance (2) | Custom |
WhiteBalance | Auto |