Felt | Verdi |
AlreadyApplied | True |
Aperture | 7.1 |
ApertureValue | 7.1 |
Artist | Tor Håkon Haugen |
BitsPerSample | 8 |
BlueHue | 0 |
BlueSaturation | 0 |
Brightness | +50 |
By-line | Tor Håkon Haugen |
CameraProfile | ACR 4.4 |
Caption-Abstract | I knew that this photograph would be great in BW even before I took it. |
ChromaticAberrationB | 0 |
ChromaticAberrationR | 0 |
CircleOfConfusion | 0.019 mm |
Clarity | 0 |
ColorComponents | 1 |
ColorMode | RGB |
ColorNoiseReduction | 25 |
ColorSpace | sRGB |
ColorTemperature | 4800 |
Contrast | +25 |
ConvertToGrayscale | True |
Copyright | Copyright - Tor Håkon Haugen |
CopyrightFlag | True |
CopyrightNotice | Copyright - Tor Håkon Haugen |
CreateDate (1) | 2008:08:06 01:14:25+02:00 |
CreateDate | 2008:08:04 19:59:31 |
Creator | Tor Håkon Haugen |
CreatorAddress | Asparsletta 52 |
CreatorCountry | Førresfjorden |
CreatorPostalCode | 5563 |
CreatorTool | Adobe Photoshop CS3 Windows |
CreatorWorkEmail | tor.hakon.haugen@gmail.com |
CustomRendered | Normal |
DateTimeDigitized | 2008:08:04 19:59:31+02:00 |
DateTimeOriginal (1) | 2008:08:04 19:59:31+02:00 |
DateTimeOriginal | 2008:08:04 19:59:31 |
Defringe | 0 |
DerivedFrom | |
Description | I knew that this photograph would be great in BW even before I took it. |
ExifImageHeight | 600 |
ExifImageWidth | 900 |
Exposure | +0.20 |
ExposureCompensation | 0 |
ExposureMode | Auto |
ExposureProgram | Program AE |
ExposureTime | 1/100 |
FillLight | 8 |
Firmware | 1.0.3 |
Flash | Off, Did not fire |
FlashCompensation | -0.666666666666667 |
FlashFired | False |
FlashFunction | False |
FlashMode | Off |
FlashRedEyeMode | False |
FlashReturn | No return detection |
FNumber | 7.1 |
FocalLength | 17.0 mm |
FocalLength35efl | 17.0 mm (35 mm equivalent: 27.6 mm) |
Format | image/jpeg |
FOV | 66.3 deg |
GrayMixerAqua | -48 |
GrayMixerBlue | -100 |
GrayMixerGreen | -21 |
GrayMixerMagenta | -100 |
GrayMixerOrange | -14 |
GrayMixerPurple | -90 |
GrayMixerRed | +62 |
GrayMixerYellow | -43 |
GreenHue | 0 |
GreenSaturation | 0 |
HasCrop | False |
HasSettings | True |
HighlightRecovery | 27 |
HyperfocalDistance | 2.20 m |
ICCProfileName | sRGB IEC61966-2.1 |
ImageDescription | I knew that this photograph would be great in BW even before I took it. |
ImageHeight | 600 |
ImageNumber | 201 |
ImageSize | 900x600 |
ImageWidth | 900 |
ISO | 100 |
Keywords | Animal, Black & White, Dog, Light, Shadow, Staring |
Lens | 17.0-40.0 mm |
LensInfo | 17-40mm f/? |
LightValue | 12.3 |
LuminanceSmoothing | 0 |
Make | Canon |
Marked | True |
Megapixels | 0.540 |
MeteringMode | Multi-segment |
Model | Canon EOS 350D DIGITAL |
ModifyDate (1) | 2008:08:06 01:14:25+02:00 |
ModifyDate | 2008:08:06 01:14:25 |
ObjectName | The Gaze |
Orientation | Horizontal (normal) |
OwnerName | unknown |
ParametricDarks | -7 |
ParametricHighlights | +11 |
ParametricHighlightSplit | 75 |
ParametricLights | +7 |
ParametricMidtoneSplit | 50 |
ParametricShadows | 0 |
ParametricShadowSplit | 25 |
PostCropVignetteAmount | 0 |
ProfileDescription | sRGB IEC61966-2.1 |
Rating | 5 |
RedHue | 0 |
RedSaturation | 0 |
Rights | Copyright - Tor Håkon Haugen |
ScaleFactor35efl | 1.6 |
SceneCaptureType | Standard |
SerialNumber | 1830703648 |
Shadows | 18 |
ShadowTint | 0 |
SharpenDetail | 25 |
SharpenEdgeMasking | 0 |
SharpenRadius | +1.0 |
Sharpness | 25 |
ShutterSpeed | 1/100 |
ShutterSpeedValue | 1/100 |
Software | Adobe Photoshop CS3 Windows |
SplitToningBalance | 0 |
SplitToningHighlightHue | 0 |
SplitToningHighlightSaturation | 0 |
SplitToningShadowHue | 0 |
SplitToningShadowSaturation | 0 |
Subject | Animal, Black & White, Dog, Light, Shadow, Staring |
Tint | 0 |
Title | The Gaze |
ToneCurve | 0, 0, 32, 22, 64, 56, 128, 128, 192, 196, 255, 255 |
ToneCurveName | Medium Contrast |
URL_List | |
Version | 4.5 |
VignetteAmount | 0 |
WhiteBalance (2) | As Shot |
WhiteBalance | Auto |