Felt | Verdi |
AlreadyApplied | True |
Aperture | 10.0 |
ApertureValue | 10.0 |
BitsPerSample | 8 |
BlueHue | 0 |
BlueSaturation | 0 |
Brightness | +50 |
CameraProfile | Camera Landscape |
CFAPattern | [Red,Green][Green,Blue] |
ChromaticAberrationB | 0 |
ChromaticAberrationR | 0 |
CircleOfConfusion | 0.030 mm |
Clarity | +5 |
ColorComponents | 1 |
ColorNoiseReduction | 25 |
ColorTemperature | 6050 |
Contrast (2) | +25 |
Contrast | Normal |
ConvertToGrayscale | True |
CreateDate (1) | 2009:06:26 14:46:30.72+02:00 |
CreateDate | 2009:06:26 14:46:30 |
CreatorTool | Adobe Photoshop Lightroom |
CropAngle | -0.80287 |
CropBottom | 0.693128 |
CropHeight | 2347 |
CropLeft | 0.257153 |
CropRight | 0.938614 |
CropTop | 0.125322 |
CropUnit | pixels |
CropWidth | 4089 |
CustomRendered | Normal |
DateTimeDigitized | 2009:06:26 14:46:30.72+02:00 |
DateTimeOriginal (1) | 2009:06:26 14:46:30.72+02:00 |
DateTimeOriginal | 2009:06:26 14:46:30 |
Defringe | 0 |
DigitalZoomRatio | 1 |
ExifImageHeight | 2347 |
ExifImageWidth | 4089 |
Exposure | +1.32 |
ExposureCompensation | -2/3 |
ExposureMode | Auto |
ExposureProgram | Aperture-priority AE |
ExposureTime | 1/320 |
FillLight | 0 |
Flash | No Flash |
FlashFired | False |
FlashFunction | False |
FlashMode | Unknown |
FlashRedEyeMode | False |
FlashReturn | No return detection |
FNumber | 10.0 |
FocalLength | 35.0 mm |
FocalLength35efl | 35.0 mm (35 mm equivalent: 35.0 mm) |
FocalLengthIn35mmFormat | 35 mm |
FOV | 54.4 deg |
GainControl | None |
GrayMixerAqua | -19 |
GrayMixerBlue | +9 |
GrayMixerGreen | -27 |
GrayMixerMagenta | +4 |
GrayMixerOrange | -19 |
GrayMixerPurple | +16 |
GrayMixerRed | -9 |
GrayMixerYellow | -23 |
GreenHue | 0 |
GreenSaturation | 0 |
HasCrop | True |
HasSettings | True |
HighlightRecovery | 0 |
HyperfocalDistance | 4.08 m |
ImageHeight | 2347 |
ImageNumber | 4334 |
ImageSize | 4089x2347 |
ImageWidth | 4089 |
ISO | 200 |
Keywords | Europa, Nord-Europa, Norden, Norge, Skandinavia, svalbard |
Lens | 17.0-35.0 mm f/2.8 |
LensInfo | 17-35mm f/2.8 |
LightSource | Unknown |
LightValue | 14.0 |
LuminanceSmoothing | 0 |
Make | NIKON CORPORATION |
MaxApertureValue | 2.8 |
Megapixels | 9.6 |
MeteringMode | Multi-segment |
Model | NIKON D3X |
ModifyDate (1) | 2009:12:12 20:05:43+01:00 |
ModifyDate | 2009:12:12 20:05:43 |
ParametricDarks | +43 |
ParametricHighlights | -57 |
ParametricHighlightSplit | 75 |
ParametricLights | -10 |
ParametricMidtoneSplit | 50 |
ParametricShadows | +43 |
ParametricShadowSplit | 25 |
PostCropVignetteAmount | 0 |
ProfileDescription | sRGB IEC61966-2.1 |
RedHue | 0 |
RedSaturation | 0 |
Saturation | Normal |
ScaleFactor35efl | 1.0 |
SceneCaptureType | Standard |
SceneType | Directly photographed |
SensingMethod | One-chip color area |
SerialNumber | 5005286 |
Shadows | 21 |
ShadowTint | 0 |
SharpenDetail | 50 |
SharpenEdgeMasking | 0 |
SharpenRadius | +0.8 |
Sharpness (2) | 40 |
Sharpness | Normal |
ShutterSpeed | 1/320 |
ShutterSpeedValue | 1/320 |
Software | Ver.1.00 |
SplitToningBalance | 0 |
SplitToningHighlightHue | 0 |
SplitToningHighlightSaturation | 0 |
SplitToningShadowHue | 0 |
SplitToningShadowSaturation | 0 |
Subject | Europa, Nord-Europa, Norden, Norge, Skandinavia, svalbard |
SubjectDistanceRange | Unknown |
Tint | +5 |
ToneCurve | 0, 0, 32, 22, 64, 56, 128, 128, 192, 196, 255, 255 |
ToneCurveName | Medium Contrast |
Version | 5.5 |
VignetteAmount | 0 |
WhiteBalance (2) | As Shot |
WhiteBalance | Auto |