Felt | Verdi |
AlreadyApplied | True |
Aperture | 8.0 |
ApertureValue | 8.0 |
BitsPerSample | 8 |
BlueHue | 0 |
BlueSaturation | 0 |
Brightness | 0 |
By-line | Robin Strand |
CameraProfile | Embedded |
Caption-Abstract | Tur til Egypt 2010 |
CFAPattern | [Red,Green][Green,Blue] |
ChromaticAberrationB | 0 |
ChromaticAberrationR | 0 |
CircleOfConfusion | 0.020 mm |
Clarity | +41 |
ColorComponents | 3 |
ColorNoiseReduction | 0 |
Contrast (2) | 0 |
Contrast | Normal |
ConvertToGrayscale | False |
Copyright | ROBIN STRAND / NORPHOTO AS |
CopyrightFlag | True |
CopyrightNotice | ROBIN STRAND / NORPHOTO AS |
Country | Norway |
Country-PrimaryLocationName | Norway |
CreateDate (1) | 2010:03:28 16:41:31.16+02:00 |
CreateDate | 2010:03:28 16:41:31 |
Creator | Robin Strand |
CreatorAddress | Porsveien 23 |
CreatorCity | Bergen |
CreatorCountry | Norway |
CreatorPostalCode | 5142 |
CreatorRegion | Fyllingsdalen |
CreatorTool | Adobe Photoshop Lightroom |
CreatorWorkEmail | robinstrand56@gmail.com |
CreatorWorkTelephone | 0047 90764724 |
CreatorWorkURL | www.norphoto.no and http://norphoto.smugmug.com |
CustomRendered | Normal |
DateTimeDigitized | 2010:03:28 16:41:31.16+02:00 |
DateTimeOriginal (1) | 2010:03:28 16:41:31.16+02:00 |
DateTimeOriginal | 2010:03:28 16:41:31 |
Defringe | 0 |
Description | Tur til Egypt 2010 |
DigitalZoomRatio | 1 |
DOF | 1.00 m (0.53 - 1.53 m) |
ExifImageHeight | 700 |
ExifImageWidth | 465 |
Exposure | -0.22 |
ExposureCompensation | +1 |
ExposureMode | Auto |
ExposureProgram | Aperture-priority AE |
ExposureTime | 1/160 |
FillLight | 0 |
Flash | No Flash |
FlashFired | False |
FlashFunction | False |
FlashMode | Unknown |
FlashRedEyeMode | False |
FlashReturn | No return detection |
FNumber | 8.0 |
FocalLength | 16.0 mm |
FocalLength35efl | 16.0 mm (35 mm equivalent: 24.0 mm) |
FocalLengthIn35mmFormat | 24 mm |
FOV | 73.7 deg |
GainControl | None |
GreenHue | 0 |
GreenSaturation | 0 |
HasCrop | False |
HasSettings | True |
HighlightRecovery | 0 |
HueAdjustmentAqua | 0 |
HueAdjustmentBlue | 0 |
HueAdjustmentGreen | 0 |
HueAdjustmentMagenta | 0 |
HueAdjustmentOrange | 0 |
HueAdjustmentPurple | 0 |
HueAdjustmentRed | 0 |
HueAdjustmentYellow | 0 |
HyperfocalDistance | 1.60 m |
ImageDescription | Tur til Egypt 2010 |
ImageHeight | 700 |
ImageNumber | 17652 |
ImageSize | 465x700 |
ImageWidth | 465 |
IncrementalTemperature | +3 |
IncrementalTint | 0 |
ISO | 200 |
Keywords | africa, afrika, båttur på nilen, egypt, elvecruise, fallukka, falukka, ferie, ferietur, fuglesafari, nilen, påske, påskeferie, syden, sydentur, vacation |
Label | Nilcruise |
Lens | 16.0-85.0 mm f/3.5-5.6 |
LensID (1) | 153 |
LensID | AF-S DX VR Zoom-Nikkor 16-85mm f/3.5-5.6G ED |
LensInfo | 16-85mm f/3.5-5.6 |
LightSource | Unknown |
LightValue | 12.3 |
LuminanceAdjustmentAqua | 0 |
LuminanceAdjustmentBlue | 0 |
LuminanceAdjustmentGreen | 0 |
LuminanceAdjustmentMagenta | 0 |
LuminanceAdjustmentOrange | 0 |
LuminanceAdjustmentPurple | 0 |
LuminanceAdjustmentRed | 0 |
LuminanceAdjustmentYellow | 0 |
LuminanceSmoothing | 0 |
Make | NIKON CORPORATION |
Marked | True |
MaxApertureValue | 3.5 |
Megapixels | 0.326 |
MeteringMode | Multi-segment |
Model | NIKON D300 |
ModifyDate (1) | 2010:04:12 02:40:29+02:00 |
ModifyDate | 2010:04:12 02:40:29 |
ParametricDarks | 0 |
ParametricHighlights | 0 |
ParametricHighlightSplit | 75 |
ParametricLights | 0 |
ParametricMidtoneSplit | 50 |
ParametricShadows | 0 |
ParametricShadowSplit | 25 |
PostCropVignetteAmount | 0 |
ProfileDescription | sRGB IEC61966-2.1 |
Rating | 5 |
RedHue | 0 |
RedSaturation | 0 |
Rights | ROBIN STRAND / NORPHOTO AS |
Saturation (2) | +5 |
Saturation | High |
SaturationAdjustmentAqua | 0 |
SaturationAdjustmentBlue | 0 |
SaturationAdjustmentGreen | 0 |
SaturationAdjustmentMagenta | 0 |
SaturationAdjustmentOrange | 0 |
SaturationAdjustmentPurple | 0 |
SaturationAdjustmentRed | 0 |
SaturationAdjustmentYellow | 0 |
ScaleFactor35efl | 1.5 |
SceneCaptureType | Standard |
SceneType | Directly photographed |
SensingMethod | One-chip color area |
SerialNumber | 4032929 |
Shadows | 5 |
ShadowTint | 0 |
SharpenDetail | 25 |
SharpenEdgeMasking | 0 |
SharpenRadius | +1.0 |
Sharpness (2) | 0 |
Sharpness | Normal |
ShutterSpeed | 1/160 |
ShutterSpeedValue | 1/160 |
Software | Ver.1.10 |
SplitToningBalance | 0 |
SplitToningHighlightHue | 0 |
SplitToningHighlightSaturation | 0 |
SplitToningShadowHue | 0 |
SplitToningShadowSaturation | 0 |
Subject | africa, afrika, båttur på nilen, egypt, elvecruise, fallukka, falukka, ferie, ferietur, fuglesafari, nilen, påske, påskeferie, syden, sydentur, vacation |
SubjectDistance | 0.79 m |
SubjectDistanceRange | Unknown |
ToneCurve | 0, 0, 255, 255 |
ToneCurveName | Linear |
UsageTerms | Single time use unless otherwise stated |
Version | 5.6 |
Vibrance | +27 |
VignetteAmount | 0 |
WhiteBalance (2) | Custom |
WhiteBalance | Auto |