Felt | Verdi |
AlreadyApplied | True |
Aperture | 22.0 |
ApertureValue | 22.0 |
BitsPerSample | 8 |
BlueHue | 0 |
BlueSaturation | 0 |
Brightness | 0 |
By-line | Torbj¿rn Nilsen |
CameraProfile | Embedded |
ChromaticAberrationB | 0 |
ChromaticAberrationR | 0 |
CircleOfConfusion | 0.030 mm |
City | Lakselv |
Clarity | +80 |
ColorComponents | 3 |
ColorNoiseReduction | 0 |
Contrast (2) | +14 |
Contrast | Normal |
ConvertToGrayscale | False |
Copyright | Torbjorn Nilsen |
CopyrightNotice | Torbj¿rn Nilsen |
Country | Norway |
Country-PrimaryLocationName | Norway |
CreateDate (1) | 2010:04:14 10:37:12.16+02:00 |
CreateDate | 2010:04:14 10:37:12 |
Creator | Torbjørn Nilsen |
CreatorAddress | Ulveveien 12 A |
CreatorCity | Lakselv |
CreatorCountry | Norge |
CreatorPostalCode | 9711 |
CreatorRegion | Finnmark |
CreatorTool | Adobe Photoshop Lightroom |
CreatorWorkEmail | t-nilsen@live.no |
CreatorWorkTelephone | 47 99554722 |
CreatorWorkURL | web.me.com/t.nilsen |
CropAngle | 0 |
CropBottom | 1 |
CropHeight | 2128 |
CropLeft | 0.043557 |
CropRight | 1 |
CropTop | 0 |
CropUnit | pixels |
CropWidth | 1354 |
CustomRendered | Normal |
DateTimeDigitized | 2010:04:14 10:37:12.16+02:00 |
DateTimeOriginal (1) | 2010:04:14 10:37:12.16+02:00 |
DateTimeOriginal | 2010:04:14 10:37:12 |
Defringe | 0 |
DigitalZoomRatio | 1 |
ExifImageHeight | 2128 |
ExifImageWidth | 1354 |
Exposure | 0.00 |
ExposureCompensation | 0 |
ExposureMode | Manual |
ExposureProgram | Manual |
ExposureTime | 0.4 |
FillLight | 0 |
Flash | No Flash |
FlashFired | False |
FlashFunction | False |
FlashMode | Unknown |
FlashRedEyeMode | False |
FlashReturn | No return detection |
FNumber | 22.0 |
FocalLength | 34.0 mm |
FocalLength35efl | 34.0 mm (35 mm equivalent: 34.0 mm) |
FocalLengthIn35mmFormat | 34 mm |
FOV | 55.8 deg |
GainControl | None |
GreenHue | 0 |
GreenSaturation | 0 |
HasCrop | True |
HasSettings | True |
HighlightRecovery | 0 |
HueAdjustmentAqua | 0 |
HueAdjustmentBlue | 0 |
HueAdjustmentGreen | 0 |
HueAdjustmentMagenta | 0 |
HueAdjustmentOrange | 0 |
HueAdjustmentPurple | 0 |
HueAdjustmentRed | 0 |
HueAdjustmentYellow | 0 |
HyperfocalDistance | 1.75 m |
ImageHeight | 2128 |
ImageSize | 1354x2128 |
ImageWidth | 1354 |
IncrementalTemperature | 0 |
IncrementalTint | 0 |
Instructions | mmR4OXqISDqvTNt5GUyYeA |
ISO | 100 |
Keywords | Rappafossen |
LightSource | Cloudy |
LightValue | 10.2 |
Location | Rappafossen |
LuminanceAdjustmentAqua | 0 |
LuminanceAdjustmentBlue | 0 |
LuminanceAdjustmentGreen | 0 |
LuminanceAdjustmentMagenta | 0 |
LuminanceAdjustmentOrange | 0 |
LuminanceAdjustmentPurple | 0 |
LuminanceAdjustmentRed | 0 |
LuminanceAdjustmentYellow | 0 |
LuminanceSmoothing | 0 |
Make | NIKON CORPORATION |
MaxApertureValue | 2.8 |
Megapixels | 2.9 |
MeteringMode | Center-weighted average |
Model | NIKON D700 |
ModifyDate (1) | 2010:05:28 18:42:27+02:00 |
ModifyDate | 2010:05:28 18:42:27 |
ParametricDarks | 0 |
ParametricHighlights | 0 |
ParametricHighlightSplit | 75 |
ParametricLights | 0 |
ParametricMidtoneSplit | 50 |
ParametricShadows | 0 |
ParametricShadowSplit | 25 |
PostCropVignetteAmount | 0 |
ProfileDescription | sRGB IEC61966-2.1 |
Province-State | Finnmark |
RedHue | 0 |
RedSaturation | 0 |
Rights | Torbjørn Nilsen |
Saturation (2) | 0 |
Saturation | Normal |
SaturationAdjustmentAqua | 0 |
SaturationAdjustmentBlue | 0 |
SaturationAdjustmentGreen | 0 |
SaturationAdjustmentMagenta | 0 |
SaturationAdjustmentOrange | 0 |
SaturationAdjustmentPurple | 0 |
SaturationAdjustmentRed | 0 |
SaturationAdjustmentYellow | 0 |
ScaleFactor35efl | 1.0 |
SceneCaptureType | Standard |
SensingMethod | One-chip color area |
Shadows | 22 |
ShadowTint | 0 |
SharpenDetail | 25 |
SharpenEdgeMasking | 0 |
SharpenRadius | +1.0 |
Sharpness (2) | 0 |
Sharpness | Normal |
ShutterSpeed | 0.4 |
ShutterSpeedValue | 0.4 |
Software | Aperture 3.0.3 |
SpecialInstructions | mmR4OXqISDqvTNt5GUyYeA |
SplitToningBalance | 0 |
SplitToningHighlightHue | 0 |
SplitToningHighlightSaturation | 0 |
SplitToningShadowHue | 0 |
SplitToningShadowSaturation | 0 |
State | Finnmark |
Sub-location | Rappafossen |
Subject | Rappafossen |
SubjectDistanceRange | Unknown |
ToneCurve | 0, 0, 255, 255 |
ToneCurveName | Linear |
Version | 5.6 |
Vibrance | +5 |
VignetteAmount | 0 |
WhiteBalance (2) | As Shot |
WhiteBalance | Manual |