Felt | Verdi |
AlreadyApplied | True |
Aperture | 8.0 |
ApertureValue | 8.0 |
ApproximateFocusDistance | 4.83 |
BitsPerSample | 8 |
BlueHue | 0 |
BlueSaturation | 0 |
Brightness | +50 |
CameraProfile | Adobe Standard |
ChromaticAberrationB | 0 |
ChromaticAberrationR | 0 |
CircleOfConfusion | 0.006 mm |
Clarity | +10 |
ColorComponents | 1 |
ColorNoiseReduction | 30 |
ColorTemperature | 5300 |
Contrast | +25 |
ConvertToGrayscale | True |
CreateDate (1) | 2010:09:08 10:20:32+02:00 |
CreateDate | 2010:09:08 10:20:32 |
CreatorTool | Adobe Photoshop Lightroom |
CropAngle | 0 |
CropBottom | 1 |
CropConstrainToWarp | 0 |
CropHeight | 900 |
CropLeft | 0.099669 |
CropRight | 0.849669 |
CropTop | 0 |
CropUnit | pixels |
CropWidth | 900 |
CustomRendered | Normal |
DateTimeDigitized | 2010:09:08 10:20:32+02:00 |
DateTimeOriginal (1) | 2010:09:08 10:20:32+02:00 |
DateTimeOriginal | 2010:09:08 10:20:32 |
Defringe | 0 |
DigitalZoomRatio | 1 |
DOF | inf (2.29 m - inf) |
ExifImageHeight | 900 |
ExifImageWidth | 900 |
Exposure | -0.20 |
ExposureCompensation | 0 |
ExposureMode | Auto |
ExposureTime | 1/500 |
FillLight | 0 |
Firmware | 1.01 |
Flash | Off, Did not fire |
FlashCompensation | 0 |
FlashFired | False |
FlashFunction | False |
FlashMode | Off |
FlashRedEyeMode | False |
FlashReturn | No return detection |
FNumber | 8.0 |
FocalLength | 15.0 mm |
FocalLength35efl | 15.0 mm (35 mm equivalent: 69.9 mm) |
FOV | 28.9 deg |
GrainAmount | 0 |
GrayMixerAqua | -19 |
GrayMixerBlue | +9 |
GrayMixerGreen | -27 |
GrayMixerMagenta | +4 |
GrayMixerOrange | -18 |
GrayMixerPurple | +15 |
GrayMixerRed | -9 |
GrayMixerYellow | -22 |
GreenHue | 0 |
GreenSaturation | 0 |
HasCrop | True |
HasSettings | True |
HighlightRecovery | 0 |
HyperfocalDistance | 4.35 m |
ImageHeight | 900 |
ImageSize | 900x900 |
ImageWidth | 900 |
ISO | 80 |
Lens | 6.0-22.5 mm |
LensInfo | 6-22.5mm f/? |
LensManualDistortionAmount | 0 |
LensModel | 6.0-22.5 mm |
LensProfileChromaticAberrationScale | 100 |
LensProfileDistortionScale | 80 |
LensProfileEnable | 1 |
LensProfileFilename | Canon PowerShot S90 - RAW.lcp |
LensProfileName | Adobe (Canon PowerShot S90) |
LensProfileSetup | Custom |
LensProfileVignettingScale | 80 |
LightValue | 15.3 |
LuminanceSmoothing | 45 |
Make | Canon |
MaxApertureValue | 4.0 |
Megapixels | 0.810 |
MeteringMode | Multi-segment |
Model | Canon PowerShot S90 |
ModifyDate (1) | 2010:09:08 10:50:15+02:00 |
ModifyDate | 2010:09:08 10:50:15 |
ParametricDarks | -1 |
ParametricHighlights | 0 |
ParametricHighlightSplit | 75 |
ParametricLights | 0 |
ParametricMidtoneSplit | 50 |
ParametricShadows | 0 |
ParametricShadowSplit | 25 |
PerspectiveHorizontal | 0 |
PerspectiveRotate | 0.0 |
PerspectiveScale | 100 |
PerspectiveVertical | 0 |
PostCropVignetteAmount | 0 |
ProcessVersion | 5.0 |
ProfileDescription | sRGB IEC61966-2.1 |
Rating | 3 |
RedHue | 0 |
RedSaturation | 0 |
ScaleFactor35efl | 4.7 |
SceneCaptureType | Standard |
SensingMethod | One-chip color area |
SensitivityType | Unknown |
Shadows | 15 |
ShadowTint | 0 |
SharpenDetail | 25 |
SharpenEdgeMasking | 0 |
SharpenRadius | +1.0 |
Sharpness | 41 |
ShutterSpeed | 1/500 |
ShutterSpeedValue | 1/500 |
SplitToningBalance | 0 |
SplitToningHighlightHue | 0 |
SplitToningHighlightSaturation | 0 |
SplitToningShadowHue | 0 |
SplitToningShadowSaturation | 0 |
SubjectDistance | 4.83 m |
Tint | +14 |
ToneCurve | 0, 0, 32, 16, 64, 50, 128, 128, 192, 202, 255, 255 |
ToneCurveName | Strong Contrast |
Version | 6.2 |
VignetteAmount | 0 |
WhiteBalance (2) | As Shot |
WhiteBalance | Auto |