Felt | Verdi |
AlreadyApplied | True |
Aperture | 2.8 |
ApertureValue | 2.8 |
ApproximateFocusDistance | 0.23 |
BitsPerSample | 8 |
BlueHue | 0 |
BlueSaturation | 0 |
Brightness | +50 |
By-line | John Arne Imenes |
CameraProfile | Camera Standard |
ChromaticAberrationB | 0 |
ChromaticAberrationR | 0 |
CircleOfConfusion | 0.005 mm |
Clarity | 0 |
ColorComponents | 3 |
ColorNoiseReduction | 25 |
ColorNoiseReductionDetail | 50 |
ColorTemperature | 3050 |
Contrast | +25 |
ConvertToGrayscale | False |
Copyright | John Arne Imenes |
CopyrightNotice | John Arne Imenes |
CreateDate (1) | 2010:09:27 18:46:41+02:00 |
CreateDate | 2010:09:27 18:46:41 |
Creator | John Arne Imenes |
CreatorAddress | Skarphagaveien 87 |
CreatorCity | Nøtterøy |
CreatorCountry | Norway |
CreatorPostalCode | 3140 |
CreatorRegion | Vestfold |
CreatorTool | Adobe Photoshop Lightroom |
CreatorWorkEmail | jaibris@gmail.com |
CreatorWorkTelephone | +4747463694 |
CropAngle | 0 |
CropBottom | 0.942599 |
CropConstrainToWarp | 0 |
CropHeight | 2432 |
CropLeft | 0 |
CropRight | 1 |
CropTop | 0.053711 |
CropUnit | pixels |
CropWidth | 3648 |
CustomRendered | Normal |
DateTimeDigitized | 2010:09:27 18:46:41+02:00 |
DateTimeOriginal (1) | 2010:09:27 18:46:41+02:00 |
DateTimeOriginal | 2010:09:27 18:46:41 |
Defringe | 0 |
DigitalZoomRatio | 1 |
DOF | 0.06 m (0.20 - 0.27 m) |
ExifImageHeight | 2432 |
ExifImageWidth | 3648 |
Exposure | -0.55 |
ExposureCompensation | 0 |
ExposureMode | Auto |
ExposureTime | 1/5 |
FillLight | 0 |
Firmware | 2.01 |
Flash | Off, Did not fire |
FlashCompensation | 0 |
FlashFired | False |
FlashFunction | False |
FlashMode | Off |
FlashRedEyeMode | False |
FlashReturn | No return detection |
FNumber | 2.8 |
FocalLength | 5.0 mm |
FocalLength35efl | 5.0 mm (35 mm equivalent: 28.3 mm) |
FOV | 65.0 deg |
GPSAltitude (1) | 0 m |
GPSAltitude | 0 m Above Sea Level |
GPSAltitudeRef | Above Sea Level |
GPSLatitude (1) | 57 deg 56' 17.46" |
GPSLatitude | 57 deg 56' 17.46" N |
GPSLatitudeRef | North |
GPSLongitude (1) | 10 deg 56' 32.58" |
GPSLongitude | 10 deg 56' 32.58" E |
GPSLongitudeRef | East |
GPSPosition | 57 deg 56' 17.46" N, 10 deg 56' 32.58" E |
GPSVersionID | 0.0.2.2 |
GrainAmount | 0 |
GreenHue | 0 |
GreenSaturation | 0 |
HasCrop | True |
HasSettings | True |
HighlightRecovery | 25 |
HueAdjustmentAqua | 0 |
HueAdjustmentBlue | 0 |
HueAdjustmentGreen | 0 |
HueAdjustmentMagenta | 0 |
HueAdjustmentOrange | 0 |
HueAdjustmentPurple | 0 |
HueAdjustmentRed | 0 |
HueAdjustmentYellow | 0 |
HyperfocalDistance | 1.68 m |
ImageHeight | 2432 |
ImageSize | 3648x2432 |
ImageWidth | 3648 |
ISO | 800 |
Lens | 5.0-100.0 mm |
LensInfo | 5-100mm f/? |
LensManualDistortionAmount | 0 |
LensModel | 5.0-100.0 mm |
LensProfileEnable | 0 |
LensProfileSetup | LensDefaults |
LightValue | 2.3 |
LuminanceAdjustmentAqua | 0 |
LuminanceAdjustmentBlue | 0 |
LuminanceAdjustmentGreen | 0 |
LuminanceAdjustmentMagenta | 0 |
LuminanceAdjustmentOrange | 0 |
LuminanceAdjustmentPurple | 0 |
LuminanceAdjustmentRed | 0 |
LuminanceAdjustmentYellow | 0 |
LuminanceNoiseReductionContrast | 0 |
LuminanceNoiseReductionDetail | 50 |
LuminanceSmoothing | 24 |
Make | Canon |
Marked | True |
MaxApertureValue | 2.8 |
Megapixels | 8.9 |
MeteringMode | Multi-segment |
Model | Canon PowerShot SX1 IS |
ModifyDate (1) | 2010:09:29 16:33:15+02:00 |
ModifyDate | 2010:09:29 16:33:15 |
ParametricDarks | 0 |
ParametricHighlights | 0 |
ParametricHighlightSplit | 75 |
ParametricLights | 0 |
ParametricMidtoneSplit | 50 |
ParametricShadows | 0 |
ParametricShadowSplit | 25 |
PerspectiveHorizontal | 0 |
PerspectiveRotate | 0.0 |
PerspectiveScale | 100 |
PerspectiveVertical | 0 |
PostCropVignetteAmount | 0 |
ProcessVersion | 5.7 |
ProfileDescription | Adobe RGB (1998) |
RedHue | 0 |
RedSaturation | 0 |
Rights | John Arne Imenes |
Saturation | 0 |
SaturationAdjustmentAqua | 0 |
SaturationAdjustmentBlue | 0 |
SaturationAdjustmentGreen | 0 |
SaturationAdjustmentMagenta | 0 |
SaturationAdjustmentOrange | 0 |
SaturationAdjustmentPurple | 0 |
SaturationAdjustmentRed | 0 |
SaturationAdjustmentYellow | 0 |
ScaleFactor35efl | 5.7 |
SceneCaptureType | Standard |
SensingMethod | One-chip color area |
SensitivityType | Unknown |
Shadows | 5 |
ShadowTint | 0 |
SharpenDetail | 25 |
SharpenEdgeMasking | 0 |
SharpenRadius | +1.0 |
Sharpness | 25 |
ShutterSpeed | 1/5 |
ShutterSpeedValue | 1/5 |
Software | Picasa 3.0 |
SplitToningBalance | 0 |
SplitToningHighlightHue | 0 |
SplitToningHighlightSaturation | 0 |
SplitToningShadowHue | 0 |
SplitToningShadowSaturation | 0 |
SubjectDistance | 0.23 m |
Tint | +3 |
ToneCurve | 0, 0, 32, 22, 64, 56, 128, 128, 192, 196, 255, 255 |
ToneCurveName | Medium Contrast |
Version | 6.2 |
Vibrance | 0 |
VignetteAmount | 0 |
WhiteBalance (2) | As Shot |
WhiteBalance | Auto |