Felt | Verdi |
...847 More
2010-11-11T13:49:15+01:00 File D:\Mine Bilder\001-Norge\100_CANON\2010\20101111\20101111_1025.jpg saved
2010-11-11T13:50:08+01:00 File D:\Mine Bilder\001-Norge\100_CANON\Bilder til web\lauv_hus.jpg saved
Add To Selection From: polygon
AlreadyApplied | True |
Angle: 0°
Aperture | 5.6 |
ApertureValue | 5.6 |
As: Camera Raw
BitsPerSample | 8 |
Blacks: 6
Blending Change
Blue Hue: 0
Blue Saturation: 0
Blue: 0
Blue: 255
BlueHue | 0 |
BlueSaturation | 0 |
Bottom: 24,8 cm
Bottom: 25,12 cm
Bottom: 25,34 cm
Bottom: 27,43 cm
Brightness | +50 |
Brightness: 50
Burn Tool
Camera Profile: “Camera Portrait”
CameraProfile | Camera Portrait |
Chromatic Aberration B: 0
Chromatic Aberration R: 0
ChromaticAberrationB | 0 |
ChromaticAberrationR | 0 |
CircleOfConfusion | 0.019 mm |
Clarity | +83 |
Clarity: 83
Color Noise Detail: 50
Color Noise Reduction: 25
Color: RGB color
ColorComponents | 3 |
ColorMode | RGB |
ColorNoiseReduction | 25 |
ColorNoiseReductionDetail | 50 |
ColorSpace | Uncalibrated |
ColorTemperature | 5700 |
Contour: Contour
Contrast | +25 |
Contrast: 0%
Contrast: 25
ConvertToGrayscale | False |
CreateDate (1) | 2010:11:11 14:19:19.17+01:00 |
CreateDate | 2010:11:11 14:19:19 |
Crop
Crop Angle: 0
Crop Bottom: 0
Crop Left: 0
Crop Right: 0
Crop To: rectangle
Crop Top: 0
CustomRendered | Normal |
DateCreated (1) | 2010:11:11 |
DateCreated | 2010:11:11 14:19:19.017 |
DateTimeOriginal | 2010:11:11 14:19:19 |
Defringe | 0 |
Defringe: 0
Depth: 8 Bits/channel
Deselect
Distance: 8 pixels
Dodge Tool
Drop Shadow
Drop Shadow: drop shadow
ExifImageHeight | 725 |
ExifImageWidth | 1072 |
Exposure | -0.75 |
Exposure: -0,75
ExposureCompensation | 0 |
ExposureMode | Auto |
ExposureProgram | Aperture-priority AE |
ExposureTime | 1/125 |
Feather: 76,2 pixels
Fill Light: 0
FillLight | 0 |
Firmware | 1.1.1 |
Flash | Off, Did not fire |
FlashCompensation | 0 |
FNumber | 5.6 |
FocalLength | 50.0 mm |
FocalLength35efl | 50.0 mm (35 mm equivalent: 80.9 mm) |
Format | image/jpeg |
FOV | 25.1 deg |
Grain Amount: 0
GrainAmount | 0 |
Green Hue: 0
Green Saturation: 0
Green: 0
Green: 255
GreenHue | 0 |
GreenSaturation | 0 |
HasCrop | False |
HasSettings | True |
Hide current layer
High Pass
High Pass Radius: 1,2 pixels
HighlightRecovery | 0 |
Hue Adjust Aqua: 0
Hue Adjust Blue: 0
Hue Adjust Green: 0
Hue Adjust Magenta: 0
Hue Adjust Orange: 0
Hue Adjust Purple: 0
Hue Adjust Red: 0
Hue Adjust Yellow: 0
HueAdjustmentAqua | 0 |
HueAdjustmentBlue | 0 |
HueAdjustmentGreen | 0 |
HueAdjustmentMagenta | 0 |
HueAdjustmentOrange | 0 |
HueAdjustmentPurple | 0 |
HueAdjustmentRed | 0 |
HueAdjustmentYellow | 0 |
HyperfocalDistance | 24.05 m |
ICCProfileName | Adobe RGB (1998) |
Image Size
Image Size Resolution: 28,346 per cm
ImageHeight | 725 |
ImageNumber | 0 |
ImageSize | 1072x725 |
ImageWidth | 1072 |
In: D:\Mine Bilder\001-Norge\100_CANON\2010\20101111\
Interpolation: bicubic
ISO | 400 |
Lasso
Layer Via Copy
Left: -0,25 cm
Left: -0,29 cm
Left: 0,44 cm
Left: 4,41 cm
Lens Profile Aberration: 100
Lens Profile Distortion: 100
Lens Profile Enable: 1
Lens Profile File: “Canon EOS-1Ds Mark III (Canon EF 50mm f1.4 USM) - RAW.lcp”
Lens Profile Name: “Adobe (Canon EF 50mm f/1.4 USM)”
Lens Profile Setup: 0
Lens Profile Vignetting: 100
Lens | EF50mm f/1.4 USM |
LensID (1) | 198 |
LensID | Canon EF 50mm f/1.4 USM |
LensInfo | 50mm f/? |
LensManualDistortionAmount | 0 |
LensModel | EF50mm f/1.4 USM |
LensProfileChromaticAberrationScale | 100 |
LensProfileDistortionScale | 100 |
LensProfileEnable | 1 |
LensProfileFilename | Canon EOS-1Ds Mark III (Canon EF 50mm f1.4 USM) - RAW.lcp |
LensProfileName | Adobe (Canon EF 50mm f/1.4 USM) |
LensProfileSetup | LensDefaults |
LensProfileVignettingScale | 100 |
LightValue | 9.9 |
Local Adjustments: “”
Local Angle: 120°
Location: center
Location: inside
Luminance Adjust Aqua: 0
Luminance Adjust Blue: 0
Luminance Adjust Green: 0
Luminance Adjust Magenta: 0
Luminance Adjust Orange: 0
Luminance Adjust Purple: 0
Luminance Adjust Red: 0
Luminance Adjust Yellow: 0
Luminance Noise Reduction: 0
LuminanceAdjustmentAqua | 0 |
LuminanceAdjustmentBlue | 0 |
LuminanceAdjustmentGreen | 0 |
LuminanceAdjustmentMagenta | 0 |
LuminanceAdjustmentOrange | 0 |
LuminanceAdjustmentPurple | 0 |
LuminanceAdjustmentRed | 0 |
LuminanceAdjustmentYellow | 0 |
LuminanceSmoothing | 0 |
Make layer
Make | Canon |
Matte: none
MaxApertureValue | 1.4 |
Megapixels | 0.777 |
MeteringMode | Multi-segment |
Mode: hard light
Mode: multiply
Mode: normal
Model | Canon EOS 40D |
Model: “Canon EOS 40D”
ModifyDate (1) | 2010:11:11 13:50:08+01:00 |
ModifyDate | 2010:11:11 13:50:08 |
Name: “Linear”
New Layer
Noise: 0%
Opacity: 100%
Opacity: 49%
Open D:\Mine Bilder\001-Norge\100_CANON\2010\20101111\20101111_1025.CR2
Orientation | Horizontal (normal) |
Output Sharpen For: None
Output: Selection
Parametric Darks: 0
Parametric Highlight Split: 75
Parametric Highlights: 0
Parametric Lights: 0
Parametric Midtone Split: 50
Parametric Shadow Split: 25
Parametric Shadows: 0
ParametricDarks | 0 |
ParametricHighlights | 0 |
ParametricHighlightSplit | 75 |
ParametricLights | 0 |
ParametricMidtoneSplit | 50 |
ParametricShadows | 0 |
ParametricShadowSplit | 25 |
PerspectiveHorizontal | 0 |
PerspectiveRotate | 0.0 |
PerspectiveScale | 100 |
PerspectiveVertical | 0 |
point: 0 cm, 13,65 cm
point: 0 cm, 13,7 cm
point: 0 cm, 13,72 cm
point: 0 cm, 13,75 cm
Points: point list
Post Crop Vignetting Amount: 0
PostCropVignetteAmount | 0 |
Process Version: 84344832
ProcessVersion | 5.7 |
ProfileDescription | Adobe RGB (1998) |
Quality: 12
Rating | 0 |
RawFileName | 20101111_1025.CR2 |
Recovery: 0
Rectangular Marquee
Red Eye: “”
Red Hue: 0
Red Saturation: 0
Red: 0
Red: 255
RedHue | 0 |
RedSaturation | 0 |
Refine Edge
Refine Edge Radius: 0 pixels
Resolution: 240
Right: 36,99 cm
Right: 37,34 cm
Right: 37,53 cm
Right: 41,15 cm
Saturation Adjust Aqua: 0
Saturation Adjust Blue: 0
Saturation Adjust Green: 0
Saturation Adjust Magenta: 0
Saturation Adjust Orange: 0
Saturation Adjust Purple: 0
Saturation Adjust Red: 0
Saturation Adjust Yellow: 0
Saturation | 0 |
Saturation: 0
SaturationAdjustmentAqua | 0 |
SaturationAdjustmentBlue | 0 |
SaturationAdjustmentGreen | 0 |
SaturationAdjustmentMagenta | 0 |
SaturationAdjustmentOrange | 0 |
SaturationAdjustmentPurple | 0 |
SaturationAdjustmentRed | 0 |
SaturationAdjustmentYellow | 0 |
Save As: JPEG
Scale: 1
Scale: 333,3%
ScaleFactor35efl | 1.6 |
SceneCaptureType | Standard |
Select burn
Select dodge
SensitivityType | Unknown |
SerialNumber | 2331205749 |
Set current layer To: layer
Set Layer Styles of current layer To: layer styles
Set Selection To: none
Set Selection To: rectangle
Settings: Custom
Shadow Tint: 0
Shadows | 6 |
ShadowTint | 0 |
Sharpen Amount: 25
Sharpen Detail: 25
Sharpen Masking: 0
Sharpen Radius: 1
SharpenDetail | 25 |
SharpenEdgeMasking | 0 |
SharpenRadius | +1.0 |
Sharpness | 25 |
Shift Edge: 0%
Show current layer
ShutterSpeed | 1/125 |
ShutterSpeedValue | 1/125 |
SidecarForExtension | CR2 |
Size: 27 pixels
Smooth: 0
Software | Adobe Photoshop CS5 Windows |
Space: Adobe RGB (1998)
Split Tone Balance: 0
Split Tone Highlight Hue: 0
Split Tone Highlight Saturation: 0
Split Tone Shadow Hue: 0
Split Tone Shadow Saturation: 0
SplitToningBalance | 0 |
SplitToningHighlightHue | 0 |
SplitToningHighlightSaturation | 0 |
SplitToningShadowHue | 0 |
SplitToningShadowSaturation | 0 |
Spread: 22 pixels
Stroke
Stroke Width: 10
Stroke Width: 3
Target Height: 0 pixels
Target Resolution: 0 per cm
Target Width: 0 pixels
Tint | 0 |
Tone Curve: 0, 0, 32, 22, 64, 56, 128, 128, 192, 196, 255, 255
ToneCurve | 0, 0, 32, 22, 64, 56, 128, 128, 192, 196, 255, 255 |
ToneCurveName | Medium Contrast |
Top: -0,25 cm
Top: -0,29 cm
Top: 0,51 cm
Top: 2,92 cm
Transform Distortion: 0
Transform Horizontal: 0
Transform Rotate: 0
Transform Scale: 100
Transform Vertical: 0
URL_List | |
Version | 6.2 |
Vibrance | +43 |
Vibrance: 43
VignetteAmount | 0 |
Vignetting Amount: 0
White Balance: As Shot
WhiteBalance (1) | As Shot |
WhiteBalance | Manual |
With Anti-alias
With Constrain Proportions
With Copy
With Enabled
With layer knocks out
With Scale Styles
With Use Global Light
Without Anti-alias
Without Convert to Grayscale
Without Decontaminate Colors
Without Smart Radius