Felt | Verdi |
AlreadyApplied | True |
Aperture | 11.0 |
ApertureValue | 11.0 |
ApproximateFocusDistance | 27.3 |
Artist | Oddbjorn Messenlien |
BitsPerSample | 8 |
BlueHue | 0 |
BlueSaturation | 0 |
Brightness | +44 |
By-line | Oddbjorn Messenlien |
CameraProfile | Adobe Standard |
ChromaticAberrationB | 0 |
ChromaticAberrationR | 0 |
CircleOfConfusion | 0.019 mm |
Clarity | 0 |
ColorComponents | 3 |
ColorNoiseReduction | 56 |
ColorNoiseReductionDetail | 50 |
ColorTemperature | 6500 |
Contrast | +43 |
ConvertToGrayscale | False |
Copyright | Oddbjorn Messenlien |
CopyrightFlag | True |
CopyrightNotice | Oddbjørn Messenlien |
CreateDate (1) | 2010:11:11 15:59:52.00+01:00 |
CreateDate | 2010:11:11 15:59:52 |
Creator | Oddbjorn Messenlien |
CreatorTool | Adobe Photoshop Lightroom |
CropAngle | 0 |
CropBottom | 0.990853 |
CropConstrainToWarp | 0 |
CropHeight | 3393 |
CropLeft | 0.012195 |
CropRight | 0.993902 |
CropTop | 0.009147 |
CropUnit | pixels |
CropWidth | 5089 |
CustomRendered | Normal |
DateTimeDigitized | 2010:11:11 15:59:52.00+01:00 |
DateTimeOriginal (1) | 2010:11:11 15:59:52.00+01:00 |
DateTimeOriginal | 2010:11:11 15:59:52 |
Defringe | 0 |
DOF | inf (2.49 m - inf) |
ExifImageHeight | 3393 |
ExifImageWidth | 5089 |
Exposure | +0.16 |
ExposureCompensation | -2/3 |
ExposureMode | Auto |
ExposureProgram | Aperture-priority AE |
ExposureTime | 1/30 |
FillLight | 35 |
Firmware | 1.1.0 |
Flash | Off, Did not fire |
FlashCompensation | 0 |
FlashFired | False |
FlashFunction | False |
FlashMode | Off |
FlashRedEyeMode | False |
FlashReturn | No return detection |
FNumber | 11.0 |
FocalLength | 24.0 mm |
FocalLength35efl | 24.0 mm (35 mm equivalent: 37.7 mm) |
FOV | 51.1 deg |
GrainAmount | 0 |
GreenHue | 0 |
GreenSaturation | 0 |
HasCrop | True |
HasSettings | True |
HighlightRecovery | 15 |
HueAdjustmentAqua | 0 |
HueAdjustmentBlue | 0 |
HueAdjustmentGreen | 0 |
HueAdjustmentMagenta | 0 |
HueAdjustmentOrange | 0 |
HueAdjustmentPurple | 0 |
HueAdjustmentRed | 0 |
HueAdjustmentYellow | 0 |
HyperfocalDistance | 2.74 m |
ImageHeight | 3393 |
ImageNumber | 0 |
ImageSize | 5089x3393 |
ImageWidth | 5089 |
ISO | 1000 |
Keywords | arkitektur |
Lens | EF-S15-85mm f/3.5-5.6 IS USM |
LensID (1) | 488 |
LensID | Canon EF-S 15-85mm f/3.5-5.6 IS USM |
LensInfo | 15-85mm f/? |
LensManualDistortionAmount | 0 |
LensModel | EF-S15-85mm f/3.5-5.6 IS USM |
LensProfileEnable | 0 |
LensProfileSetup | LensDefaults |
LightValue | 8.5 |
LuminanceAdjustmentAqua | 0 |
LuminanceAdjustmentBlue | 0 |
LuminanceAdjustmentGreen | 0 |
LuminanceAdjustmentMagenta | 0 |
LuminanceAdjustmentOrange | 0 |
LuminanceAdjustmentPurple | 0 |
LuminanceAdjustmentRed | 0 |
LuminanceAdjustmentYellow | 0 |
LuminanceNoiseReductionContrast | 0 |
LuminanceNoiseReductionDetail | 50 |
LuminanceSmoothing | 52 |
Make | Canon |
Marked | True |
MaxApertureValue | 4.2 |
Megapixels | 17.3 |
MeteringMode | Multi-segment |
Model | Canon EOS 7D |
ModifyDate (1) | 2010:12:17 03:54:11+01:00 |
ModifyDate | 2010:12:17 03:54:11 |
PaintCorrectionActive | true |
PaintCorrectionAmount | 1.000000 |
PaintCorrectionBrightness (1) | -0.031000 |
PaintCorrectionBrightness | 0.113000 |
PaintCorrectionClarity | 0.000000 |
PaintCorrectionContrast (1) | 0.175000 |
PaintCorrectionContrast | 0.000000 |
PaintCorrectionExposure (1) | -0.093000 |
PaintCorrectionExposure | 0.134000 |
PaintCorrectionHue | 230.000000 |
PaintCorrectionMaskCenterWeight (17) | 0.000000 |
PaintCorrectionMaskCenterWeight | 0.400206 |
PaintCorrectionMaskFlow (16) | 1.000000 |
PaintCorrectionMaskFlow | 0.554000 |
PaintCorrectionMaskRadius (1) | 0.080325 |
PaintCorrectionMaskRadius (17) | 0.022351 |
PaintCorrectionMaskRadius (5) | 0.035892 |
PaintCorrectionMaskRadius | 0.022994 |
PaintCorrectionMaskValue (17) | 1.000000 |
PaintCorrectionMaskValue | 0.000000 |
PaintCorrectionMaskWhat | Mask/Paint |
PaintCorrectionSaturation (1) | 0.938000 |
PaintCorrectionSaturation (3) | 0.001000 |
PaintCorrectionSaturation | 0.000000 |
PaintCorrectionSharpness | 0.052000 |
PaintCorrectionWhat | Correction |
ParametricDarks | +13 |
ParametricHighlights | -38 |
ParametricHighlightSplit | 75 |
ParametricLights | +16 |
ParametricMidtoneSplit | 50 |
ParametricShadows | +20 |
ParametricShadowSplit | 25 |
PerspectiveHorizontal | 0 |
PerspectiveRotate | 0.0 |
PerspectiveScale | 100 |
PerspectiveVertical | +4 |
PostCropVignetteAmount | 0 |
ProcessVersion | 5.7 |
ProfileDescription | sRGB IEC61966-2.1 |
Rating | 5 |
RedHue | 0 |
RedSaturation | 0 |
Rights | Oddbjørn Messenlien |
Saturation | +8 |
SaturationAdjustmentAqua | 0 |
SaturationAdjustmentBlue | 0 |
SaturationAdjustmentGreen | 0 |
SaturationAdjustmentMagenta | 0 |
SaturationAdjustmentOrange | 0 |
SaturationAdjustmentPurple | 0 |
SaturationAdjustmentRed | 0 |
SaturationAdjustmentYellow | 0 |
ScaleFactor35efl | 1.6 |
SceneCaptureType | Standard |
SensitivityType | Unknown |
SerialNumber | 480408756 |
Shadows | 13 |
ShadowTint | 0 |
SharpenDetail | 44 |
SharpenEdgeMasking | 42 |
SharpenRadius | +1.2 |
Sharpness | 113 |
ShutterSpeed | 1/30 |
ShutterSpeedValue | 1/30 |
SplitToningBalance | 0 |
SplitToningHighlightHue | 0 |
SplitToningHighlightSaturation | 0 |
SplitToningShadowHue | 0 |
SplitToningShadowSaturation | 0 |
Subject | arkitektur |
SubjectDistance | 27.3 m |
Tint | +10 |
ToneCurve | 0, 0, 32, 22, 64, 56, 128, 128, 192, 196, 255, 255 |
ToneCurveName | Medium Contrast |
Version | 6.2 |
Vibrance | 0 |
VignetteAmount | 0 |
WhiteBalance (2) | Cloudy |
WhiteBalance | Auto |