Felt | Verdi |
AlreadyApplied | True |
Aperture | 1.8 |
ApertureValue | 1.8 |
BitsPerSample | 8 |
BlueHue | 0 |
BlueSaturation | +63 |
Brightness | +57 |
CameraProfile | Embedded |
ChromaticAberrationB | 0 |
ChromaticAberrationR | 0 |
CircleOfConfusion | 0.024 mm |
Clarity | +15 |
ColorComponents | 3 |
ColorMode | RGB |
ColorNoiseReduction | 25 |
ColorSpace | sRGB |
Contrast | 0 |
ConvertToGrayscale | True |
CopyrightFlag | False |
CreateDate (1) | 2011:02:22 22:05:18+01:00 |
CreateDate | 2011:01:13 19:20:29 |
CreatorTool | Adobe Photoshop CS3 Windows |
CropAngle | 0 |
CropBottom | 1 |
CropHeight | 1696 |
CropLeft | 0.016367 |
CropRight | 0.885433 |
CropTop | 0 |
CropUnit | pixels |
CropWidth | 2211 |
CustomRendered | Normal |
DateAcquired | 2011:01:13 20:09:24.285 |
DateTimeDigitized | 2011:01:13 19:20:29+01:00 |
DateTimeOriginal (1) | 2011:01:13 19:20:29+01:00 |
DateTimeOriginal | 2011:01:13 19:20:29 |
Defringe | 0 |
ExifImageHeight | 652 |
ExifImageWidth | 850 |
Exposure | +0.37 |
ExposureCompensation | 0 |
ExposureMode | Manual |
ExposureProgram | Manual |
ExposureTime | 1/125 |
FillLight | 0 |
Flash | On, Fired |
FlashFired | True |
FlashFunction | False |
FlashMode | On |
FlashRedEyeMode | False |
FlashReturn | No return detection |
FNumber | 1.8 |
FocalLength | 50.0 mm |
FocalLength35efl | 50.0 mm (35 mm equivalent: 62.4 mm) |
Format | image/jpeg |
FOV | 32.2 deg |
GrayMixerAqua | -20 |
GrayMixerBlue | +4 |
GrayMixerGreen | -22 |
GrayMixerMagenta | +5 |
GrayMixerOrange | -12 |
GrayMixerPurple | +12 |
GrayMixerRed | -4 |
GrayMixerYellow | -16 |
GreenHue | 0 |
GreenSaturation | 0 |
HasCrop | True |
HasSettings | True |
HighlightRecovery | 0 |
HyperfocalDistance | 57.70 m |
ICCProfileName | sRGB IEC61966-2.1 |
ImageHeight (1) | 1696 |
ImageHeight | 652 |
ImageSize | 850x652 |
ImageWidth (1) | 2211 |
ImageWidth | 850 |
IncrementalTemperature | +23 |
IncrementalTint | +49 |
ISO | 320 |
LightValue | 7.0 |
LuminanceSmoothing | 0 |
Make | Canon |
Megapixels | 0.554 |
MeteringMode | Multi-segment |
Model | Canon EOS-1D Mark II |
ModifyDate (1) | 2011:02:22 22:05:18+01:00 |
ModifyDate | 2011:02:22 22:05:18 |
Orientation | Horizontal (normal) |
ParametricDarks | -12 |
ParametricHighlights | 0 |
ParametricHighlightSplit | 75 |
ParametricLights | +17 |
ParametricMidtoneSplit | 50 |
ParametricShadows | -20 |
ParametricShadowSplit | 25 |
PostCropVignetteAmount | -29 |
PostCropVignetteFeather | 50 |
PostCropVignetteMidpoint | 35 |
PostCropVignetteRoundness | 0 |
ProfileDescription | sRGB IEC61966-2.1 |
RedHue | 0 |
RedSaturation | -34 |
ScaleFactor35efl | 1.2 |
SceneCaptureType | Standard |
Shadows | 8 |
ShadowTint | 0 |
SharpenDetail | 50 |
SharpenEdgeMasking | 0 |
SharpenRadius | +1.0 |
Sharpness | 25 |
ShutterSpeed | 1/125 |
ShutterSpeedValue | 1/125 |
Software | Adobe Photoshop CS3 Windows |
SplitToningBalance | 0 |
SplitToningHighlightHue | 50 |
SplitToningHighlightSaturation | 66 |
SplitToningShadowHue | 30 |
SplitToningShadowSaturation | 28 |
ToneCurve | 0, 0, 255, 255 |
ToneCurveName | Linear |
URL_List | |
Version | 5.6 |
VignetteAmount | -41 |
VignetteMidpoint | 29 |
WhiteBalance (2) | Custom |
WhiteBalance | Auto |