Felt | Verdi |
AlreadyApplied | True |
Aperture | 2.8 |
ApertureValue | 2.8 |
ApproximateFocusDistance | 3.74 |
Artist | Svein Magnus Sletvold |
BitsPerSample | 8 |
BlueHue | 0 |
BlueSaturation | 0 |
Brightness | +50 |
By-line | Svein Magnus Sletvold |
CameraProfile | Adobe Standard |
ChromaticAberrationB | 0 |
ChromaticAberrationR | 0 |
CircleOfConfusion | 0.019 mm |
Clarity | 0 |
ColorComponents | 3 |
ColorNoiseReduction | 25 |
ColorNoiseReductionDetail | 50 |
ColorTemperature | 7500 |
Contrast | +25 |
ConvertToGrayscale | False |
Copyright | Svein Magnus Sletvold |
CopyrightFlag | True |
CopyrightNotice | Svein Magnus Sletvold |
CreateDate (1) | 2010:06:12 17:31:33.73 |
CreateDate | 2010:06:12 17:31:33 |
Creator | Svein Magnus Sletvold |
CreatorTool | Adobe Photoshop Lightroom 3.4.1 |
CropAngle | 1.47718 |
CropBottom | 0.772635 |
CropConstrainToWarp | 0 |
CropHeight | 2477 |
CropLeft | 0.156824 |
CropRight | 0.882745 |
CropTop | 0.027582 |
CropUnit | pixels |
CropWidth | 3828 |
CustomRendered | Normal |
DateCreated (1) | 2010:06:12 |
DateCreated | 2010:06:12 17:31:33.73 |
DateTimeOriginal | 2010:06:12 17:31:33 |
Defringe | 0 |
DOF | 0.57 m (3.48 - 4.05 m) |
Exposure | 0.00 |
ExposureCompensation | 0 |
ExposureMode | Auto |
ExposureProgram | Aperture-priority AE |
ExposureTime | 1/3200 |
FillLight | 22 |
Firmware | 1.0.8 |
Flash | Off, Did not fire |
FlashCompensation | 0 |
FNumber | 2.8 |
FocalLength | 51.0 mm |
FocalLength35efl | 51.0 mm (35 mm equivalent: 80.2 mm) |
FOV | 25.3 deg |
GrainAmount | 0 |
GreenHue | 0 |
GreenSaturation | 0 |
HasCrop | True |
HasSettings | True |
HighlightRecovery | 0 |
HueAdjustmentAqua | 0 |
HueAdjustmentBlue | 0 |
HueAdjustmentGreen | 0 |
HueAdjustmentMagenta | 0 |
HueAdjustmentOrange | 0 |
HueAdjustmentPurple | 0 |
HueAdjustmentRed | 0 |
HueAdjustmentYellow | 0 |
HyperfocalDistance | 48.62 m |
ImageHeight | 3828 |
ImageNumber | 0 |
ImageSize | 2477x3828 |
ImageWidth | 2477 |
ISO | 100 |
Keywords | Strand, Svinevika |
Lens | EF-S17-55mm f/2.8 IS USM |
LensID (1) | 240 |
LensID | Canon EF-S 17-55mm f/2.8 IS USM |
LensInfo | 17-55mm f/? |
LensManualDistortionAmount | 0 |
LensModel | EF-S17-55mm f/2.8 IS USM |
LensProfileEnable | 0 |
LensProfileSetup | LensDefaults |
LensSerialNumber | 000003aece |
LightValue | 14.6 |
LuminanceAdjustmentAqua | 0 |
LuminanceAdjustmentBlue | 0 |
LuminanceAdjustmentGreen | 0 |
LuminanceAdjustmentMagenta | 0 |
LuminanceAdjustmentOrange | 0 |
LuminanceAdjustmentPurple | 0 |
LuminanceAdjustmentRed | 0 |
LuminanceAdjustmentYellow | 0 |
LuminanceSmoothing | 0 |
Make | Canon |
Marked | True |
MaxApertureValue | 2.8 |
Megapixels | 9.5 |
MeteringMode | Multi-segment |
Model | Canon EOS 60D |
ModifyDate (1) | 2011:06:21 22:16:49+02:00 |
ModifyDate | 2011:06:21 22:16:49 |
ParametricDarks | 0 |
ParametricHighlights | 0 |
ParametricHighlightSplit | 75 |
ParametricLights | 0 |
ParametricMidtoneSplit | 50 |
ParametricShadows | 0 |
ParametricShadowSplit | 25 |
PerspectiveHorizontal | 0 |
PerspectiveRotate | 0.0 |
PerspectiveScale | 100 |
PerspectiveVertical | 0 |
PostCropVignetteAmount | -26 |
PostCropVignetteFeather | 50 |
PostCropVignetteHighlightContrast | 0 |
PostCropVignetteMidpoint | 50 |
PostCropVignetteRoundness | 0 |
PostCropVignetteStyle | 1 |
ProcessVersion | 5.7 |
ProfileDescription | sRGB IEC61966-2.1 |
RecommendedExposureIndex | 100 |
RedHue | 0 |
RedSaturation | 0 |
Rights | Svein Magnus Sletvold |
Saturation | 0 |
SaturationAdjustmentAqua | 0 |
SaturationAdjustmentBlue | 0 |
SaturationAdjustmentGreen | 0 |
SaturationAdjustmentMagenta | 0 |
SaturationAdjustmentOrange | 0 |
SaturationAdjustmentPurple | 0 |
SaturationAdjustmentRed | 0 |
SaturationAdjustmentYellow | 0 |
ScaleFactor35efl | 1.6 |
SceneCaptureType | Standard |
SensitivityType | Recommended Exposure Index |
SerialNumber | 0680420618 |
Shadows | 15 |
ShadowTint | 0 |
SharpenDetail | 25 |
SharpenEdgeMasking | 0 |
SharpenRadius | +1.0 |
Sharpness | 25 |
ShutterSpeed | 1/3200 |
ShutterSpeedValue | 1/3200 |
Software | Adobe Photoshop Lightroom 3.4.1 |
SplitToningBalance | 0 |
SplitToningHighlightHue | 33 |
SplitToningHighlightSaturation | 20 |
SplitToningShadowHue | 33 |
SplitToningShadowSaturation | 3 |
Subject | Strand, Svinevika |
SubjectDistance | 3.74 m |
Tint | +10 |
ToneCurve | 0, 0, 32, 22, 64, 56, 128, 128, 192, 196, 255, 255 |
ToneCurveName | Medium Contrast |
Version | 6.4.1 |
Vibrance | 0 |
VignetteAmount | 0 |
WhiteBalance (1) | Shade |
WhiteBalance | Auto |