Felt | Verdi |
AlreadyApplied | True |
Aperture | 2.8 |
ApertureValue | 2.8 |
ApproximateFocusDistance | 5.29 |
Artist | Svein Magnus Sletvold |
BitsPerSample | 8 |
BlueHue | 0 |
BlueSaturation | 0 |
Brightness | +50 |
By-line | Svein Magnus Sletvold |
CameraProfile | Camera Faithful |
ChromaticAberrationB | 0 |
ChromaticAberrationR | 0 |
CircleOfConfusion | 0.019 mm |
Clarity | -15 |
ColorComponents | 3 |
ColorNoiseReduction | 16 |
ColorNoiseReductionDetail | 49 |
ColorTemperature | 7287 |
Contrast | +25 |
ConvertToGrayscale | True |
Copyright | Svein Magnus Sletvold |
CopyrightFlag | True |
CopyrightNotice | Svein Magnus Sletvold |
CreateDate (1) | 2010:06:12 17:39:20.47 |
CreateDate | 2010:06:12 17:39:20 |
Creator | Svein Magnus Sletvold |
CreatorTool | Adobe Photoshop Lightroom 3.4.1 |
CropAngle | 0 |
CropBottom | 0.725877 |
CropConstrainToWarp | 0 |
CropHeight | 1546 |
CropLeft | 0.292398 |
CropRight | 0.444444 |
CropTop | 0.278509 |
CropUnit | pixels |
CropWidth | 788 |
CustomRendered | Normal |
DateCreated (1) | 2010:06:12 |
DateCreated | 2010:06:12 17:39:20.47 |
DateTimeOriginal | 2010:06:12 17:39:20 |
Defringe | 0 |
DOF | 0.99 m (4.84 - 5.83 m) |
Exposure | 0.00 |
ExposureCompensation | 0 |
ExposureMode | Auto |
ExposureProgram | Aperture-priority AE |
ExposureTime | 1/1000 |
FillLight | 20 |
Firmware | 1.0.8 |
Flash | Off, Did not fire |
FlashCompensation | 0 |
FNumber | 2.8 |
FocalLength | 55.0 mm |
FocalLength35efl | 55.0 mm (35 mm equivalent: 86.5 mm) |
FOV | 23.5 deg |
GrainAmount | 0 |
GrayMixerAqua | -20 |
GrayMixerBlue | +7 |
GrayMixerGreen | -25 |
GrayMixerMagenta | +6 |
GrayMixerOrange | 0 |
GrayMixerPurple | +15 |
GrayMixerRed | -5 |
GrayMixerYellow | -11 |
GreenHue | 0 |
GreenSaturation | 0 |
HasCrop | True |
HasSettings | True |
HighlightRecovery | 30 |
HyperfocalDistance | 56.55 m |
ImageHeight | 788 |
ImageNumber | 0 |
ImageSize | 1546x788 |
ImageWidth | 1546 |
ISO | 100 |
Keywords | Strand, Svinevika |
Lens | EF-S17-55mm f/2.8 IS USM |
LensID (1) | 240 |
LensID | Canon EF-S 17-55mm f/2.8 IS USM |
LensInfo | 17-55mm f/? |
LensManualDistortionAmount | 0 |
LensModel | EF-S17-55mm f/2.8 IS USM |
LensProfileEnable | 0 |
LensProfileSetup | LensDefaults |
LensSerialNumber | 000003aece |
LightValue | 12.9 |
LuminanceNoiseReductionContrast | 24 |
LuminanceNoiseReductionDetail | 49 |
LuminanceSmoothing | 51 |
Make | Canon |
Marked | True |
MaxApertureValue | 2.8 |
Megapixels | 1.2 |
MeteringMode | Multi-segment |
Model | Canon EOS 60D |
ModifyDate (1) | 2011:06:21 22:05:23+02:00 |
ModifyDate | 2011:06:21 22:05:23 |
ParametricDarks | 0 |
ParametricHighlights | 0 |
ParametricHighlightSplit | 75 |
ParametricLights | 0 |
ParametricMidtoneSplit | 50 |
ParametricShadows | 0 |
ParametricShadowSplit | 25 |
PerspectiveHorizontal | 0 |
PerspectiveRotate | 0.0 |
PerspectiveScale | 100 |
PerspectiveVertical | 0 |
PostCropVignetteAmount | -43 |
PostCropVignetteFeather | 69 |
PostCropVignetteHighlightContrast | 0 |
PostCropVignetteMidpoint | 48 |
PostCropVignetteRoundness | +6 |
PostCropVignetteStyle | 1 |
ProcessVersion | 5.7 |
ProfileDescription | sRGB IEC61966-2.1 |
RecommendedExposureIndex | 100 |
RedHue | 0 |
RedSaturation | 0 |
Rights | Svein Magnus Sletvold |
ScaleFactor35efl | 1.6 |
SceneCaptureType | Standard |
SensitivityType | Recommended Exposure Index |
SerialNumber | 0680420618 |
Shadows | 17 |
ShadowTint | 0 |
SharpenDetail | 25 |
SharpenEdgeMasking | 0 |
SharpenRadius | +1.0 |
Sharpness | 33 |
ShutterSpeed | 1/1000 |
ShutterSpeedValue | 1/1000 |
Software | Adobe Photoshop Lightroom 3.4.1 |
SplitToningBalance | 0 |
SplitToningHighlightHue | 46 |
SplitToningHighlightSaturation | 16 |
SplitToningShadowHue | 41 |
SplitToningShadowSaturation | 7 |
Subject | Strand, Svinevika |
SubjectDistance | 5.29 m |
Tint | +10 |
ToneCurve | 0, 0, 32, 22, 64, 56, 128, 128, 192, 196, 255, 255 |
ToneCurveName | Medium Contrast |
Version | 6.4.1 |
VignetteAmount | 0 |
WhiteBalance (1) | Custom |
WhiteBalance | Auto |