Felt | Verdi |
AlreadyApplied | True |
Aperture | 5.6 |
ApertureValue | 5.6 |
BitsPerSample | 8 |
BlackClip | 0.044000 |
BlueHue | 0 |
BlueSaturation | 0 |
Brightness | 0 |
CameraProfile | Embedded |
ChromaticAberrationB | 0 |
ChromaticAberrationR | 0 |
Clarity | +17 |
ColorComponents | 3 |
ColorMode | RGB |
ColorNoiseReduction | 0 |
ColorSaturation | 56.0 |
ColorSpace | Uncalibrated |
ColorTemperature | -0.2 |
Contrast | +16 |
ConvertToGrayscale | False |
CreateDate | 2011:06:17 20:33:17 |
CreatorTool | Adobe Photoshop CS5 Windows |
CropAngle | -2.62422 |
CropBottom | 0.931778 |
CropLeft | 0.020744 |
CropRight | 0.979256 |
CropTop | 0.068222 |
DateCreated (1) | 2011:06:17 |
DateCreated | 2011:06:17 20:33:17 |
DateTimeOriginal | 2011:06:17 20:33:17 |
Defringe | 0 |
ExifImageHeight | 2129 |
ExifImageWidth | 3402 |
Exposure | 0.00 |
ExposureTime | 1/100 |
FillLight | 0 |
FNumber | 5.6 |
FocalLength | 17.0 mm |
FocalLength35efl | 17.0 mm |
Format | image/jpeg |
Gamma | 1.0 |
GrainAmount | 0 |
GreenHue | 0 |
GreenSaturation | 0 |
HasCrop | True |
HasSettings | True |
HighlightRecovery | 0 |
HighlightsSmoothing | 17.0 |
HueAdjustmentAqua | 0 |
HueAdjustmentBlue | 0 |
HueAdjustmentGreen | 0 |
HueAdjustmentMagenta | 0 |
HueAdjustmentOrange | 0 |
HueAdjustmentPurple | 0 |
HueAdjustmentRed | 0 |
HueAdjustmentYellow | 0 |
ICCProfileName | Adobe RGB (1998) |
ImageHeight | 2129 |
ImageSize | 3402x2129 |
ImageWidth | 3402 |
IncrementalTemperature | -9 |
IncrementalTint | -18 |
ISO | 100 |
LightValue | 11.6 |
LuminanceAdjustmentAqua | 0 |
LuminanceAdjustmentBlue | 0 |
LuminanceAdjustmentGreen | 0 |
LuminanceAdjustmentMagenta | 0 |
LuminanceAdjustmentOrange | 0 |
LuminanceAdjustmentPurple | 0 |
LuminanceAdjustmentRed | 0 |
LuminanceAdjustmentYellow | 0 |
LuminanceSmoothing | 0 |
Luminosity | 9.3 |
Megapixels | 7.2 |
Method | Details Enhancer |
Microcontrast | 6.2 |
Microsmoothing | 2.0 |
Model | NIKON D200 |
ModifyDate (1) | 2011:07:13 15:35:40+02:00 |
ModifyDate | 2011:07:13 15:35:40 |
Orientation | Horizontal (normal) |
ParametricDarks | -10 |
ParametricHighlights | 0 |
ParametricHighlightSplit | 75 |
ParametricLights | 0 |
ParametricMidtoneSplit | 50 |
ParametricShadows | -17 |
ParametricShadowSplit | 25 |
PostCropVignetteAmount | 0 |
ProcessVersion | 5.7 |
ProfileDescription | Adobe RGB (1998) |
Rating | 0 |
RawFileName | Honningsvåg båt.jpg |
RedHue | 0 |
RedSaturation | 0 |
Saturation | 0 |
SaturationAdjustmentAqua | 0 |
SaturationAdjustmentBlue | 0 |
SaturationAdjustmentGreen | 0 |
SaturationAdjustmentMagenta | 0 |
SaturationAdjustmentOrange | 0 |
SaturationAdjustmentPurple | 0 |
SaturationAdjustmentRed | 0 |
SaturationAdjustmentYellow | 0 |
SaturationHighlights | 0.0 |
SaturationShadows | -0.7 |
Shadows | 0 |
ShadowsClipping | 0.0 |
ShadowsSmoothing | 37.0 |
ShadowTint | 0 |
SharpenDetail | 25 |
SharpenEdgeMasking | 0 |
SharpenRadius | +1.0 |
Sharpness | 0 |
ShutterSpeed | 1/100 |
ShutterSpeedValue | 1/100 |
Smoothing | Low |
SmoothingMode | Light |
Software | Adobe Photoshop CS5 Windows |
SplitToningBalance | 0 |
SplitToningHighlightHue | 0 |
SplitToningHighlightSaturation | 0 |
SplitToningShadowHue | 0 |
SplitToningShadowSaturation | 0 |
Strength | 88.0 |
ToneCurve | 0, 0, 255, 255 |
ToneCurveName | Linear |
URL_List | |
Version (1) | 4.0 |
Version | 6.0 |
Vibrance | 0 |
VignetteAmount | 0 |
WhiteBalance | Custom |
WhiteClip | 0.707250 |