Felt | Verdi |
AlreadyApplied | True |
Aperture | 5.6 |
ApertureValue | 5.6 |
ApproximateFocusDistance | 4294967295 |
BitsPerSample | 8 |
BlueHue | 0 |
BlueSaturation | 0 |
Brightness | +41 |
CameraProfile | Adobe Standard |
CFAPattern | [Green,Blue][Red,Green] |
ChromaticAberrationB | 0 |
ChromaticAberrationR | 0 |
CircleOfConfusion | 0.020 mm |
Clarity | 0 |
ColorComponents | 3 |
ColorNoiseReduction | 25 |
ColorNoiseReductionDetail | 50 |
ColorTemperature | 4200 |
Contrast (1) | +49 |
Contrast | Normal |
ConvertToGrayscale | False |
CreateDate (1) | 2011:10:09 11:08:08.50 |
CreateDate | 2011:10:09 11:08:08 |
CreatorTool | Adobe Photoshop Lightroom 3.4.1 |
CropAngle | 0 |
CropBottom | 1 |
CropConstrainToWarp | 0 |
CropHeight | 3072 |
CropLeft | 0 |
CropRight | 0.666666 |
CropTop | 0 |
CropUnit | pixels |
CropWidth | 3072 |
CustomRendered | Normal |
DateCreated (1) | 2011:10:09 |
DateCreated | 2011:10:09 11:08:08.50 |
DateTimeOriginal | 2011:10:09 11:08:08 |
Defringe | 0 |
DigitalZoomRatio | 1 |
DOF | inf (26.80 m - inf) |
Exposure | 0.00 |
ExposureCompensation | 0 |
ExposureMode | Auto |
ExposureProgram | Not Defined |
ExposureTime | 1/320 |
FillLight | 0 |
Flash | Off, Did not fire |
FNumber | 5.6 |
FocalLength | 55.0 mm |
FocalLength35efl | 55.0 mm (35 mm equivalent: 82.0 mm) |
FocalLengthIn35mmFormat | 82 mm |
FOV | 24.8 deg |
GainControl | High gain up |
GrainAmount | 0 |
GreenHue | 0 |
GreenSaturation | 0 |
HasCrop | True |
HasSettings | True |
HighlightRecovery | 9 |
HueAdjustmentAqua | 0 |
HueAdjustmentBlue | 0 |
HueAdjustmentGreen | 0 |
HueAdjustmentMagenta | 0 |
HueAdjustmentOrange | +28 |
HueAdjustmentPurple | 0 |
HueAdjustmentRed | 0 |
HueAdjustmentYellow | -71 |
HyperfocalDistance | 26.80 m |
ImageHeight | 3072 |
ImageNumber | 3845 |
ImageSize | 3072x3072 |
ImageWidth | 3072 |
ISO | 3200 |
Lens | 18.0-55.0 mm f/3.5-5.6 |
LensID (1) | 154 |
LensID | AF-S DX VR Zoom-Nikkor 18-55mm f/3.5-5.6G |
LensInfo (1) | 18-55mm f/3.5-5.59999999947846 |
LensInfo | 18-55mm f/3.5-5.599999999 |
LensManualDistortionAmount | 0 |
LensModel | 18.0-55.0 mm f/3.5-5.6 |
LensProfileEnable | 0 |
LensProfileSetup | LensDefaults |
LightSource | Unknown |
LightValue | 8.3 |
LuminanceAdjustmentAqua | 0 |
LuminanceAdjustmentBlue | 0 |
LuminanceAdjustmentGreen | 0 |
LuminanceAdjustmentMagenta | 0 |
LuminanceAdjustmentOrange | -100 |
LuminanceAdjustmentPurple | 0 |
LuminanceAdjustmentRed | 0 |
LuminanceAdjustmentYellow | -48 |
LuminanceSmoothing | 0 |
Make | NIKON CORPORATION |
MaxApertureValue | 5.7 |
Megapixels | 9.4 |
MeteringMode | Multi-segment |
Model | NIKON D3100 |
ModifyDate (1) | 2011:10:09 19:38:33+02:00 |
ModifyDate | 2011:10:09 19:38:33 |
ParametricDarks | -33 |
ParametricHighlights | 0 |
ParametricHighlightSplit | 75 |
ParametricLights | +54 |
ParametricMidtoneSplit | 50 |
ParametricShadows | 0 |
ParametricShadowSplit | 25 |
PerspectiveHorizontal | 0 |
PerspectiveRotate | 0.0 |
PerspectiveScale | 100 |
PerspectiveVertical | 0 |
PostCropVignetteAmount | 0 |
ProcessVersion | 5.7 |
ProfileDescription | Adobe RGB (1998) |
Rating | 5 |
RatingPercent | 0 |
RedHue | 0 |
RedSaturation | 0 |
Saturation (1) | 0 |
Saturation | Normal |
SaturationAdjustmentAqua | 0 |
SaturationAdjustmentBlue | 0 |
SaturationAdjustmentGreen | 0 |
SaturationAdjustmentMagenta | 0 |
SaturationAdjustmentOrange | +54 |
SaturationAdjustmentPurple | 0 |
SaturationAdjustmentRed | 0 |
SaturationAdjustmentYellow | +43 |
ScaleFactor35efl | 1.5 |
SceneCaptureType | Standard |
SceneType | Directly photographed |
SensingMethod | One-chip color area |
SerialNumber | 6227289 |
Shadows | 7 |
ShadowTint | 0 |
SharpenDetail | 100 |
SharpenEdgeMasking | 39 |
SharpenRadius | +1.8 |
Sharpness (1) | 25 |
Sharpness | Normal |
ShutterSpeed | 1/320 |
ShutterSpeedValue | 1/320 |
Software | Adobe Photoshop Lightroom 3.4.1 |
SplitToningBalance | 0 |
SplitToningHighlightHue | 0 |
SplitToningHighlightSaturation | 0 |
SplitToningShadowHue | 0 |
SplitToningShadowSaturation | 0 |
SubjectDistance | 4294967295 m |
SubjectDistanceRange | Unknown |
Tint | +16 |
ToneCurve | 0, 0, 32, 22, 64, 56, 128, 128, 192, 196, 255, 255 |
ToneCurveName | Medium Contrast |
Version | 6.4.1 |
Vibrance | 0 |
VignetteAmount | 0 |
WhiteBalance (1) | As Shot |
WhiteBalance | Auto |