Felt | Verdi |
AlreadyApplied | True |
BitsPerSample | 8 |
BlueHue | 0 |
BlueSaturation | 0 |
Brightness | +50 |
CameraProfile | Adobe Standard |
ChromaticAberrationB | 0 |
ChromaticAberrationR | 0 |
CircleOfConfusion | 0.031 mm |
Clarity | 0 |
ColorComponents | 3 |
ColorNoiseReduction | 40 |
ColorNoiseReductionDetail | 50 |
ColorTemperature | 5000 |
Contrast | +25 |
ConvertToGrayscale | False |
CreateDate (1) | 2011:10:18 08:05:20.50 |
CreateDate | 2011:10:18 08:05:20 |
CreatorTool | Adobe Photoshop Lightroom 3.3 |
CropAngle | 0.351426 |
CropBottom | 0.994224 |
CropConstrainToWarp | 1 |
CropHeight | 800 |
CropLeft | 0.192964 |
CropRight | 0.843673 |
CropTop | 0.006113 |
CropUnit | pixels |
CropWidth | 800 |
CustomRendered | Normal |
DateCreated (1) | 2011:10:18 |
DateCreated | 2011:10:18 08:05:20.50 |
DateTimeDigitized | 2011:10:18 08:05:20.50+02:00 |
DateTimeOriginal (1) | 2011:10:18 08:05:20.50 |
DateTimeOriginal | 2011:10:18 08:05:20 |
Defringe | 0 |
ExifImageHeight | 800 |
ExifImageWidth | 800 |
Exposure | -0.05 |
ExposureCompensation | +2/3 |
ExposureMode | Auto |
ExposureProgram | Aperture-priority AE |
ExposureTime | 1/1250 |
FillLight | 0 |
Firmware | 2.0.7 |
Flash | Off, Did not fire |
FlashCompensation | 0 |
FlashFired | False |
FlashFunction | False |
FlashMode | Off |
FlashRedEyeMode | False |
FlashReturn | No return detection |
FocalLength | 50.0 mm |
FocalLength35efl | 50.0 mm (35 mm equivalent: 48.8 mm) |
FOV | 40.5 deg |
GrainAmount | 0 |
GreenHue | 0 |
GreenSaturation | 0 |
HasCrop | True |
HasSettings | True |
HighlightRecovery | 0 |
HueAdjustmentAqua | 0 |
HueAdjustmentBlue | 0 |
HueAdjustmentGreen | 0 |
HueAdjustmentMagenta | 0 |
HueAdjustmentOrange | 0 |
HueAdjustmentPurple | 0 |
HueAdjustmentRed | 0 |
HueAdjustmentYellow | 0 |
ImageHeight | 800 |
ImageNumber | 0 |
ImageSize | 800x800 |
ImageWidth | 800 |
ISO | 3200 |
Keywords | HT, HŒlogaland Teater, Oktoberfest, Rokkor 58mm f/1.2 |
LensManualDistortionAmount | +6 |
LensProfileEnable | 0 |
LensProfileSetup | LensDefaults |
LuminanceAdjustmentAqua | 0 |
LuminanceAdjustmentBlue | 0 |
LuminanceAdjustmentGreen | 0 |
LuminanceAdjustmentMagenta | 0 |
LuminanceAdjustmentOrange | 0 |
LuminanceAdjustmentPurple | 0 |
LuminanceAdjustmentRed | 0 |
LuminanceAdjustmentYellow | 0 |
LuminanceNoiseReductionContrast | 0 |
LuminanceNoiseReductionDetail | 50 |
LuminanceSmoothing | 10 |
Make | Canon |
Megapixels | 0.640 |
MeteringMode | Multi-segment |
Model | Canon EOS 5D Mark II |
ModifyDate (1) | 2011:10:24 08:53:50+02:00 |
ModifyDate | 2011:10:24 08:53:50 |
PaintCorrectionActive | true |
PaintCorrectionAmount | 1.000000 |
PaintCorrectionBrightness | 0.000000 |
PaintCorrectionClarity | 0.186047 |
PaintCorrectionContrast | 0.093023 |
PaintCorrectionExposure | 0.000000 |
PaintCorrectionHue | 247.000000 |
PaintCorrectionMaskCenterWeight | 0.000000 |
PaintCorrectionMaskFlow | 1.000000 |
PaintCorrectionMaskRadius (1) | 0.021042 |
PaintCorrectionMaskRadius (2) | 0.021045 |
PaintCorrectionMaskRadius (3) | 0.021170 |
PaintCorrectionMaskRadius (4) | 0.050555 |
PaintCorrectionMaskRadius (5) | 0.050389 |
PaintCorrectionMaskRadius | 0.050905 |
PaintCorrectionMaskValue | 1.000000 |
PaintCorrectionMaskWhat | Mask/Paint |
PaintCorrectionSaturation | 0.000000 |
PaintCorrectionSharpness | 0.488372 |
PaintCorrectionWhat | Correction |
ParametricDarks | 0 |
ParametricHighlights | 0 |
ParametricHighlightSplit | 75 |
ParametricLights | 0 |
ParametricMidtoneSplit | 50 |
ParametricShadows | 0 |
ParametricShadowSplit | 25 |
PerspectiveHorizontal | 0 |
PerspectiveRotate | 0.0 |
PerspectiveScale | 100 |
PerspectiveVertical | 0 |
PostCropVignetteAmount | 0 |
ProcessVersion | 5.7 |
ProfileDescription | sRGB IEC61966-2.1 |
Rating | 4 |
RedHue | 0 |
RedSaturation | 0 |
Saturation | 0 |
SaturationAdjustmentAqua | 0 |
SaturationAdjustmentBlue | 0 |
SaturationAdjustmentGreen | 0 |
SaturationAdjustmentMagenta | 0 |
SaturationAdjustmentOrange | 0 |
SaturationAdjustmentPurple | -100 |
SaturationAdjustmentRed | 0 |
SaturationAdjustmentYellow | 0 |
ScaleFactor35efl | 1.0 |
SceneCaptureType | Standard |
SensitivityType | Unknown |
SerialNumber | 2231301899 |
Shadows | 11 |
ShadowTint | 0 |
SharpenDetail | 25 |
SharpenEdgeMasking | 0 |
SharpenRadius | +1.0 |
Sharpness | 15 |
ShutterSpeed | 1/1250 |
ShutterSpeedValue | 1/1250 |
SplitToningBalance | 0 |
SplitToningHighlightHue | 0 |
SplitToningHighlightSaturation | 0 |
SplitToningShadowHue | 0 |
SplitToningShadowSaturation | 0 |
Subject | HT, Hålogaland Teater, Oktoberfest, Rokkor 58mm f/1.2 |
Tint | -15 |
ToneCurve | 0, 0, 32, 16, 64, 50, 128, 128, 192, 202, 255, 255 |
ToneCurveName | Strong Contrast |
Version | 6.3 |
Vibrance | 0 |
VignetteAmount | +48 |
VignetteMidpoint | 50 |
WhiteBalance (2) | Custom |
WhiteBalance | Auto |