Felt | Verdi |
AlreadyApplied | True |
Aperture | 8.0 |
ApertureValue | 8.0 |
BitsPerSample | 8 |
BlueHue | 0 |
BlueSaturation | 0 |
Brightness | +25 |
CameraProfile | ACR 4.4 |
ChromaticAberrationB | 0 |
ChromaticAberrationR | 0 |
CircleOfConfusion | 0.030 mm |
Clarity | +83 |
ColorComponents | 3 |
ColorMode | RGB |
ColorNoiseReduction | 0 |
ColorSpace | Uncalibrated |
ColorTemperature | 5100 |
Contrast | 0 |
ConvertToGrayscale | False |
CreateDate (1) | 2011:11:08 15:14:31+01:00 |
CreateDate | 2011:11:08 15:14:31 |
CreatorTool | Adobe Photoshop CS5.1 Macintosh |
CropAngle | 0 |
CropBottom | 1 |
CropConstrainToWarp | 1 |
CropLeft | 0.001453 |
CropRight | 0.740246 |
CropTop | 0 |
CustomRendered | Normal |
DateCreated (1) | 2011:11:08 |
DateCreated | 2011:11:08 15:14:31 |
DateTimeOriginal | 2011:11:08 15:14:31 |
Defringe | 0 |
ExifImageHeight | 1733 |
ExifImageWidth | 1920 |
Exposure | 0.00 |
ExposureCompensation | 0 |
ExposureMode | Manual |
ExposureProgram | Manual |
ExposureTime | 1/320 |
FillLight | 0 |
Firmware | 1.1.0 |
Flash | Off, Did not fire |
FlashCompensation | 0 |
FNumber | 8.0 |
FocalLength | 15.0 mm |
FocalLength35efl | 15.0 mm (35 mm equivalent: 15.0 mm) |
Format | image/jpeg |
FOV | 100.3 deg |
GradientBasedCorrActive | true |
GradientBasedCorrAmount | 1.000000 |
GradientBasedCorrBrightness (1) | -0.310345 |
GradientBasedCorrBrightness (3) | 0.172414 |
GradientBasedCorrBrightness (4) | 0.080460 |
GradientBasedCorrBrightness (7) | -0.057471 |
GradientBasedCorrBrightness (8) | -0.034483 |
GradientBasedCorrBrightness | 0.000000 |
GradientBasedCorrClarity (3) | 0.793103 |
GradientBasedCorrClarity | 1.000000 |
GradientBasedCorrContrast | 0.000000 |
GradientBasedCorrExposure (1) | -0.057471 |
GradientBasedCorrExposure (3) | 0.011494 |
GradientBasedCorrExposure (5) | 0.103448 |
GradientBasedCorrExposure (8) | -0.103448 |
GradientBasedCorrExposure | 0.000000 |
GradientBasedCorrHue | 240.000000 |
GradientBasedCorrMaskFullX (1) | 0.409884 |
GradientBasedCorrMaskFullX (2) | 0.651163 |
GradientBasedCorrMaskFullX (3) | 0.736965 |
GradientBasedCorrMaskFullX (4) | -0.006102 |
GradientBasedCorrMaskFullX (5) | 0.005231 |
GradientBasedCorrMaskFullX (6) | 0.759867 |
GradientBasedCorrMaskFullX (7) | 0.397590 |
GradientBasedCorrMaskFullX (8) | 0.425257 |
GradientBasedCorrMaskFullX | 0.496887 |
GradientBasedCorrMaskFullY (1) | -0.008715 |
GradientBasedCorrMaskFullY (2) | 1.013070 |
GradientBasedCorrMaskFullY (3) | -0.010135 |
GradientBasedCorrMaskFullY (4) | -0.007323 |
GradientBasedCorrMaskFullY (5) | 0.021351 |
GradientBasedCorrMaskFullY (6) | 0.015468 |
GradientBasedCorrMaskFullY (7) | 0.005662 |
GradientBasedCorrMaskFullY (8) | 0.980104 |
GradientBasedCorrMaskFullY | 1.003920 |
GradientBasedCorrMaskValue | 1.000000 |
GradientBasedCorrMaskWhat | Mask/Gradient |
GradientBasedCorrMaskZeroX (1) | 0.415698 |
GradientBasedCorrMaskZeroX (2) | 0.640988 |
GradientBasedCorrMaskZeroX (3) | 0.565682 |
GradientBasedCorrMaskZeroX (4) | 0.095195 |
GradientBasedCorrMaskZeroX (5) | 0.116400 |
GradientBasedCorrMaskZeroX (6) | 0.519221 |
GradientBasedCorrMaskZeroX (7) | 0.397590 |
GradientBasedCorrMaskZeroX (8) | 0.425257 |
GradientBasedCorrMaskZeroX | 0.460275 |
GradientBasedCorrMaskZeroY (1) | 0.742919 |
GradientBasedCorrMaskZeroY (2) | 0.701525 |
GradientBasedCorrMaskZeroY (3) | 0.233103 |
GradientBasedCorrMaskZeroY (4) | 0.128153 |
GradientBasedCorrMaskZeroY (5) | 0.401828 |
GradientBasedCorrMaskZeroY (6) | 0.501850 |
GradientBasedCorrMaskZeroY (7) | 0.323379 |
GradientBasedCorrMaskZeroY (8) | 0.872970 |
GradientBasedCorrMaskZeroY | 0.458703 |
GradientBasedCorrSaturation | 0.000000 |
GradientBasedCorrSharpness | 0.011494 |
GradientBasedCorrWhat | Correction |
GrainAmount | 0 |
GreenHue | 0 |
GreenSaturation | 0 |
HasCrop | True |
HasSettings | True |
HighlightRecovery | 37 |
HueAdjustmentAqua | 0 |
HueAdjustmentBlue | 0 |
HueAdjustmentGreen | 0 |
HueAdjustmentMagenta | 0 |
HueAdjustmentOrange | 0 |
HueAdjustmentPurple | 0 |
HueAdjustmentRed | 0 |
HueAdjustmentYellow | 0 |
HyperfocalDistance | 0.94 m |
ICCProfileName | Adobe RGB (1998) |
ImageHeight | 1733 |
ImageNumber | 10 |
ImageSize | 1920x1733 |
ImageWidth | 1920 |
ISO | 100 |
Lens | EF15mm f/2.8 Fisheye |
LensID (1) | 13 |
LensID | Canon EF 15mm f/2.8 Fisheye |
LensInfo | 15mm f/? |
LensManualDistortionAmount | 0 |
LensModel | EF15mm f/2.8 Fisheye |
LensProfileEnable | 0 |
LensProfileSetup | LensDefaults |
LightValue | 14.3 |
LuminanceAdjustmentAqua | 0 |
LuminanceAdjustmentBlue | 0 |
LuminanceAdjustmentGreen | 0 |
LuminanceAdjustmentMagenta | 0 |
LuminanceAdjustmentOrange | 0 |
LuminanceAdjustmentPurple | 0 |
LuminanceAdjustmentRed | 0 |
LuminanceAdjustmentYellow | 0 |
LuminanceSmoothing | 0 |
Make | Canon |
MaxApertureValue | 2.8 |
Megapixels | 3.3 |
MeteringMode | Partial |
Model | Canon EOS 5D |
ModifyDate (1) | 2011:11:21 23:21:23+01:00 |
ModifyDate | 2011:11:21 23:21:23 |
Orientation | Horizontal (normal) |
PaintCorrectionActive | true |
PaintCorrectionAmount | 1.000000 |
PaintCorrectionBrightness (1) | 0.333333 |
PaintCorrectionBrightness (3) | 0.020000 |
PaintCorrectionBrightness (4) | -0.080460 |
PaintCorrectionBrightness (5) | 0.103448 |
PaintCorrectionBrightness | 0.034483 |
PaintCorrectionClarity (1) | 1.000000 |
PaintCorrectionClarity (2) | 0.793103 |
PaintCorrectionClarity | 0.057471 |
PaintCorrectionContrast (1) | 0.057471 |
PaintCorrectionContrast | 0.000000 |
PaintCorrectionExposure (1) | 0.011494 |
PaintCorrectionExposure | 0.000000 |
PaintCorrectionHue | 240.000000 |
PaintCorrectionMaskCenterWeight | 0.000000 |
PaintCorrectionMaskFlow | 0.638941 |
PaintCorrectionMaskRadius (1) | 0.076019 |
PaintCorrectionMaskRadius (13) | 0.019617 |
PaintCorrectionMaskRadius (19) | 0.076936 |
PaintCorrectionMaskRadius (2) | 0.065461 |
PaintCorrectionMaskRadius (4) | 0.044080 |
PaintCorrectionMaskRadius (8) | 0.030650 |
PaintCorrectionMaskRadius (9) | 0.051977 |
PaintCorrectionMaskRadius | 0.071661 |
PaintCorrectionMaskValue | 1.000000 |
PaintCorrectionMaskWhat | Mask/Paint |
PaintCorrectionSaturation | 0.000000 |
PaintCorrectionSharpness | 0.011494 |
PaintCorrectionWhat | Correction |
ParametricDarks | -46 |
ParametricHighlights | +75 |
ParametricHighlightSplit | 75 |
ParametricLights | +2 |
ParametricMidtoneSplit | 50 |
ParametricShadows | 0 |
ParametricShadowSplit | 25 |
PerspectiveHorizontal | 0 |
PerspectiveRotate | 0.0 |
PerspectiveScale | 100 |
PerspectiveVertical | 0 |
PostCropVignetteAmount | 0 |
ProcessVersion | 5.0 |
ProfileDescription | Adobe RGB (1998) |
Rating | 0 |
RawFileName | 20111108-_MG_2156.dng |
RedHue | 0 |
RedSaturation | 0 |
Saturation | -100 |
SaturationAdjustmentAqua | 0 |
SaturationAdjustmentBlue | 0 |
SaturationAdjustmentGreen | 0 |
SaturationAdjustmentMagenta | 0 |
SaturationAdjustmentOrange | 0 |
SaturationAdjustmentPurple | 0 |
SaturationAdjustmentRed | 0 |
SaturationAdjustmentYellow | 0 |
ScaleFactor35efl | 1.0 |
SceneCaptureType | Standard |
SensitivityType | Unknown |
SerialNumber | 2721201972 |
Shadows | 0 |
ShadowTint | 0 |
SharpenDetail | 25 |
SharpenEdgeMasking | 0 |
SharpenRadius | +1.0 |
Sharpness | 0 |
ShutterSpeed | 1/320 |
ShutterSpeedValue | 1/320 |
Software | Adobe Photoshop CS5.1 Macintosh |
SplitToningBalance | 0 |
SplitToningHighlightHue | 0 |
SplitToningHighlightSaturation | 0 |
SplitToningShadowHue | 0 |
SplitToningShadowSaturation | 0 |
Tint | -1 |
ToneCurve | 0, 0, 255, 255 |
ToneCurveName | Linear |
URL_List | |
Version | 6.3 |
Vibrance | 0 |
VignetteAmount | +75 |
VignetteMidpoint | 6 |
WhiteBalance (1) | As Shot |
WhiteBalance | Auto |