Felt | Verdi |
AlreadyApplied | True |
Aperture | 11.0 |
ApertureValue | 11.0 |
ApproximateFocusDistance | 1.5 |
Artist | STEINAR HAUGLAND |
BitsPerSample | 8 |
BlueHue | 0 |
BlueSaturation | 0 |
Brightness | +36 |
By-line | STEINAR HAUGLAND |
CameraProfile | Adobe Standard |
CFAPattern | [Red,Green][Green,Blue] |
ChromaticAberrationB | 0 |
ChromaticAberrationR | 0 |
CircleOfConfusion | 0.030 mm |
Clarity | -78 |
ColorComponents | 1 |
ColorNoiseReduction | 25 |
ColorNoiseReductionDetail | 50 |
ColorTemperature | 5563 |
Contrast (1) | +25 |
Contrast | Normal |
ConvertToGrayscale | True |
Copyright | STEINAR HAUGLAND |
CopyrightNotice | STEINAR HAUGLAND |
CreateDate (1) | 2011:06:01 15:43:17.81 |
CreateDate | 2011:06:01 15:43:17 |
Creator | STEINAR HAUGLAND |
CreatorTool | Adobe Photoshop Lightroom 3.4.1 |
CropAngle | 0 |
CropBottom | 1 |
CropConstrainToWarp | 0 |
CropHeight | 2678 |
CropLeft | 0.000756 |
CropRight | 0.946293 |
CropTop | 0.054463 |
CropUnit | pixels |
CropWidth | 4024 |
CustomRendered | Normal |
DateCreated (1) | 2011:06:01 |
DateCreated | 2011:06:01 15:43:17.81 |
DateTimeOriginal | 2011:06:01 15:43:17 |
Defringe | 0 |
DigitalZoomRatio | 1 |
DOF | 0.60 m (1.26 - 1.86 m) |
Exposure | 0.00 |
ExposureCompensation | 0 |
ExposureMode | Auto |
ExposureProgram | Aperture-priority AE |
ExposureTime | 1/250 |
FillLight | 0 |
Flash | No Flash |
FNumber | 11.0 |
FocalLength | 50.0 mm |
FocalLength35efl | 50.0 mm (35 mm equivalent: 50.0 mm) |
FocalLengthIn35mmFormat | 50 mm |
FOV | 39.6 deg |
GainControl | None |
GradientBasedCorrActive | true |
GradientBasedCorrAmount | 1.000000 |
GradientBasedCorrBrightness | 0.000000 |
GradientBasedCorrClarity | 0.000000 |
GradientBasedCorrContrast | 0.000000 |
GradientBasedCorrExposure (1) | -0.390000 |
GradientBasedCorrExposure | -0.220000 |
GradientBasedCorrHue | 0.000000 |
GradientBasedCorrMaskFullX (1) | -0.009972 |
GradientBasedCorrMaskFullX (2) | 0.018056 |
GradientBasedCorrMaskFullX (3) | 0.948278 |
GradientBasedCorrMaskFullX | 0.005526 |
GradientBasedCorrMaskFullY (1) | 1.019340 |
GradientBasedCorrMaskFullY (2) | 0.023715 |
GradientBasedCorrMaskFullY (3) | 0.032246 |
GradientBasedCorrMaskFullY | 0.039815 |
GradientBasedCorrMaskValue | 1.000000 |
GradientBasedCorrMaskWhat | Mask/Gradient |
GradientBasedCorrMaskZeroX (1) | 0.166702 |
GradientBasedCorrMaskZeroX (2) | 0.181114 |
GradientBasedCorrMaskZeroX (3) | 0.794176 |
GradientBasedCorrMaskZeroX | 0.054940 |
GradientBasedCorrMaskZeroY (1) | 0.658584 |
GradientBasedCorrMaskZeroY (2) | 0.679739 |
GradientBasedCorrMaskZeroY (3) | 0.160325 |
GradientBasedCorrMaskZeroY | 0.265401 |
GradientBasedCorrSaturation (7) | 0.049000 |
GradientBasedCorrSaturation | 0.000000 |
GradientBasedCorrSharpness | 0.000000 |
GradientBasedCorrWhat | Correction |
GrainAmount | 0 |
GrayMixerAqua | -59 |
GrayMixerBlue | -50 |
GrayMixerGreen | -34 |
GrayMixerMagenta | -5 |
GrayMixerOrange | +11 |
GrayMixerPurple | -2 |
GrayMixerRed | -20 |
GrayMixerYellow | -18 |
GreenHue | 0 |
GreenSaturation | 0 |
HasCrop | True |
HasSettings | True |
HighlightRecovery | 45 |
HyperfocalDistance | 7.56 m |
ImageHeight | 2678 |
ImageNumber | 12326 |
ImageSize | 4024x2678 |
ImageWidth | 4024 |
ISO | 200 |
Keywords | Bildetyper, Danmark, Gatebilder, Kjøbenhavn, Steder |
Lens | 50.0 mm f/1.4 |
LensID (1) | 67 |
LensID | AF Nikkor 50mm f/1.4D |
LensInfo | 50mm f/1.4 |
LensManualDistortionAmount | 0 |
LensModel | 50.0 mm f/1.4 |
LensProfileChromaticAberrationScale | 100 |
LensProfileDistortionScale | 100 |
LensProfileEnable | 1 |
LensProfileFilename | NIKON D3X (Nikon AF NIKKOR 50mm f1.4D) - RAW.lcp |
LensProfileName | Adobe (Nikon AF NIKKOR 50mm f/1.4D) |
LensProfileSetup | LensDefaults |
LensProfileVignettingScale | 100 |
LightSource | Unknown |
LightValue | 13.9 |
LuminanceNoiseReductionContrast | 0 |
LuminanceNoiseReductionDetail | 50 |
LuminanceSmoothing | 26 |
Make | NIKON CORPORATION |
MaxApertureValue | 1.4 |
Megapixels | 10.8 |
MeteringMode | Multi-segment |
Model | NIKON D700 |
ModifyDate (1) | 2011:09:26 19:10:58+02:00 |
ModifyDate | 2011:09:26 19:10:58 |
PaintCorrectionActive | true |
PaintCorrectionAmount | 1.000000 |
PaintCorrectionBrightness | 0.000000 |
PaintCorrectionClarity | 0.000000 |
PaintCorrectionContrast | 0.000000 |
PaintCorrectionExposure | -0.220000 |
PaintCorrectionHue | 0.000000 |
PaintCorrectionMaskCenterWeight | 0.170256 |
PaintCorrectionMaskFlow | 0.434000 |
PaintCorrectionMaskRadius | 0.007513 |
PaintCorrectionMaskValue | 1.000000 |
PaintCorrectionMaskWhat | Mask/Paint |
PaintCorrectionSaturation (1) | 0.049000 |
PaintCorrectionSaturation | 0.000000 |
PaintCorrectionSharpness | 0.000000 |
PaintCorrectionWhat | Correction |
ParametricDarks | +22 |
ParametricHighlights | +20 |
ParametricHighlightSplit | 75 |
ParametricLights | +92 |
ParametricMidtoneSplit | 50 |
ParametricShadows | -58 |
ParametricShadowSplit | 25 |
PerspectiveHorizontal | 0 |
PerspectiveRotate | 0.0 |
PerspectiveScale | 100 |
PerspectiveVertical | 0 |
PostCropVignetteAmount | 0 |
ProcessVersion | 5.7 |
ProfileDescription | sRGB IEC61966-2.1 |
Rating | 4 |
RedHue | 0 |
RedSaturation | 0 |
Rights | STEINAR HAUGLAND |
Saturation | Normal |
ScaleFactor35efl | 1.0 |
SceneCaptureType | Standard |
SceneType | Directly photographed |
SensingMethod | One-chip color area |
SerialNumber | 2119064 |
Shadows | 46 |
ShadowTint | 0 |
SharpenDetail | 57 |
SharpenEdgeMasking | 0 |
SharpenRadius | +0.8 |
Sharpness (1) | 86 |
Sharpness | Normal |
ShutterSpeed | 1/250 |
ShutterSpeedValue | 1/250 |
Software | Adobe Photoshop Lightroom 3.4.1 |
SplitToningBalance | 0 |
SplitToningHighlightHue | 0 |
SplitToningHighlightSaturation | 0 |
SplitToningShadowHue | 0 |
SplitToningShadowSaturation | 0 |
Subject | Bildetyper, Danmark, Gatebilder, Kjøbenhavn, Steder |
SubjectDistance | 1.5 m |
SubjectDistanceRange | Unknown |
Tint | +95 |
ToneCurve | 0, 0, 32, 22, 64, 56, 128, 128, 192, 196, 255, 255 |
ToneCurveName | Medium Contrast |
Version | 6.4.1 |
VignetteAmount | 0 |
WhiteBalance (1) | Custom |
WhiteBalance | Auto |