Felt | Verdi |
AlreadyApplied | True |
Aperture | 6.3 |
ApertureValue | 6.3 |
ApproximateFocusDistance | 17.8 |
Artist | Kurt Gaasø |
AuthorsPosition | photographer |
AutoLateralCA | 1 |
BitsPerSample | 8 |
Blacks2012 | -39 |
BlueHue | 0 |
BlueSaturation | 0 |
By-line | Kurt Gaasø |
By-lineTitle | photographer |
CameraProfile | Adobe Standard |
CircleOfConfusion | 0.031 mm |
Clarity2012 | +25 |
ColorComponents | 1 |
ColorMode | RGB |
ColorNoiseReduction | 40 |
ColorNoiseReductionDetail | 50 |
ColorSpace | Uncalibrated |
ColorTemperature | 3059 |
Contrast2012 | +20 |
ConvertToGrayscale | True |
Copyright | Kurt Gaasø |
CopyrightFlag | True |
CopyrightNotice | Kurt Gaasø |
CreateDate (1) | 2012:04:15 08:10:54.38 |
CreateDate | 2012:04:15 08:10:54 |
Creator | Kurt Gaasø |
CreatorCity | Oslo |
CreatorCountry | Norway |
CreatorTool | Adobe Photoshop CS5.1 Macintosh |
CreatorWorkEmail | goga@online.no |
CreatorWorkURL | www.kwork.no |
CropAngle | 2.78046 |
CropBottom | 1 |
CropConstrainToWarp | 0 |
CropHeight | 3494 |
CropLeft | 0.049041 |
CropRight | 0.950959 |
CropTop | 0 |
CropUnit | pixels |
CropWidth | 5241 |
CustomRendered | Normal |
DateCreated (1) | 2012:04:15 |
DateCreated | 2012:04:15 08:10:54.038 |
DateTimeOriginal | 2012:04:15 08:10:54 |
DOF | inf (2.73 m - inf) |
ExifImageHeight | 1048 |
ExifImageWidth | 1572 |
Exposure2012 | +0.20 |
ExposureCompensation | 0 |
ExposureMode | Manual |
ExposureProgram | Manual |
ExposureTime | 6 |
Firmware | 2.0.4 |
Flash | Off, Did not fire |
FlashCompensation | 0 |
FNumber | 6.3 |
FocalLength | 25.0 mm |
FocalLength35efl | 25.0 mm (35 mm equivalent: 24.4 mm) |
Format | image/jpeg |
FOV | 72.8 deg |
GradientBasedCorrActive | true |
GradientBasedCorrAmount | 1.000000 |
GradientBasedCorrBrightness | 0.000000 |
GradientBasedCorrClarity2012 (1) | 0.420406 |
GradientBasedCorrClarity2012 (2) | 0.453889 |
GradientBasedCorrClarity2012 (3) | 0.000000 |
GradientBasedCorrClarity2012 | 0.215754 |
GradientBasedCorrContrast2012 | 0.000000 |
GradientBasedCorrDefringe | 0.000000 |
GradientBasedCorrExposure2012 (2) | 0.180862 |
GradientBasedCorrExposure2012 (3) | -0.032366 |
GradientBasedCorrExposure2012 | 0.000000 |
GradientBasedCorrHighlights2012 (2) | 0.262570 |
GradientBasedCorrHighlights2012 (3) | -0.754758 |
GradientBasedCorrHighlights2012 (4) | 0.410714 |
GradientBasedCorrHighlights2012 | -0.027608 |
GradientBasedCorrHue | 0.000000 |
GradientBasedCorrLuminanceNoise (3) | -0.025963 |
GradientBasedCorrLuminanceNoise | 0.000000 |
GradientBasedCorrMaskFullX (1) | 0.041334 |
GradientBasedCorrMaskFullX (2) | 0.214245 |
GradientBasedCorrMaskFullX (3) | 0.134122 |
GradientBasedCorrMaskFullX (4) | 0.917712 |
GradientBasedCorrMaskFullX | 0.156087 |
GradientBasedCorrMaskFullY (1) | 0.891516 |
GradientBasedCorrMaskFullY (2) | 0.558085 |
GradientBasedCorrMaskFullY (3) | 0.091884 |
GradientBasedCorrMaskFullY (4) | 0.088634 |
GradientBasedCorrMaskFullY | 0.824728 |
GradientBasedCorrMaskValue | 1.000000 |
GradientBasedCorrMaskWhat | Mask/Gradient |
GradientBasedCorrMaskZeroX (1) | 0.156904 |
GradientBasedCorrMaskZeroX (2) | 0.514772 |
GradientBasedCorrMaskZeroX (3) | 0.143124 |
GradientBasedCorrMaskZeroX (4) | 0.740358 |
GradientBasedCorrMaskZeroX | 0.423493 |
GradientBasedCorrMaskZeroY (1) | 0.624552 |
GradientBasedCorrMaskZeroY (2) | 0.434158 |
GradientBasedCorrMaskZeroY (3) | 0.282866 |
GradientBasedCorrMaskZeroY (4) | 0.646114 |
GradientBasedCorrMaskZeroY | 0.429334 |
GradientBasedCorrMoire (3) | -0.007578 |
GradientBasedCorrMoire | 0.000000 |
GradientBasedCorrSaturation (7) | 0.144796 |
GradientBasedCorrSaturation | 0.000000 |
GradientBasedCorrShadows2012 (1) | 0.000000 |
GradientBasedCorrShadows2012 (2) | 0.246711 |
GradientBasedCorrShadows2012 (3) | -0.595219 |
GradientBasedCorrShadows2012 | 0.280545 |
GradientBasedCorrSharpness | 0.000000 |
GradientBasedCorrTemperature | 0.000000 |
GradientBasedCorrTint | 0.000000 |
GradientBasedCorrWhat | Correction |
GrainAmount | 0 |
GrayMixerAqua | -20 |
GrayMixerBlue | +5 |
GrayMixerGreen | -23 |
GrayMixerMagenta | +7 |
GrayMixerOrange | -13 |
GrayMixerPurple | +14 |
GrayMixerRed | -4 |
GrayMixerYellow | -17 |
GreenHue | 0 |
GreenSaturation | 0 |
HasCrop | True |
HasSettings | True |
Highlights2012 | -99 |
HyperfocalDistance | 3.22 m |
ICCProfileName | Adobe RGB (1998) |
ImageHeight | 1048 |
ImageNumber | 0 |
ImageSize | 1572x1048 |
ImageWidth | 1572 |
ISO | 800 |
Keywords | Castro District, China Town, Fishermans Wharf, Golden Gate, Height Ashbury, Little Italy, Media Netwerk, San Francisco, Skyeline, USA |
Lens | EF24-70mm f/2.8L USM |
LensID (1) | 230 |
LensID | Canon EF 24-70mm f/2.8L USM |
LensInfo | 24-70mm f/? |
LensManualDistortionAmount | 0 |
LensModel | EF24-70mm f/2.8L USM |
LensProfileChromaticAberrationScale | 100 |
LensProfileDistortionScale | 100 |
LensProfileEnable | 1 |
LensProfileFilename | Canon EOS-1Ds Mark III (Canon EF 24-70mm f2.8 L USM) - RAW.lcp |
LensProfileName | Adobe (Canon EF 24-70mm f/2.8 L USM) |
LensProfileSetup | LensDefaults |
LensProfileVignettingScale | 100 |
LightValue | -0.3 |
LuminanceNoiseReductionContrast | 0 |
LuminanceNoiseReductionDetail | 50 |
LuminanceSmoothing | 37 |
Make | Canon |
Marked | True |
MaxApertureValue | 2.8 |
Megapixels | 1.6 |
MeteringMode | Multi-segment |
Model | Canon EOS 5D Mark II |
ModifyDate (1) | 2012:07:19 12:47:29+02:00 |
ModifyDate | 2012:07:19 12:47:29 |
ObjectName | Photographer |
Orientation | Horizontal (normal) |
ParametricDarks | 0 |
ParametricHighlights | +27 |
ParametricHighlightSplit | 75 |
ParametricLights | 0 |
ParametricMidtoneSplit | 50 |
ParametricShadows | -27 |
ParametricShadowSplit | 25 |
PerspectiveHorizontal | 0 |
PerspectiveRotate | 0.0 |
PerspectiveScale | 100 |
PerspectiveVertical | 0 |
PostCropVignetteAmount | 0 |
ProcessVersion | 6.7 |
ProfileDescription | Adobe RGB (1998) |
Rating | 3 |
RedHue | 0 |
RedSaturation | 0 |
Rights | Kurt Gaasø |
ScaleFactor35efl | 1.0 |
SceneCaptureType | Standard |
SerialNumber | 630311499 |
Shadows2012 | +14 |
ShadowTint | 0 |
SharpenDetail | 25 |
SharpenEdgeMasking | 88 |
SharpenRadius | +1.0 |
Sharpness | 54 |
ShutterSpeed | 6 |
ShutterSpeedValue | 6 |
Software | Adobe Photoshop CS5.1 Macintosh |
SplitToningBalance | 0 |
SplitToningHighlightHue | 0 |
SplitToningHighlightSaturation | 0 |
SplitToningShadowHue | 0 |
SplitToningShadowSaturation | 0 |
Subject | Castro District, China Town, Fishermans Wharf, Golden Gate, Height Ashbury, Little Italy, Media Netwerk, San Francisco, Skyeline, USA |
SubjectDistance | 17.8 m |
Tint | +24 |
Title | Photographer |
ToneCurveName2012 | Linear |
ToneCurvePV2012 | 0, 0, 255, 255 |
ToneCurvePV2012Blue | 0, 0, 255, 255 |
ToneCurvePV2012Green | 0, 0, 255, 255 |
ToneCurvePV2012Red | 0, 0, 255, 255 |
URL | www.kwork.no |
URL_List | |
UsageTerms | only use by author, copyrighted |
Version | 7.1 |
VignetteAmount | 0 |
WebStatement | www.kwork.no |
WhiteBalance (1) | Custom |
WhiteBalance | Auto |
Whites2012 | -100 |