Felt | Verdi |
AlreadyApplied | True |
Aperture | 8.0 |
ApertureValue | 8.0 |
Artist | Steffen Myhre |
AuthorsPosition | Fotograf |
BitsPerSample (1) | 8 8 8 |
BitsPerSample | 8 |
BlackClip | 0.074850 |
BlueHue | 0 |
BlueSaturation | 0 |
Brightness | +43 |
By-line | Steffen Myhre |
By-lineTitle | Fotograf |
CameraProfile | Adobe Standard |
ChromaticAberrationB | 0 |
ChromaticAberrationR | 0 |
CircleOfConfusion | 0.019 mm |
Clarity | 0 |
ColorComponents | 3 |
ColorNoiseReduction | 25 |
ColorNoiseReductionDetail | 50 |
ColorSaturation | 68.0 |
ColorSpace | Uncalibrated |
ColorTemperature (1) | -1.0 |
ColorTemperature | 4850 |
Contrast | +48 |
ConvertToGrayscale | False |
Copyright | Immage are Copyright © 2012 Steffen Myhre All Right Reserved. Reproduction in whole or part in any form or medium without specific written permission is prohibited by law. |
CopyrightFlag | True |
CopyrightNotice | Immage are Copyright © 2012 Steffen Myhre All Right Reserved. Reproduction in whole or part in any form or medium without speci |
CreateDate | 2010:02:18 04:53:15 |
Creator | Steffen Myhre |
CreatorAddress | PB 5910 leangen |
CreatorCity | Trondheim |
CreatorCountry | Norway |
CreatorPostalCode | 7445 |
CreatorRegion | Trøndelag |
CreatorTool | Adobe Photoshop CS5 Windows |
CreatorWorkEmail | Steffen-myhre@tilfeldigfoto.com |
CreatorWorkTelephone | 0047 407 47 724 |
CreatorWorkURL | www.Tilfeldigfoto.com |
CustomRendered | Normal |
DateCreated (1) | 2012:08:02 |
DateCreated | 2012:08:02 11:58:16 |
DateTimeOriginal | 2012:06:08 19:19:09 |
Defringe | 0 |
ExifImageHeight | 1200 |
ExifImageWidth | 800 |
Exposure | 0.00 |
ExposureCompensation | 0 |
ExposureMode | Auto |
ExposureProgram | Aperture-priority AE |
ExposureTime | 1/160 |
FillLight | 0 |
Firmware | 1.1.1 |
Flash | Off, Did not fire |
FlashCompensation | 0 |
FNumber | 8.0 |
FocalLength | 10.0 mm |
FocalLength35efl | 10.0 mm (35 mm equivalent: 16.2 mm) |
Format | image/jpeg |
FOV | 96.1 deg |
Gamma | 1.0 |
GrainAmount | 0 |
GreenHue | 0 |
GreenSaturation | 0 |
HasCrop | False |
HasSettings | True |
HighlightRecovery | 6 |
HighlightsSmoothing | 0.0 |
HueAdjustmentAqua | 0 |
HueAdjustmentBlue | 0 |
HueAdjustmentGreen | 0 |
HueAdjustmentMagenta | 0 |
HueAdjustmentOrange | 0 |
HueAdjustmentPurple | 0 |
HueAdjustmentRed | 0 |
HueAdjustmentYellow | 0 |
HyperfocalDistance | 0.67 m |
ImageHeight (1) | 3888 |
ImageHeight | 1200 |
ImageNumber | 224 |
ImageSize | 800x1200 |
ImageWidth (1) | 2592 |
ImageWidth | 800 |
ISO | 100 |
Label | Done |
Lens | 10.0-24.0 mm |
LensID (1) | 137 |
LensID | Sigma 10-20mm f/3.5 EX DC HSM |
LensInfo | 10-24mm f/? |
LightValue | 13.3 |
LuminanceAdjustmentAqua | 0 |
LuminanceAdjustmentBlue | 0 |
LuminanceAdjustmentGreen | 0 |
LuminanceAdjustmentMagenta | 0 |
LuminanceAdjustmentOrange | 0 |
LuminanceAdjustmentPurple | 0 |
LuminanceAdjustmentRed | 0 |
LuminanceAdjustmentYellow | 0 |
LuminanceSmoothing | 0 |
Luminosity | 1.2 |
Make | Canon |
Marked | True |
MaxApertureValue | 3.5 |
Megapixels | 0.960 |
MeteringMode | Multi-segment |
Method | Details Enhancer |
Microcontrast | 10.0 |
Microsmoothing | 13.4 |
Model | Canon EOS 400D DIGITAL |
ModifyDate (1) | 2013:01:01 05:35:39+01:00 |
ModifyDate | 2013:01:01 05:35:39 |
ObjectName | 2012 |
Orientation | Horizontal (normal) |
OwnerName | unknown |
ParametricDarks | 0 |
ParametricHighlights | 0 |
ParametricHighlightSplit | 75 |
ParametricLights | 0 |
ParametricMidtoneSplit | 50 |
ParametricShadows | 0 |
ParametricShadowSplit | 25 |
PhotometricInterpretation | RGB |
PostCropVignetteAmount | 0 |
ProcessVersion | 5.7 |
ProfileDescription | Adobe RGB (1998) |
Rating | 4 |
RawFileName | IMG_2830.CR2 |
RedHue | 0 |
RedSaturation | 0 |
Rights can be purchased by contacting Tilfeldigfoto.com |
Rights | Immage are Copyright © 2012 Steffen Myhre All Right Reserved. Reproduction in whole or part in any form or medium without specific written permission is prohibited by law. |
Saturation | 0 |
SaturationAdjustmentAqua | 0 |
SaturationAdjustmentBlue | 0 |
SaturationAdjustmentGreen | 0 |
SaturationAdjustmentMagenta | 0 |
SaturationAdjustmentOrange | 0 |
SaturationAdjustmentPurple | 0 |
SaturationAdjustmentRed | 0 |
SaturationAdjustmentYellow | 0 |
SaturationHighlights | 0.0 |
SaturationShadows | -3.7 |
ScaleFactor35efl | 1.6 |
SceneCaptureType | Standard |
SerialNumber | 1881120281 |
Shadows | 3 |
ShadowsClipping | 20.0 |
ShadowsSmoothing | 0.0 |
ShadowTint | 0 |
SharpenDetail | 25 |
SharpenEdgeMasking | 0 |
SharpenRadius | +1.0 |
Sharpness | 25 |
ShutterSpeed | 1/160 |
ShutterSpeedValue | 1/160 |
Smoothing | Very High |
Software | Adobe Photoshop CS5 Windows |
SplitToningBalance | 0 |
SplitToningHighlightHue | 0 |
SplitToningHighlightSaturation | 0 |
SplitToningShadowHue | 0 |
SplitToningShadowSaturation | 0 |
Strength | 100.0 |
Tint | +15 |
Title | 2012 |
ToneCurve | 0, 0, 32, 22, 64, 56, 128, 128, 192, 196, 255, 255 |
ToneCurveName | Medium Contrast |
URL | http://www.lovdata.no/all/hl-19610512-002.html |
URL_List | |
UsageTerms | All rights reserved.
Version (1) | 3.2 |
Version | 6.0 |
Vibrance | +20 |
VignetteAmount | 0 |
WebStatement | http://www.lovdata.no/all/hl-19610512-002.html |
WhiteBalance (1) | As Shot |
WhiteBalance | Auto |
WhiteClip | 0.223800 |