Felt | Verdi |
AlreadyApplied | True |
Aperture | 2.4 |
ApertureValue | 2.4 |
AutoLateralCA | 0 |
BitsPerSample | 8 |
Blacks2012 | +1 |
BlueHue | 0 |
BlueSaturation | 0 |
BrightnessValue | 10.24148004 |
CameraProfile | Embedded |
CircleOfConfusion | 0.004 mm |
Clarity2012 | 0 |
ColorComponents | 3 |
ColorMode | RGB |
ColorNoiseReduction | 0 |
ColorSpace | Uncalibrated |
Contrast2012 | +11 |
ConvertToGrayscale | False |
CreateDate | 2013:04:21 10:48:27 |
CreatorTool | 6.1.3 |
DateCreated (1) | 2013:04:21 |
DateCreated | 2013:04:21 10:48:27 |
DateTimeOriginal | 2013:04:21 10:48:27 |
DefringeGreenAmount | 0 |
DefringeGreenHueHi | 60 |
DefringeGreenHueLo | 40 |
DefringePurpleAmount | 0 |
DefringePurpleHueHi | 70 |
DefringePurpleHueLo | 30 |
ExifImageHeight | 1970 |
ExifImageWidth | 7200 |
Exposure2012 | -0.45 |
ExposureMode | Auto |
ExposureProgram | Program AE |
ExposureTime | 1/1800 |
Flash | On, Fired |
FNumber | 2.4 |
FocalLength | 4.3 mm |
FocalLength35efl | 4.3 mm (35 mm equivalent: 35.0 mm) |
FocalLengthIn35mmFormat | 35 mm |
Format | image/jpeg |
FOV | 54.4 deg |
GPSAltitude (1) | 30 m |
GPSAltitude | 30 m Above Sea Level |
GPSAltitudeRef | Above Sea Level |
GPSDateStamp | 0000:00:00 |
GPSDateTime | 0000:00:00 08:48:27.43Z |
GPSImgDirection | 42.60135135 |
GPSImgDirectionRef | Magnetic North |
GPSLatitude (1) | 58 deg 27' 12.60" |
GPSLatitude | 58 deg 27' 12.60" N |
GPSLatitudeRef | North |
GPSLongitude (1) | 8 deg 45' 49.80" |
GPSLongitude | 8 deg 45' 49.80" E |
GPSLongitudeRef | East |
GPSPosition | 58 deg 27' 12.60" N, 8 deg 45' 49.80" E |
GPSTimeStamp | 08:48:27.43 |
GrainAmount | 0 |
GreenHue | 0 |
GreenSaturation | 0 |
HasCrop | False |
HasSettings | True |
Highlights2012 | -18 |
HueAdjustmentAqua | 0 |
HueAdjustmentBlue | 0 |
HueAdjustmentGreen | 0 |
HueAdjustmentMagenta | 0 |
HueAdjustmentOrange | 0 |
HueAdjustmentPurple | 0 |
HueAdjustmentRed | 0 |
HueAdjustmentYellow | 0 |
HyperfocalDistance | 2.08 m |
ICCProfileName | Adobe RGB (1998) |
ImageHeight | 591 |
ImageSize | 2160x591 |
ImageWidth | 2160 |
IncrementalTemperature | 0 |
IncrementalTint | 0 |
ISO | 50 |
LensManualDistortionAmount | 0 |
LensProfileEnable | 0 |
LensProfileSetup | LensDefaults |
LightValue | 14.3 |
LuminanceAdjustmentAqua | 0 |
LuminanceAdjustmentBlue | 0 |
LuminanceAdjustmentGreen | 0 |
LuminanceAdjustmentMagenta | 0 |
LuminanceAdjustmentOrange | 0 |
LuminanceAdjustmentPurple | 0 |
LuminanceAdjustmentRed | 0 |
LuminanceAdjustmentYellow | 0 |
LuminanceSmoothing | 0 |
Make | Apple |
Megapixels | 1.3 |
MeteringMode | Multi-segment |
Model | iPhone 4S |
ModifyDate (1) | 2013:04:21 19:55:32+02:00 |
ModifyDate | 2013:04:21 19:55:32 |
Orientation | Horizontal (normal) |
PaintCorrectionActive | true |
PaintCorrectionAmount | 1.000000 |
PaintCorrectionBrightness | 0.000000 |
PaintCorrectionClarity | 0.000000 |
PaintCorrectionClarity2012 | -0.220000 |
PaintCorrectionContrast | 0.000000 |
PaintCorrectionContrast2012 | 0.270000 |
PaintCorrectionDefringe | -0.920000 |
PaintCorrectionExposure | 0.000000 |
PaintCorrectionExposure2012 | 0.112500 |
PaintCorrectionHighlights2012 | 0.100000 |
PaintCorrectionHue | 0.000000 |
PaintCorrectionLuminanceNoise | -0.940000 |
PaintCorrectionMaskCenterWeight | 0.000000 |
PaintCorrectionMaskFlow | 0.888889 |
PaintCorrectionMaskRadius (1) | 0.095831 |
PaintCorrectionMaskRadius | 0.062350 |
PaintCorrectionMaskValue | 1.000000 |
PaintCorrectionMaskWhat | Mask/Paint |
PaintCorrectionMoire | -0.840000 |
PaintCorrectionSaturation (1) | -0.340000 |
PaintCorrectionSaturation | 0.000000 |
PaintCorrectionShadows2012 | -0.020000 |
PaintCorrectionSharpness | 0.020000 |
PaintCorrectionTemperature | 0.000000 |
PaintCorrectionTint | 0.000000 |
PaintCorrectionWhat | Correction |
ParametricDarks | 0 |
ParametricHighlights | 0 |
ParametricHighlightSplit | 75 |
ParametricLights | 0 |
ParametricMidtoneSplit | 50 |
ParametricShadows | 0 |
ParametricShadowSplit | 25 |
PerspectiveHorizontal | 0 |
PerspectiveRotate | 0.0 |
PerspectiveScale | 100 |
PerspectiveVertical | 0 |
PhotographicSensitivity | 50 |
PostCropVignetteAmount | 0 |
ProcessVersion | 6.7 |
ProfileDescription | Adobe RGB (1998) |
Rating | 0 |
RawFileName | Untitled_Panorama1.jpg |
RedHue | 0 |
RedSaturation | 0 |
Saturation | 0 |
SaturationAdjustmentAqua | 0 |
SaturationAdjustmentBlue | 0 |
SaturationAdjustmentGreen | 0 |
SaturationAdjustmentMagenta | 0 |
SaturationAdjustmentOrange | 0 |
SaturationAdjustmentPurple | 0 |
SaturationAdjustmentRed | 0 |
SaturationAdjustmentYellow | 0 |
ScaleFactor35efl | 8.2 |
SceneCaptureType | Standard |
SensingMethod | One-chip color area |
Shadows2012 | +47 |
ShadowTint | 0 |
SharpenDetail | 25 |
SharpenEdgeMasking | 0 |
SharpenRadius | +1.0 |
Sharpness | 0 |
ShutterSpeed | 1/1800 |
ShutterSpeedValue | 1/1800 |
Software | Adobe Photoshop CS6 (Windows) |
SplitToningBalance | 0 |
SplitToningHighlightHue | 0 |
SplitToningHighlightSaturation | 0 |
SplitToningShadowHue | 0 |
SplitToningShadowSaturation | 0 |
SubjectArea | 1631 1223 881 881 |
ToneCurveName2012 | Linear |
ToneCurvePV2012 | 0, 0, 255, 255 |
ToneCurvePV2012Blue | 0, 0, 255, 255 |
ToneCurvePV2012Green | 0, 0, 255, 255 |
ToneCurvePV2012Red | 0, 0, 255, 255 |
Transformation | Cylindrical |
URL_List | |
Version | 7.4 |
Vibrance | 0 |
VignetteAmount | 0 |
VirtualFocalLength | 0.388197 |
VirtualImageXCenter | 0.565666 |
VirtualImageYCenter | 0.162307 |
WhiteBalance (1) | As Shot |
WhiteBalance | Auto |
Whites2012 | +12 |